BEGIN:VCALENDAR
VERSION:2.0
PRODID:-//ACANTILADO - ECPv6.15.18//NONSGML v1.0//EN
CALSCALE:GREGORIAN
METHOD:PUBLISH
X-ORIGINAL-URL:https://www.acantilado.es
X-WR-CALDESC:Eventos para ACANTILADO
REFRESH-INTERVAL;VALUE=DURATION:PT1H
X-Robots-Tag:noindex
X-PUBLISHED-TTL:PT1H
BEGIN:VTIMEZONE
TZID:Europe/Madrid
BEGIN:DAYLIGHT
TZOFFSETFROM:+0100
TZOFFSETTO:+0200
TZNAME:CEST
DTSTART:20230326T010000
END:DAYLIGHT
BEGIN:STANDARD
TZOFFSETFROM:+0200
TZOFFSETTO:+0100
TZNAME:CET
DTSTART:20231029T010000
END:STANDARD
BEGIN:DAYLIGHT
TZOFFSETFROM:+0100
TZOFFSETTO:+0200
TZNAME:CEST
DTSTART:20240331T010000
END:DAYLIGHT
BEGIN:STANDARD
TZOFFSETFROM:+0200
TZOFFSETTO:+0100
TZNAME:CET
DTSTART:20241027T010000
END:STANDARD
BEGIN:DAYLIGHT
TZOFFSETFROM:+0100
TZOFFSETTO:+0200
TZNAME:CEST
DTSTART:20250330T010000
END:DAYLIGHT
BEGIN:STANDARD
TZOFFSETFROM:+0200
TZOFFSETTO:+0100
TZNAME:CET
DTSTART:20251026T010000
END:STANDARD
END:VTIMEZONE
BEGIN:VEVENT
DTSTART;TZID=Europe/Madrid:20241019T203000
DTEND;TZID=Europe/Madrid:20241019T213000
DTSTAMP:20260419T160358
CREATED:20241001T094024Z
LAST-MODIFIED:20241001T094024Z
UID:10001277-1729369800-1729373400@www.acantilado.es
SUMMARY:Encuentro con Reiner Stach en Bilbao
DESCRIPTION:El sábado 19 de octubre a las 20:30 h\, el escritor Reiner Stach conversará con Berta Vias Mahou en el Ja! Festival. La entrevista contará con traducción simultánea y habrá una firma de libros al finalizar el acto. La entrada al evento es libre hasta completar aforo. \n \nReiner Stach (Rochlitz\, Sajonia\, 1951) estudió Matemáticas\, Filosofía y Literatura. Ha sido editor de ciencia y de no ficción en diversas editoriales alemanas. Tras dedicar años a la edición definitiva de las obras completas de Kafka en Alemania\, consagró más de una década a la escritura de las tres entregas de su monumental biografía del escritor: Los primeros años (1883-1910)\, Los años de las decisiones (1910-1916) y Los años del conocimiento (1916-1924)\, que Acantilado publicó en dos volúmenes en 2016. En esta editorial también ha aparecido ¿Éste es Kafka? 99 hallazgos.
URL:https://www.acantilado.es/evento/encuentro-con-reiner-stach-en-bilbao/
LOCATION:UPV/EHU\, Abandoibarra Etorbidea\, Bilbo\, Bizkaia\, 48009\, Spain
CATEGORIES:Encuentro
GEO:43.2685653;-2.9378378
X-APPLE-STRUCTURED-LOCATION;VALUE=URI;X-ADDRESS=UPV/EHU Abandoibarra Etorbidea Bilbo Bizkaia 48009 Spain;X-APPLE-RADIUS=500;X-TITLE=Abandoibarra Etorbidea:geo:-2.9378378,43.2685653
END:VEVENT
END:VCALENDAR