BEGIN:VCALENDAR
VERSION:2.0
PRODID:-//ACANTILADO - ECPv6.15.18//NONSGML v1.0//EN
CALSCALE:GREGORIAN
METHOD:PUBLISH
X-WR-CALNAME:ACANTILADO
X-ORIGINAL-URL:https://www.acantilado.es
X-WR-CALDESC:Eventos para ACANTILADO
REFRESH-INTERVAL;VALUE=DURATION:PT1H
X-Robots-Tag:noindex
X-PUBLISHED-TTL:PT1H
BEGIN:VTIMEZONE
TZID:Europe/Madrid
BEGIN:DAYLIGHT
TZOFFSETFROM:+0100
TZOFFSETTO:+0200
TZNAME:CEST
DTSTART:20220327T010000
END:DAYLIGHT
BEGIN:STANDARD
TZOFFSETFROM:+0200
TZOFFSETTO:+0100
TZNAME:CET
DTSTART:20221030T010000
END:STANDARD
BEGIN:DAYLIGHT
TZOFFSETFROM:+0100
TZOFFSETTO:+0200
TZNAME:CEST
DTSTART:20230326T010000
END:DAYLIGHT
BEGIN:STANDARD
TZOFFSETFROM:+0200
TZOFFSETTO:+0100
TZNAME:CET
DTSTART:20231029T010000
END:STANDARD
BEGIN:DAYLIGHT
TZOFFSETFROM:+0100
TZOFFSETTO:+0200
TZNAME:CEST
DTSTART:20240331T010000
END:DAYLIGHT
BEGIN:STANDARD
TZOFFSETFROM:+0200
TZOFFSETTO:+0100
TZNAME:CET
DTSTART:20241027T010000
END:STANDARD
END:VTIMEZONE
BEGIN:VEVENT
DTSTART;TZID=Europe/Madrid:20230118T180000
DTEND;TZID=Europe/Madrid:20230118T190000
DTSTAMP:20260420T150430
CREATED:20230111T152710Z
LAST-MODIFIED:20230111T152710Z
UID:10001029-1674064800-1674068400@www.acantilado.es
SUMMARY:Conferencia de Nuccio Ordine en Murcia
DESCRIPTION:El miércoles 18 de enero Nuccio Ordine\, autor de La utilidad de lo inútil\, Clásicos para la vida y Los hombres no son islas\, impartirá una conferencia en el Campus de la Merced de la Universidad de Murcia a las 18 h. \nNuccio Ordine (Diamante\, 1958) es profesor de Literatura italiana en la Universidad de Calabria y autor de diversos libros\, varios de ellos sobre Giordano Bruno. Ha sido profesor visitante de centros como Yale\, Paris IV-Sorbonne\, CESR de Tours\, IEA de París\, el Warburg Institute o la Sociedad Max Planck de Berlín. Es también miembro del Harvard University Center for Italian Renaissance Studies y de la Fundación Alexander von Humboldt\, así como miembro de honor del Instituto de Filosofía de la Academia Rusa de Ciencias y caballero de la Legión de Honor francesa en 2002.
URL:https://www.acantilado.es/evento/conferencia-de-nuccio-ordine-en-murcia/
LOCATION:Universidad de Murcia\, C. Santo Cristo\, 1\, Murcia\, Murcia\, 30001
CATEGORIES:Conferencias
GEO:37.9874619;-1.127333
X-APPLE-STRUCTURED-LOCATION;VALUE=URI;X-ADDRESS=Universidad de Murcia C. Santo Cristo 1 Murcia Murcia 30001;X-APPLE-RADIUS=500;X-TITLE=C. Santo Cristo\, 1:geo:-1.127333,37.9874619
END:VEVENT
END:VCALENDAR