BEGIN:VCALENDAR
VERSION:2.0
PRODID:-//ACANTILADO - ECPv6.15.18//NONSGML v1.0//EN
CALSCALE:GREGORIAN
METHOD:PUBLISH
X-WR-CALNAME:ACANTILADO
X-ORIGINAL-URL:https://www.acantilado.es
X-WR-CALDESC:Eventos para ACANTILADO
REFRESH-INTERVAL;VALUE=DURATION:PT1H
X-Robots-Tag:noindex
X-PUBLISHED-TTL:PT1H
BEGIN:VTIMEZONE
TZID:Europe/Madrid
BEGIN:DAYLIGHT
TZOFFSETFROM:+0100
TZOFFSETTO:+0200
TZNAME:CEST
DTSTART:20210328T010000
END:DAYLIGHT
BEGIN:STANDARD
TZOFFSETFROM:+0200
TZOFFSETTO:+0100
TZNAME:CET
DTSTART:20211031T010000
END:STANDARD
BEGIN:DAYLIGHT
TZOFFSETFROM:+0100
TZOFFSETTO:+0200
TZNAME:CEST
DTSTART:20220327T010000
END:DAYLIGHT
BEGIN:STANDARD
TZOFFSETFROM:+0200
TZOFFSETTO:+0100
TZNAME:CET
DTSTART:20221030T010000
END:STANDARD
BEGIN:DAYLIGHT
TZOFFSETFROM:+0100
TZOFFSETTO:+0200
TZNAME:CEST
DTSTART:20230326T010000
END:DAYLIGHT
BEGIN:STANDARD
TZOFFSETFROM:+0200
TZOFFSETTO:+0100
TZNAME:CET
DTSTART:20231029T010000
END:STANDARD
END:VTIMEZONE
BEGIN:VEVENT
DTSTART;TZID=Europe/Madrid:20220331T180000
DTEND;TZID=Europe/Madrid:20220331T190000
DTSTAMP:20260419T233216
CREATED:20220328T142515Z
LAST-MODIFIED:20220328T142515Z
UID:10000951-1648749600-1648753200@www.acantilado.es
SUMMARY:Conferencia «Mujer y mundo griego: Lecturas y reflexiones contra tópicos» de Pedro Olalla en Córdoba
DESCRIPTION:El próximo jueves 31 de marzo el escritor Pedro Olalla impartirá la conferencia Mujer y mundo griego: Lecturas y reflexiones contra tópicos\, en la Sala Mudéjar del Rectorado de la Universidad de Córdoba a las 18 h. \nPedro Olalla (Asturias\, 1966) es escritor\, helenista\, profesor\, traductor y cineasta\, afincado en Atenas desde 1994. Su obra literaria y audiovisual explora y da a conocer la cultura griega y humanista combinando elementos literarios\, plásticos y científicos mediante un lenguaje marcadamente personal. Por el conjunto de su obra y por su labor en la promoción de la cultura griega ha recibido\, entre otros importantes reconocimientos\, los títulos de Embajador del Helenismo (Estado griego)\, Caballero de la Orden del Mérito Civil (Estado español) y Miembro Asociado del Centro de Estudios Helénicos de la Universidad de Harvard. En Acantilado ha publicado los ensayos Historia menor de Grecia (2012)\, Grecia en el aire (2015)\, De senectute politica (2018) y Palabras del Egeo (2022)\, la edición conmemorativa Cervantes y Grecia (2016) y la traducción de Lirio y serpiente (2013)\, de Nikos Kazantzakis.
URL:https://www.acantilado.es/evento/conferencia-mujer-y-mundo-griego-lecturas-y-reflexiones-contra-topicos-de-pedro-olalla-en-cordoba/
LOCATION:Universidad de Córdoba\, C/ Medina Azahara\, 5\, Córdoba\, 14003
CATEGORIES:Conferencias
GEO:37.8823856;-4.7757643
X-APPLE-STRUCTURED-LOCATION;VALUE=URI;X-ADDRESS=Universidad de Córdoba C/ Medina Azahara 5 Córdoba 14003;X-APPLE-RADIUS=500;X-TITLE=C/ Medina Azahara\, 5:geo:-4.7757643,37.8823856
END:VEVENT
END:VCALENDAR