BEGIN:VCALENDAR
VERSION:2.0
PRODID:-//ACANTILADO - ECPv6.15.18//NONSGML v1.0//EN
CALSCALE:GREGORIAN
METHOD:PUBLISH
X-WR-CALNAME:ACANTILADO
X-ORIGINAL-URL:https://www.acantilado.es
X-WR-CALDESC:Eventos para ACANTILADO
REFRESH-INTERVAL;VALUE=DURATION:PT1H
X-Robots-Tag:noindex
X-PUBLISHED-TTL:PT1H
BEGIN:VTIMEZONE
TZID:Europe/Madrid
BEGIN:DAYLIGHT
TZOFFSETFROM:+0100
TZOFFSETTO:+0200
TZNAME:CEST
DTSTART:20210328T010000
END:DAYLIGHT
BEGIN:STANDARD
TZOFFSETFROM:+0200
TZOFFSETTO:+0100
TZNAME:CET
DTSTART:20211031T010000
END:STANDARD
BEGIN:DAYLIGHT
TZOFFSETFROM:+0100
TZOFFSETTO:+0200
TZNAME:CEST
DTSTART:20220327T010000
END:DAYLIGHT
BEGIN:STANDARD
TZOFFSETFROM:+0200
TZOFFSETTO:+0100
TZNAME:CET
DTSTART:20221030T010000
END:STANDARD
BEGIN:DAYLIGHT
TZOFFSETFROM:+0100
TZOFFSETTO:+0200
TZNAME:CEST
DTSTART:20230326T010000
END:DAYLIGHT
BEGIN:STANDARD
TZOFFSETFROM:+0200
TZOFFSETTO:+0100
TZNAME:CET
DTSTART:20231029T010000
END:STANDARD
BEGIN:DAYLIGHT
TZOFFSETFROM:+0100
TZOFFSETTO:+0200
TZNAME:CEST
DTSTART:20240331T010000
END:DAYLIGHT
BEGIN:STANDARD
TZOFFSETFROM:+0200
TZOFFSETTO:+0100
TZNAME:CET
DTSTART:20241027T010000
END:STANDARD
END:VTIMEZONE
BEGIN:VEVENT
DTSTART;TZID=Europe/Madrid:20230210T120000
DTEND;TZID=Europe/Madrid:20230210T130000
DTSTAMP:20260421T122047
CREATED:20230207T102806Z
LAST-MODIFIED:20230207T102806Z
UID:10001033-1676030400-1676034000@www.acantilado.es
SUMMARY:Conferencia de Mauricio Wiesenthal en Madrid
DESCRIPTION:El escritor Mauricio Wiesenthal dará una conferencia titulada «Cultura europea y liderazgo cívico» el viernes 10 de febrero a las 12 h en el Aula Polivalente 1 de la Facultad de Derecho de Universidad Complutense de Madrid. \nMauricio Wiesenthal (Barcelona\, 1943)\, además de escritor\, ha sido profesor de Historia de la Cultura y conferenciante invitado en varias universidades. Entre sus obras destacan los ensayos La belle époque del Orient Express (1979) e Imagen de España (1984) y la novela El testamento de Nobel (1985). Su pensamiento y su estilo literario son herederos del gran legado cultural europeo\, tradición en la que se inscribe su «Trilogía europea» (Libro de Réquiems\, 2004; El esnobismo de las golondrinas\, 2007; y Luz de vísperas\, 2008). En esta editorial han aparecido Siguiendo mi camino (2013)\, Rainer Maria Rilke (2015)\, La hispanibundia (2018) y Orient-Express (2020).
URL:https://www.acantilado.es/evento/conferencia-de-mauricio-wiesenthal-en-madrid/
LOCATION:Universidad Complutense de Madrid\, Av. Séneca\, 2\, Madrid\, Madrid\, 28040
CATEGORIES:Conferencias
GEO:40.4477854;-3.7285692
X-APPLE-STRUCTURED-LOCATION;VALUE=URI;X-ADDRESS=Universidad Complutense de Madrid Av. Séneca 2 Madrid Madrid 28040;X-APPLE-RADIUS=500;X-TITLE=Av. Séneca\, 2:geo:-3.7285692,40.4477854
END:VEVENT
BEGIN:VEVENT
DTSTART;TZID=Europe/Madrid:20221005T160000
DTEND;TZID=Europe/Madrid:20221005T170000
DTSTAMP:20260421T122047
CREATED:20221003T124205Z
LAST-MODIFIED:20221003T131513Z
UID:10000993-1664985600-1664989200@www.acantilado.es
SUMMARY:Conferencia de José María Micó sobre Dante en Madrid
DESCRIPTION:José María Micó\, Premio Ángel Crespo por su traducción de la Comedia\, dará una conferencia acerca de Dante en el Salón de actos de la Facultad de Ciencias de la Información de la Universidad Complutense de Madrid el miércoles 5 de octubre a las 16 h. \n José María Micó (Barcelona\, 1961) es poeta\, músico y traductor. Catedrático de literatura en la Universitat Pompeu Fabra\, de su obra filológica y ensayística destacan diversas ediciones de clásicos españoles\, antologías comentadas de poesía y varios libros\, entre ellos Clásicos vividos y Para entender a Góngora\, ambos en Acantilado. Ha traducido a grandes autores europeos antiguos como Ramon Llull\, Petrarca\, Jordi de Sant Jordi\, Ausiàs March y Ludovico Ariosto\, además de poetas contemporáneos catalanes e italianos. A lo largo de su trayectoria ha obtenido numerosos galardones\, entre los que se cuentan los premios Hiperión y Generación del 27\, así como el Premio Nacional de Traducción en España y en Italia y el Premio Ángel Crespo por su traducción de Comedia de Dante. Acantilado ha publicado un volumen que reúne toda su obra poética\, Primeras voluntades. En los últimos años ha iniciado una actividad musical\, y como parte del dúo Marta y Micó ha grabado los discos Memoria del aire y Sombras cotidianas.
URL:https://www.acantilado.es/evento/conferencia-de-jose-maria-mico-sobre-dante-en-madrid/
LOCATION:Universidad Complutense de Madrid\, Av. Séneca\, 2\, Madrid\, Madrid\, 28040
CATEGORIES:Conferencias
GEO:40.4477854;-3.7285692
X-APPLE-STRUCTURED-LOCATION;VALUE=URI;X-ADDRESS=Universidad Complutense de Madrid Av. Séneca 2 Madrid Madrid 28040;X-APPLE-RADIUS=500;X-TITLE=Av. Séneca\, 2:geo:-3.7285692,40.4477854
END:VEVENT
END:VCALENDAR