BEGIN:VCALENDAR
VERSION:2.0
PRODID:-//ACANTILADO - ECPv6.15.18//NONSGML v1.0//EN
CALSCALE:GREGORIAN
METHOD:PUBLISH
X-ORIGINAL-URL:https://www.acantilado.es
X-WR-CALDESC:Eventos para ACANTILADO
REFRESH-INTERVAL;VALUE=DURATION:PT1H
X-Robots-Tag:noindex
X-PUBLISHED-TTL:PT1H
BEGIN:VTIMEZONE
TZID:Europe/Madrid
BEGIN:DAYLIGHT
TZOFFSETFROM:+0100
TZOFFSETTO:+0200
TZNAME:CEST
DTSTART:20220327T010000
END:DAYLIGHT
BEGIN:STANDARD
TZOFFSETFROM:+0200
TZOFFSETTO:+0100
TZNAME:CET
DTSTART:20221030T010000
END:STANDARD
BEGIN:DAYLIGHT
TZOFFSETFROM:+0100
TZOFFSETTO:+0200
TZNAME:CEST
DTSTART:20230326T010000
END:DAYLIGHT
BEGIN:STANDARD
TZOFFSETFROM:+0200
TZOFFSETTO:+0100
TZNAME:CET
DTSTART:20231029T010000
END:STANDARD
BEGIN:DAYLIGHT
TZOFFSETFROM:+0100
TZOFFSETTO:+0200
TZNAME:CEST
DTSTART:20240331T010000
END:DAYLIGHT
BEGIN:STANDARD
TZOFFSETFROM:+0200
TZOFFSETTO:+0100
TZNAME:CET
DTSTART:20241027T010000
END:STANDARD
END:VTIMEZONE
BEGIN:VEVENT
DTSTART;TZID=Europe/Madrid:20230513T173000
DTEND;TZID=Europe/Madrid:20230513T183000
DTSTAMP:20260419T075657
CREATED:20230503T072600Z
LAST-MODIFIED:20230508T122520Z
UID:10001067-1683999000-1684002600@www.acantilado.es
SUMMARY:Conversación con Pablo Martín Sánchez en las jornadas TRANSVERSAL’23 de El Vendrell
DESCRIPTION:El escritor Pablo Martín Sánchez participará en una conversación titulada Escribir sobre el (im)posible con Ricard Ruiz Garzón\, moderada por Álvaro Colomer\, el próximo sábado 13 de mayo a las 17.30 h en las jornadas TRANSVERSAL’23 – VI Jornadas de Literatura Le Méridien Ra. \nEl acceso a las jornadas es gratuita pero por razones de aforo es necesaria la inscripción previa en www.transversal23.wordpress.com o escribiendo un correo a bracketcultura@gmail.com. \nActo organizado por el hotel Le Méridien Ra y la gestora cultural Bracket Cultura que cuenta con la colaboración de l’ACEC\, el Ayuntamiento del Vendrell y CEDRO. \nPablo Martín Sánchez (Reus\, 1977) es doctor en Lengua y Literatura Francesas por la Université de Lille y doctor en Teoría de la Literatura y del Arte y Literatura Comparada por la Universidad de Granada. Miembro del Ouvroir de Littérature Potentielle (Oulipo)\, trabaja habitualmente como traductor y profesor de escritura. Ha publicado el volumen de relatos Fricciones (2011)\, las novelas El anarquista que se llamaba como yo (Acantilado\, 2012)\, Tuyo es el mañana (Acantilado\, 2016)\, Agatha (2017)—un libro escrito en colaboración con Sara Mesa—y Diario de un viejo cabezota (Acantilado\, 2020). Parte de su obra ha sido traducida al francés\, inglés\, checo y neerlandés.
URL:https://www.acantilado.es/evento/conversacion-con-pablo-martin-sanchez-en-las-jornadas-transversal23-del-vendrell/
LOCATION:TRANSVERSAL’23\, Av. Sanatori\, 1\, Platja de Sant Salvador\, El Vendrell\, Tarragona
CATEGORIES:Coloquio / Diálogo,Festival
GEO:41.1818202;1.5344812
X-APPLE-STRUCTURED-LOCATION;VALUE=URI;X-ADDRESS=TRANSVERSAL’23 Av. Sanatori 1 Platja de Sant Salvador El Vendrell Tarragona;X-APPLE-RADIUS=500;X-TITLE=Av. Sanatori\, 1\, Platja de Sant Salvador:geo:1.5344812,41.1818202
END:VEVENT
BEGIN:VEVENT
DTSTART;TZID=Europe/Madrid:20230513T113000
DTEND;TZID=Europe/Madrid:20230513T123000
DTSTAMP:20260419T075657
CREATED:20230503T071431Z
LAST-MODIFIED:20230508T121303Z
UID:10001066-1683977400-1683981000@www.acantilado.es
SUMMARY:Conferencia de Isabel Soler y Manel Ollé en las jornadas TRANSVERSAL’23 de El Vendrell
DESCRIPTION:Los escritores Isabel Soler\, autora de Magallanes & Co.\, y Manel Ollé\, autor de Islas de plata\, imperios de seda\, darán una conferencia titulada De mares y océanos moderada por Marilena de Chiara el próximo sábado 13 de mayo a las 11.30 h en las jornadas TRANSVERSAL’23 – VI Jornadas de Literatura Le Méridien Ra. \nEl acceso a las jornadas es gratuita pero por razones de aforo es necesaria la inscripción previa en www.transversal23.wordpress.com o escribiendo un correo a bracketcultura@gmail.com. \nActo organizado por el hotel Le Méridien Ra y la gestora cultural Bracket Cultura que cuenta con la colaboración de l’ACEC\, el Ayuntamiento del Vendrell y CEDRO. \n 
URL:https://www.acantilado.es/evento/conferencia-de-isabel-soler-y-manel-olle-en-las-jornadas-transversal23-del-vendrell/
LOCATION:TRANSVERSAL’23\, Av. Sanatori\, 1\, Platja de Sant Salvador\, El Vendrell\, Tarragona
CATEGORIES:Conferencias,Festival
GEO:41.1818202;1.5344812
X-APPLE-STRUCTURED-LOCATION;VALUE=URI;X-ADDRESS=TRANSVERSAL’23 Av. Sanatori 1 Platja de Sant Salvador El Vendrell Tarragona;X-APPLE-RADIUS=500;X-TITLE=Av. Sanatori\, 1\, Platja de Sant Salvador:geo:1.5344812,41.1818202
END:VEVENT
END:VCALENDAR