BEGIN:VCALENDAR
VERSION:2.0
PRODID:-//ACANTILADO - ECPv6.15.18//NONSGML v1.0//EN
CALSCALE:GREGORIAN
METHOD:PUBLISH
X-ORIGINAL-URL:https://www.acantilado.es
X-WR-CALDESC:Eventos para ACANTILADO
REFRESH-INTERVAL;VALUE=DURATION:PT1H
X-Robots-Tag:noindex
X-PUBLISHED-TTL:PT1H
BEGIN:VTIMEZONE
TZID:Europe/Madrid
BEGIN:DAYLIGHT
TZOFFSETFROM:+0100
TZOFFSETTO:+0200
TZNAME:CEST
DTSTART:20210328T010000
END:DAYLIGHT
BEGIN:STANDARD
TZOFFSETFROM:+0200
TZOFFSETTO:+0100
TZNAME:CET
DTSTART:20211031T010000
END:STANDARD
BEGIN:DAYLIGHT
TZOFFSETFROM:+0100
TZOFFSETTO:+0200
TZNAME:CEST
DTSTART:20220327T010000
END:DAYLIGHT
BEGIN:STANDARD
TZOFFSETFROM:+0200
TZOFFSETTO:+0100
TZNAME:CET
DTSTART:20221030T010000
END:STANDARD
BEGIN:DAYLIGHT
TZOFFSETFROM:+0100
TZOFFSETTO:+0200
TZNAME:CEST
DTSTART:20230326T010000
END:DAYLIGHT
BEGIN:STANDARD
TZOFFSETFROM:+0200
TZOFFSETTO:+0100
TZNAME:CET
DTSTART:20231029T010000
END:STANDARD
END:VTIMEZONE
BEGIN:VEVENT
DTSTART;TZID=Europe/Madrid:20220407T193000
DTEND;TZID=Europe/Madrid:20220407T203000
DTSTAMP:20260419T233218
CREATED:20220328T143512Z
LAST-MODIFIED:20220401T123433Z
UID:10000952-1649359800-1649363400@www.acantilado.es
SUMMARY:Encuentro con Selma Ancira en Tenerife
DESCRIPTION:Tenerife Espacio de las Artes presenta el jueves 7 de abril\, a las 19:30 h\, el quinto acto del ciclo Encuentros en TEA con la presencia de la traductora Selma Ancira\, Premio Pushkin y Premio Nacional a la Obra de un Traductor. El acto se dividirá en tres partes: en la primera el escritor Bruno Mesa –coordinador de Encuentros en TEA– reflexionará sobre la traducción como medicina cultural contra la endogamia; en la segunda\, Selma Ancira leerá su ensayo El jardín exótico del traductor literario\, escrito para este acto; y la tercera parte será un breve diálogo entre los dos escritores. \nPara asistir a esta actividad\, que es gratuita\, se requiere de inscripción previa enviando un correo a actividades@teatenerife.es indicando nombre\, DNI y un número de teléfono de contacto. \nSelma Ancira ha traducido\, entre otros autores\, a Pushkin\, a Dostoievski\, a Bunin\, a Bulgákov\, a Tolstói y a Pasternak\, así como a Seferis\, a Ritsos\, a Kampanelis y a María Iordanidu. Fue ella quien descubrió al público hispanoparlante la obra de Marina Tsvietáieva de quien ha traducido casi la totalidad de su prosa.
URL:https://www.acantilado.es/evento/encuentro-con-selma-ancira-en-tenerife/
LOCATION:Tenerife Espacio de las Artes\, Av. de San Sebastián\, 8\, Santa Cruz de Tenerife\, 38003
CATEGORIES:Conferencias
GEO:28.4632621;-16.2501268
X-APPLE-STRUCTURED-LOCATION;VALUE=URI;X-ADDRESS=Tenerife Espacio de las Artes Av. de San Sebastián 8 Santa Cruz de Tenerife 38003;X-APPLE-RADIUS=500;X-TITLE=Av. de San Sebastián\, 8:geo:-16.2501268,28.4632621
END:VEVENT
END:VCALENDAR