BEGIN:VCALENDAR
VERSION:2.0
PRODID:-//ACANTILADO - ECPv6.15.18//NONSGML v1.0//EN
CALSCALE:GREGORIAN
METHOD:PUBLISH
X-WR-CALNAME:ACANTILADO
X-ORIGINAL-URL:https://www.acantilado.es
X-WR-CALDESC:Eventos para ACANTILADO
REFRESH-INTERVAL;VALUE=DURATION:PT1H
X-Robots-Tag:noindex
X-PUBLISHED-TTL:PT1H
BEGIN:VTIMEZONE
TZID:Europe/Madrid
BEGIN:DAYLIGHT
TZOFFSETFROM:+0100
TZOFFSETTO:+0200
TZNAME:CEST
DTSTART:20250330T010000
END:DAYLIGHT
BEGIN:STANDARD
TZOFFSETFROM:+0200
TZOFFSETTO:+0100
TZNAME:CET
DTSTART:20251026T010000
END:STANDARD
BEGIN:DAYLIGHT
TZOFFSETFROM:+0100
TZOFFSETTO:+0200
TZNAME:CEST
DTSTART:20260329T010000
END:DAYLIGHT
BEGIN:STANDARD
TZOFFSETFROM:+0200
TZOFFSETTO:+0100
TZNAME:CET
DTSTART:20261025T010000
END:STANDARD
BEGIN:DAYLIGHT
TZOFFSETFROM:+0100
TZOFFSETTO:+0200
TZNAME:CEST
DTSTART:20270328T010000
END:DAYLIGHT
BEGIN:STANDARD
TZOFFSETFROM:+0200
TZOFFSETTO:+0100
TZNAME:CET
DTSTART:20271031T010000
END:STANDARD
END:VTIMEZONE
BEGIN:VEVENT
DTSTART;TZID=Europe/Madrid:20260425T121500
DTEND;TZID=Europe/Madrid:20260425T130000
DTSTAMP:20260422T173802
CREATED:20260422T104950Z
LAST-MODIFIED:20260422T104950Z
UID:10001457-1777119300-1777122000@www.acantilado.es
SUMMARY:Presentación de «Querido Maestro»\, la correspondencia de Pau Casals\, en Castelló de la Plana
DESCRIPTION:El sábado 25 de abril a las 12:15 h tendrá lugar una presentación de «Querido Maestro»\, la correspondencia de Pau Casals\, en la Sala La Bohemia. Anna Mora\, editora del libro\, conversará con Lluís Claret\, autor del prólogo\, dentro del concierto de violonchelos «Homenaje a Pau Casals en el 150 aniversario de su nacimiento». \nEl concierto estará interpretado por Ensemble Conversa (clase de cello de J.E. Bouché en el CSMC) y Grupcello.cat\, dirigido por Anna Mora\, con la participación de Lluís Claret. \nEsta correspondencia\, la primera que abarca toda la vida de Pau Casals\, es un documento de valor inestimable: a través del ingente intercambio epistolar con sus numerosos interlocutores—entre los que se cuentan compositores\, instrumentistas\, poetas\, políticos e intelectuales del siglo XX—\, descubrimos la personalidad del músico y la relación inextricable que para él existía entre el arte y la vida. Observador privilegiado de acontecimientos que marcaron a fuego el mundo contemporáneo—la Primera y la Segunda Guerra Mundial\, la Revolución rusa\, la Guerra Civil\, la Francia de Vichy…—\, estas páginas no sólo muestran las ideas\, preocupaciones y creencias del gran violonchelista\, meticuloso profesor\, compositor y director de orquesta\, sino también al artista comprometido que se erigió en símbolo de la paz en todo el mundo.
URL:https://www.acantilado.es/evento/presentacion-de-querido-maestro-la-correspondencia-de-pau-casals-en-castello-de-la-plana/
LOCATION:Sala La Bohemia\, Carrer Ciscar\, 14\, Castelló de la Plana\, Castelló\, 12003
CATEGORIES:Música,Presentaciones
ATTACH;FMTTYPE=image/png:https://www.acantilado.es/wp-content/uploads/pau-casals-wiki-web.png
GEO:39.9824939;-0.0325321
X-APPLE-STRUCTURED-LOCATION;VALUE=URI;X-ADDRESS=Sala La Bohemia Carrer Ciscar 14 Castelló de la Plana Castelló 12003;X-APPLE-RADIUS=500;X-TITLE=Carrer Ciscar\, 14:geo:-0.0325321,39.9824939
END:VEVENT
END:VCALENDAR