BEGIN:VCALENDAR
VERSION:2.0
PRODID:-//ACANTILADO - ECPv6.15.18//NONSGML v1.0//EN
CALSCALE:GREGORIAN
METHOD:PUBLISH
X-WR-CALNAME:ACANTILADO
X-ORIGINAL-URL:https://www.acantilado.es
X-WR-CALDESC:Eventos para ACANTILADO
REFRESH-INTERVAL;VALUE=DURATION:PT1H
X-Robots-Tag:noindex
X-PUBLISHED-TTL:PT1H
BEGIN:VTIMEZONE
TZID:Europe/Madrid
BEGIN:DAYLIGHT
TZOFFSETFROM:+0100
TZOFFSETTO:+0200
TZNAME:CEST
DTSTART:20170326T010000
END:DAYLIGHT
BEGIN:STANDARD
TZOFFSETFROM:+0200
TZOFFSETTO:+0100
TZNAME:CET
DTSTART:20171029T010000
END:STANDARD
BEGIN:DAYLIGHT
TZOFFSETFROM:+0100
TZOFFSETTO:+0200
TZNAME:CEST
DTSTART:20180325T010000
END:DAYLIGHT
BEGIN:STANDARD
TZOFFSETFROM:+0200
TZOFFSETTO:+0100
TZNAME:CET
DTSTART:20181028T010000
END:STANDARD
BEGIN:DAYLIGHT
TZOFFSETFROM:+0100
TZOFFSETTO:+0200
TZNAME:CEST
DTSTART:20190331T010000
END:DAYLIGHT
BEGIN:STANDARD
TZOFFSETFROM:+0200
TZOFFSETTO:+0100
TZNAME:CET
DTSTART:20191027T010000
END:STANDARD
END:VTIMEZONE
BEGIN:VEVENT
DTSTART;TZID=Europe/Madrid:20181126T183000
DTEND;TZID=Europe/Madrid:20181126T200000
DTSTAMP:20260418T195811
CREATED:20181120T152731Z
LAST-MODIFIED:20181120T152908Z
UID:10000694-1543257000-1543262400@www.acantilado.es
SUMMARY:Mauricio Wiesenthal\, en Jerez de la Frontera
DESCRIPTION:El escritor Mauricio Wiesenthal\, autor de La hispanibundia\, protagonizará un encuentro provincial de clubes de lectura de la red andaluza de clubes con una charla alrededor de su último libro y sobre la figura de Stefan Zweig. \nEntrada libre hasta completar el aforo. \nActividad realizada en colaboración con la Fundación Caballero Bonald y patrocinada por la Fundación Unicaja.
URL:https://www.acantilado.es/evento/mauricio-wiesenthal-en-jerez-de-la-frontera/
LOCATION:Sala Compañía (Jerez de la Frontera)\, Plaza de Compañía\, 1A\, Jerez de la Frontera\, Cádiz\, 11403\, España
CATEGORIES:Conferencias,Presentaciones
GEO:36.6857332;-6.1399861
X-APPLE-STRUCTURED-LOCATION;VALUE=URI;X-ADDRESS=Sala Compañía (Jerez de la Frontera) Plaza de Compañía 1A Jerez de la Frontera Cádiz 11403 España;X-APPLE-RADIUS=500;X-TITLE=Plaza de Compañía\, 1A:geo:-6.1399861,36.6857332
END:VEVENT
END:VCALENDAR