BEGIN:VCALENDAR
VERSION:2.0
PRODID:-//ACANTILADO - ECPv6.15.18//NONSGML v1.0//EN
CALSCALE:GREGORIAN
METHOD:PUBLISH
X-WR-CALNAME:ACANTILADO
X-ORIGINAL-URL:https://www.acantilado.es
X-WR-CALDESC:Eventos para ACANTILADO
REFRESH-INTERVAL;VALUE=DURATION:PT1H
X-Robots-Tag:noindex
X-PUBLISHED-TTL:PT1H
BEGIN:VTIMEZONE
TZID:Europe/Madrid
BEGIN:DAYLIGHT
TZOFFSETFROM:+0100
TZOFFSETTO:+0200
TZNAME:CEST
DTSTART:20180325T010000
END:DAYLIGHT
BEGIN:STANDARD
TZOFFSETFROM:+0200
TZOFFSETTO:+0100
TZNAME:CET
DTSTART:20181028T010000
END:STANDARD
BEGIN:DAYLIGHT
TZOFFSETFROM:+0100
TZOFFSETTO:+0200
TZNAME:CEST
DTSTART:20190331T010000
END:DAYLIGHT
BEGIN:STANDARD
TZOFFSETFROM:+0200
TZOFFSETTO:+0100
TZNAME:CET
DTSTART:20191027T010000
END:STANDARD
BEGIN:DAYLIGHT
TZOFFSETFROM:+0100
TZOFFSETTO:+0200
TZNAME:CEST
DTSTART:20200329T010000
END:DAYLIGHT
BEGIN:STANDARD
TZOFFSETFROM:+0200
TZOFFSETTO:+0100
TZNAME:CET
DTSTART:20201025T010000
END:STANDARD
END:VTIMEZONE
BEGIN:VEVENT
DTSTART;TZID=Europe/Madrid:20190718T100000
DTEND;TZID=Europe/Madrid:20190718T120000
DTSTAMP:20260420T151537
CREATED:20190717T072726Z
LAST-MODIFIED:20190717T072821Z
UID:10000766-1563444000-1563451200@www.acantilado.es
SUMMARY:Panel de debate con Pedro Olalla y Javier Solana en Valladolid
DESCRIPTION:Los próximos días 18\, 19 y 20 de julio\, tendrán lugar en el Palacio de Santa Cruz\, sede del Rectorado de la Universidad de Valladolid\, los primeros «Encuentros de Verano de la UVa»\, durante los cuales un grupo de reconocidos profesionales conversará sobre la quiebra de algunas de nuestras grandes ilusiones históricas y políticas\, a fin de aportar argumentos y valoraciones que ayuden a defender y preservar lo que tales ilusiones tienen de valioso en todos los ámbitos\, y\, de manera especial\, en el cultural y universitario. \nEl programa se abre la mañana del jueves 18\, a las 10 h\, con un panel bajo el lema «La quiebra de la ilusión». En él\, Javier Solana—ex-ministro\, ex-Secretario General de la OTAN y uno de los más destacados altos cargos de la Unión Europea—planteará la evolución de la idea de una Europa unida y en paz\, haciendo asimismo una valoración del proceso del Brexit; Pedro Olalla\, por su parte\, planteará una reconsideración de los antiguos conceptos griegos de política\, ciudadanía y democracia desde la compleja y emblemática perspectiva de la Grecia actual\, sometida ya a diez años de intervenciones y rescates por parte de sus socios europeos. Moderará el panel el profesor Jesús Quijano González\, catedrático de Derecho Mercantil de la Universidad de Valladolid.\n\nPara más información\, haz clic aquí.\n \n  \nPedro Olalla (Oviedo\, 1966) es escritor\, profesor y cineasta. Veintisiete títulos originales y una larga serie de realizaciones marcan la carrera creativa de este filoheleno español. Su obra\, que explora y da a conocer la cultura griega combinando elementos literarios\, plásticos y científicos\, ha ganado la estima del público y de prestigiosas instituciones como la Academia de Atenas o la Universidad de Harvard. Junto a Historia menor de Grecia (2012)\, Grecia en el aire (2015) y De senectute politica (2018)\, publicadas en esta editorial\, destacan en su trayectoria Atlas Mitológico de Grecia y Arcadia feliz\, así como la serie documental Los lugares del mito o la película Con Calliyannis.
URL:https://www.acantilado.es/evento/panel-de-debate-con-pedro-olalla-y-javier-solana-en-valladolid/
LOCATION:Palacio de Santa Cruz\, Palacio de Santa Cruz\, Valladolid\, 47002
CATEGORIES:Conferencias
GEO:41.6515669;-4.7201139
X-APPLE-STRUCTURED-LOCATION;VALUE=URI;X-ADDRESS=Palacio de Santa Cruz Palacio de Santa Cruz Valladolid 47002;X-APPLE-RADIUS=500;X-TITLE=Palacio de Santa Cruz:geo:-4.7201139,41.6515669
END:VEVENT
END:VCALENDAR