BEGIN:VCALENDAR
VERSION:2.0
PRODID:-//ACANTILADO - ECPv6.15.18//NONSGML v1.0//EN
CALSCALE:GREGORIAN
METHOD:PUBLISH
X-WR-CALNAME:ACANTILADO
X-ORIGINAL-URL:https://www.acantilado.es
X-WR-CALDESC:Eventos para ACANTILADO
REFRESH-INTERVAL;VALUE=DURATION:PT1H
X-Robots-Tag:noindex
X-PUBLISHED-TTL:PT1H
BEGIN:VTIMEZONE
TZID:Europe/Madrid
BEGIN:DAYLIGHT
TZOFFSETFROM:+0100
TZOFFSETTO:+0200
TZNAME:CEST
DTSTART:20160327T010000
END:DAYLIGHT
BEGIN:STANDARD
TZOFFSETFROM:+0200
TZOFFSETTO:+0100
TZNAME:CET
DTSTART:20161030T010000
END:STANDARD
BEGIN:DAYLIGHT
TZOFFSETFROM:+0100
TZOFFSETTO:+0200
TZNAME:CEST
DTSTART:20170326T010000
END:DAYLIGHT
BEGIN:STANDARD
TZOFFSETFROM:+0200
TZOFFSETTO:+0100
TZNAME:CET
DTSTART:20171029T010000
END:STANDARD
BEGIN:DAYLIGHT
TZOFFSETFROM:+0100
TZOFFSETTO:+0200
TZNAME:CEST
DTSTART:20180325T010000
END:DAYLIGHT
BEGIN:STANDARD
TZOFFSETFROM:+0200
TZOFFSETTO:+0100
TZNAME:CET
DTSTART:20181028T010000
END:STANDARD
BEGIN:DAYLIGHT
TZOFFSETFROM:+0100
TZOFFSETTO:+0200
TZNAME:CEST
DTSTART:20190331T010000
END:DAYLIGHT
BEGIN:STANDARD
TZOFFSETFROM:+0200
TZOFFSETTO:+0100
TZNAME:CET
DTSTART:20191027T010000
END:STANDARD
BEGIN:DAYLIGHT
TZOFFSETFROM:+0100
TZOFFSETTO:+0200
TZNAME:CEST
DTSTART:20200329T010000
END:DAYLIGHT
BEGIN:STANDARD
TZOFFSETFROM:+0200
TZOFFSETTO:+0100
TZNAME:CET
DTSTART:20201025T010000
END:STANDARD
BEGIN:DAYLIGHT
TZOFFSETFROM:+0100
TZOFFSETTO:+0200
TZNAME:CEST
DTSTART:20210328T010000
END:DAYLIGHT
BEGIN:STANDARD
TZOFFSETFROM:+0200
TZOFFSETTO:+0100
TZNAME:CET
DTSTART:20211031T010000
END:STANDARD
BEGIN:DAYLIGHT
TZOFFSETFROM:+0100
TZOFFSETTO:+0200
TZNAME:CEST
DTSTART:20220327T010000
END:DAYLIGHT
BEGIN:STANDARD
TZOFFSETFROM:+0200
TZOFFSETTO:+0100
TZNAME:CET
DTSTART:20221030T010000
END:STANDARD
BEGIN:DAYLIGHT
TZOFFSETFROM:+0100
TZOFFSETTO:+0200
TZNAME:CEST
DTSTART:20230326T010000
END:DAYLIGHT
BEGIN:STANDARD
TZOFFSETFROM:+0200
TZOFFSETTO:+0100
TZNAME:CET
DTSTART:20231029T010000
END:STANDARD
BEGIN:DAYLIGHT
TZOFFSETFROM:+0100
TZOFFSETTO:+0200
TZNAME:CEST
DTSTART:20240331T010000
END:DAYLIGHT
BEGIN:STANDARD
TZOFFSETFROM:+0200
TZOFFSETTO:+0100
TZNAME:CET
DTSTART:20241027T010000
END:STANDARD
BEGIN:DAYLIGHT
TZOFFSETFROM:+0100
TZOFFSETTO:+0200
TZNAME:CEST
DTSTART:20250330T010000
END:DAYLIGHT
BEGIN:STANDARD
TZOFFSETFROM:+0200
TZOFFSETTO:+0100
TZNAME:CET
DTSTART:20251026T010000
END:STANDARD
END:VTIMEZONE
BEGIN:VEVENT
DTSTART;TZID=Europe/Madrid:20240402T183000
DTEND;TZID=Europe/Madrid:20240402T193000
DTSTAMP:20260417T003413
CREATED:20240313T160108Z
LAST-MODIFIED:20240313T160108Z
UID:10001164-1712082600-1712086200@www.acantilado.es
SUMMARY:María Belmonte presenta «El murmullo del agua» en Barcelona
DESCRIPTION:La escritora María Belmonte presentará su último libro\, El murmullo del agua\, el próximo martes\, 2 de abril\, a las 18:30 h. El evento será en la Nollegiu de Poblenou y la autora conversará con el librero Xavier Vidal. \n \n«Con los años he llegado a descubrir que las fuentes son lugares mágicos y liminales a los que hay que acudir sin prisa\, como quien va a visitar a un amigo […] Las fuentes cantan y nos hablan directamente al subconsciente. Son paisajes sonoros\, musicales. Junto a ellas escuchamos la música de la vida que bulle a su alrededor […] Pero las fuentes no sólo procuran placer al oído\, sino que son una experiencia sensorial total. Reclaman la atención de nuestros cinco sentidos y conforman un microcosmos en el que las formas\, los colores y los sonidos ambientales están orquestados por el agua». En este extraordinario relato\, María Belmonte nos propone un viaje a traves de los siglos para explorar el poder del agua y las fuentes desde las perspectivas más evocadoras. De su mano recorremos cautivadores lugares míticos\, materiales e históricos\, que la autora describe con su prosa vivaz y caudalosa. Una sugerente y hermosa invitación a pensar sobre el sentido de este bien tan preciado y escaso que es el agua. \nMaría Belmonte Barrenechea nació en Bilbao; estudió Historia en la Universidad de Deusto y Antropología en la Autónoma de Barcelona. En 1995 se doctoró en el Departamento de Antropología Social de la Universidad del País Vasco (San Sebastián) con una tesis sobre Historia de las Religiones. Ejerce profesionalmente como traductora técnico-literaria. Ha publicado en Acantilado Peregrinos de la belleza. Viajeros por Italia y Grecia (2015)\, Los senderos del mar. Un viaje a pie (2017) y En tierra de Dioniso. Vagabundeos por el norte de Grecia (2021). Ha vivido en diversas ciudades\, en una isla mediterránea y\, actualmente\, reside en Font-Rubí (Barcelona).
URL:https://www.acantilado.es/evento/maria-belmonte-presenta-el-murmullo-del-agua-en-barcelona-2/
LOCATION:Nollegiu\, Pons i Subirà\, 3\, Barcelona\, Barcelona\, 08005\, España
CATEGORIES:Presentaciones
GEO:41.4005278;2.2047564
X-APPLE-STRUCTURED-LOCATION;VALUE=URI;X-ADDRESS=Nollegiu Pons i Subirà 3 Barcelona Barcelona 08005 España;X-APPLE-RADIUS=500;X-TITLE=Pons i Subirà\, 3:geo:2.2047564,41.4005278
END:VEVENT
BEGIN:VEVENT
DTSTART;TZID=Europe/Madrid:20240227T183000
DTEND;TZID=Europe/Madrid:20240227T193000
DTSTAMP:20260417T003413
CREATED:20240221T101812Z
LAST-MODIFIED:20240221T101813Z
UID:10001149-1709058600-1709062200@www.acantilado.es
SUMMARY:Encuentro con la traductora Selma Ancira en Barcelona
DESCRIPTION:El martes 27 de febrero a las 18:30 h\, la traductora Selma Ancira charlará con sus lectores en la librería Nollegiu de Barcelona. En el encuentro\, charlarán sobre lordanidu\, Ritsos y Tsvietáieva. \n \nSelma Ancira nació en la ciudad de México en 1956. Es traductora de literatura rusa y de literatura griega moderna. Ha traducido\, entre otros autores\, a Pushkin\, a Dostoievski\, a Bunin\, a Bulgákov y a Pasternak\, así como a Seferis\, a Ritsos\, a Kampanelis y a María Iordanidu. Fue ella quien descubrió al público hispanoparlante la obra de Marina Tsvietáieva de quien ha traducido casi la totalidad de su prosa. En 2008 recibió la Medalla Pushkin\, máximo galardón con el que Rusia condecora a los artistas extranjeros. En 2009 obtuvo el XII Premio de Traducción Ángel Crespo por su traducción de Viva voz de vida\, de Marina Tsvietáieva. En 2010 recibió en la ciudad rusa de Elábuga el Premio de Literatura Marina Tsvietáieva por sus traducciones de la poeta\, y en Koktebel\, Ucrania\, fue merecedora del Premio Literario Maximilián Voloshin. En 2011 ha sido galardonada con el Premio Nacional de Traducción por el conjunto de su obra. Reside en Barcelona desde 1988. En 2012 ha recibido el Premio de Traducción Literaria Tomás Segovia\, y en 2016 el Premio Read Russia a la mejor traducción.
URL:https://www.acantilado.es/evento/encuentro-con-la-traductora-selma-ancira-en-barcelona/
LOCATION:Nollegiu\, Pons i Subirà\, 3\, Barcelona\, Barcelona\, 08005\, España
CATEGORIES:Encuentro
GEO:41.4005278;2.2047564
X-APPLE-STRUCTURED-LOCATION;VALUE=URI;X-ADDRESS=Nollegiu Pons i Subirà 3 Barcelona Barcelona 08005 España;X-APPLE-RADIUS=500;X-TITLE=Pons i Subirà\, 3:geo:2.2047564,41.4005278
END:VEVENT
BEGIN:VEVENT
DTSTART;TZID=Europe/Madrid:20231120T183000
DTEND;TZID=Europe/Madrid:20231120T193000
DTSTAMP:20260417T003413
CREATED:20231114T161903Z
LAST-MODIFIED:20231117T082017Z
UID:10001118-1700505000-1700508600@www.acantilado.es
SUMMARY:Aurora Luque presenta «Las sirenas de abajo» en Barcelona
DESCRIPTION:La poeta Aurora Luque presentará su reciente libro Las sirenas de abajo el lunes 20 de noviembre a las 18:30 h en la librería Nollegiu de Poblenou. \nAurora Luque es poeta\, doctora en Filología Clásica por la Universidad de Salamanca y traductora. Autora de Problemas de doblaje\, Carpe noctem\, Transitoria\, Camaradas de Ícaro (traducido al griego en 2015)\, La siesta de Epicuro\, Personal & político y Gavieras (premio Loewe 2019)\, ha publicado las antologías Fabricación de las islas\, Médula y Carpe amorem\, así como las traducciones Si no\, el invierno. Fragmentos de Safo de Anne Carson y Grecorromanas. Lírica superviviente de la Antigüedad clásica. En esta editorial han aparecido sus ediciones y traducciones de Poemas y testimonios (2004 y 2020)\, de Safo\, Sonetos y elegías (2011)\, de Louise Labé\, y Aquel vivir del mar. El mar en la poesía griega (2015)\, además de su poesía reunida\, Las sirenas de abajo (2023).
URL:https://www.acantilado.es/evento/aurora-luque-presenta-las-sirenas-de-abajo-en-barcelona/
LOCATION:Nollegiu\, Pons i Subirà\, 3\, Barcelona\, Barcelona\, 08005\, España
CATEGORIES:Presentaciones
GEO:41.4005278;2.2047564
X-APPLE-STRUCTURED-LOCATION;VALUE=URI;X-ADDRESS=Nollegiu Pons i Subirà 3 Barcelona Barcelona 08005 España;X-APPLE-RADIUS=500;X-TITLE=Pons i Subirà\, 3:geo:2.2047564,41.4005278
END:VEVENT
BEGIN:VEVENT
DTSTART;TZID=Europe/Madrid:20231113T183000
DTEND;TZID=Europe/Madrid:20231113T193000
DTSTAMP:20260417T003413
CREATED:20231025T080853Z
LAST-MODIFIED:20231110T075426Z
UID:10001115-1699900200-1699903800@www.acantilado.es
SUMMARY:José María Micó presenta «De Dante a Borges» en Barcelona
DESCRIPTION:El escritor José María Micó presentará su reciente libro De Dante a Borges el lunes 13 de noviembre a las 18:30 h en la librería Nollegiu de Poblenou. \nJosé María Micó (Barcelona\, 1961) es poeta\, músico y traductor. Catedrático de literatura en la Universitat Pompeu Fabra\, de su obra filológica y ensayística destacan diversas ediciones de clásicos españoles\, antologías comentadas de poesía y varios libros\, entre ellos Clásicos vividos y Para entender a Góngora\, ambos en Acantilado. Ha traducido a grandes autores europeos antiguos como Ramon Llull\, Petrarca\, Jordi de Sant Jordi\, Ausiàs March y Ludovico Ariosto\, además de poetas contemporáneos catalanes e italianos. A lo largo de su trayectoria ha obtenido numerosos galardones\, entre los que se cuentan los premios Hiperión y Generación del 27\, así como el Premio Nacional de Traducción en España y en Italia y el Premio Ángel Crespo por su traducción de Comedia de Dante. Acantilado ha publicado un volumen que reúne toda su obra poética\, Primeras voluntades. En los últimos años ha iniciado una actividad musical\, y como parte del dúo Marta y Micó ha grabado los discos Memoria del aire y Sombras cotidianas.
URL:https://www.acantilado.es/evento/jose-maria-mico-presenta-de-dante-a-borges-en-barcelona/
LOCATION:Nollegiu\, Pons i Subirà\, 3\, Barcelona\, Barcelona\, 08005\, España
CATEGORIES:Presentaciones
GEO:41.4005278;2.2047564
X-APPLE-STRUCTURED-LOCATION;VALUE=URI;X-ADDRESS=Nollegiu Pons i Subirà 3 Barcelona Barcelona 08005 España;X-APPLE-RADIUS=500;X-TITLE=Pons i Subirà\, 3:geo:2.2047564,41.4005278
END:VEVENT
BEGIN:VEVENT
DTSTART;TZID=Europe/Madrid:20221110T183000
DTEND;TZID=Europe/Madrid:20221110T193000
DTSTAMP:20260417T003413
CREATED:20221103T130847Z
LAST-MODIFIED:20221107T132029Z
UID:10001013-1668105000-1668108600@www.acantilado.es
SUMMARY:Isabel Soler presenta «Magallanes & Co.» en Barcelona
DESCRIPTION:La escritora Isabel Soler presentará su último libro\, Magallanes & Co.\, el jueves 10 de noviembre a las 18:30 h en la librería Nollegiu. La autora conversará con José Pardo-Tomás. \nIsabel Soler (Barcelona\, 1964) es profesora de Literatura y Cultura Portuguesas en la Universidad de Barcelona y especialista en literatura de viajes del período renacentista\, al que ha dedicado diversos estudios y ediciones. Acantilado ha publicado El nudo y la esfera (2003)\, Los mares náufragos (2004)\, Derrota de Vasco de Gama (2011)\, El sueño del rey (2015)\, Miguel de Cervantes: los años de Argel (2016) y Magallanes & Co. (2022)\, además de su edición de Carta del descubrimiento de Brasil (2008) y de los Diálogos de Roma de Francisco de Holanda (2018). Asimismo\, ha traducido para esta editorial las obras del novelista y ensayista portugués Vergílio Ferreira.
URL:https://www.acantilado.es/evento/isabel-soler-presenta-magallanes-co-en-barcelona-2/
LOCATION:Nollegiu\, Pons i Subirà\, 3\, Barcelona\, Barcelona\, 08005\, España
CATEGORIES:Presentaciones
ORGANIZER;CN="NoLlegiu":MAILTO:info@nollegiu.cat
GEO:41.4005278;2.2047564
X-APPLE-STRUCTURED-LOCATION;VALUE=URI;X-ADDRESS=Nollegiu Pons i Subirà 3 Barcelona Barcelona 08005 España;X-APPLE-RADIUS=500;X-TITLE=Pons i Subirà\, 3:geo:2.2047564,41.4005278
END:VEVENT
BEGIN:VEVENT
DTSTART;TZID=Europe/Madrid:20211111T190000
DTEND;TZID=Europe/Madrid:20211111T200000
DTSTAMP:20260417T003413
CREATED:20211108T112908Z
LAST-MODIFIED:20211109T065028Z
UID:10000914-1636657200-1636660800@www.acantilado.es
SUMMARY:Charla sobre «Vacaciones en el Cáucaso»\, de María Iordanidu\, con Selma Ancira
DESCRIPTION:En esta actividad la traductora Selma Ancira conversará con Xavier Vidal\, librero de Nollegiu\, acerca de Vacaciones en el Cáucaso de María Iordanidu. El próximo jueves 11 de noviembre a las 19 h. Para asistir al evento de manera presencial es necesario inscribirse aquí. \nLa charla se podrá seguir en directo a través del canal de YouTube de la librería Nollegiu: \n﻿ \nMaría Iordanidu (Constantinopla\, 1897 – Atenas\, 1989) pasó la infancia en Constantinopla\, pero el estallido de la Primera Guerra Mundial\, que la sorprendió de vacaciones en el mar Negro\, la obligó a permanecer en Rusia durante años. Hasta 1919 no pudo volver a Grecia\, donde trabajó para una gran compañía comercial estadounidense y\, de 1926 a 1939\, en la embajada soviética de Atenas. Durante la ocupación alemana fue detenida en varias ocasiones y su casa fue destruida\, tras lo cual se vio obligada a mudarse con frecuencia y a sobrevivir impartiendo clases de lenguas extranjeras. A los sesenta y cinco años publicó su primera novela\, Loxandra\, obra inmensamente popular que ha sido traducida a varias lenguas. Acantilado ha publicado también la novela Vacaciones en el Cáucaso. \nSelma Ancira es traductora de literatura rusa y de literatura griega moderna. Ha traducido\, entre otros autores\, a Pushkin\, a Dostoievski\, a Bunin\, a Bulgákov\, a Tolstói y a Pasternak\, así como a Seferis\, a Ritsos\, a Kampanelis y a María Iordanidu. Fue ella quien descubrió al público hispanoparlante la obra de Marina Tsvietáieva de quien ha traducido casi la totalidad de su prosa.
URL:https://www.acantilado.es/evento/charla-sobre-maria-iordanidu-con-selma-ancira/
LOCATION:Nollegiu\, Pons i Subirà\, 3\, Barcelona\, Barcelona\, 08005\, España
CATEGORIES:Coloquio / Diálogo
ORGANIZER;CN="NoLlegiu":MAILTO:info@nollegiu.cat
GEO:41.4005278;2.2047564
X-APPLE-STRUCTURED-LOCATION;VALUE=URI;X-ADDRESS=Nollegiu Pons i Subirà 3 Barcelona Barcelona 08005 España;X-APPLE-RADIUS=500;X-TITLE=Pons i Subirà\, 3:geo:2.2047564,41.4005278
END:VEVENT
BEGIN:VEVENT
DTSTART;TZID=Europe/Madrid:20210415T190000
DTEND;TZID=Europe/Madrid:20210415T200000
DTSTAMP:20260417T003413
CREATED:20210407T091901Z
LAST-MODIFIED:20210409T084005Z
UID:10000851-1618513200-1618516800@www.acantilado.es
SUMMARY:Presentación de «Humano\, más humano» en Barcelona
DESCRIPTION:El filósofo y ensayista Josep Maria Esquirol presentará su último libro\, Humano\, más humano. Una antropología de la herida infinita\, el próximo jueves 15 de abril en la librería NoLlegiu de Poblenou. El autor conversará con el filósofo Marc Galofré. Aforo limitado sin reserva previa. \nEl diálogo se podrá seguir en directo a través de los canales de YouTube\, Facebook e Instagram de la librería NoLlegiu. \n  \nJosep Maria Esquirol es catedrático de Filosofía de la Universidad de Barcelona\, donde da clases de Filosofía Contemporánea y dirige el grupo de investigación Aporia\, dedicado a la relación entre filosofía y psiquiatría. Ha publicado cerca de un centenar de artículos en revistas especializadas\, y una docena de libros\, entre los cuales destacan Uno mismo y los otros (2005)\, El respeto o la mirada atenta (2006)\, El respirar de los días (2009)\, Los filósofos contemporáneos y la técnica (2011) y\, muy especialmente\, La resistencia íntima (Acantilado\, 2015)\, que recibió los premios Ciutat de Barcelona y Nacional de Ensayo\, y se ha traducido al italiano\, portugués\, inglés y alemán; La penúltima bondad (Acantilado\, 2018) y Humano\, más humano (Acantilado\, 2021).
URL:https://www.acantilado.es/evento/presentacion-de-humano-mas-humano-en-barcelona-2/
LOCATION:Nollegiu\, Pons i Subirà\, 3\, Barcelona\, Barcelona\, 08005\, España
CATEGORIES:Coloquio / Diálogo,Presentaciones
ORGANIZER;CN="NoLlegiu":MAILTO:info@nollegiu.cat
GEO:41.4005278;2.2047564
X-APPLE-STRUCTURED-LOCATION;VALUE=URI;X-ADDRESS=Nollegiu Pons i Subirà 3 Barcelona Barcelona 08005 España;X-APPLE-RADIUS=500;X-TITLE=Pons i Subirà\, 3:geo:2.2047564,41.4005278
END:VEVENT
BEGIN:VEVENT
DTSTART;TZID=Europe/Madrid:20210316T190000
DTEND;TZID=Europe/Madrid:20210316T200000
DTSTAMP:20260417T003413
CREATED:20210315T114236Z
LAST-MODIFIED:20210318T095149Z
UID:10000842-1615921200-1615924800@www.acantilado.es
SUMMARY:Presentación de «En tierra de Dioniso» con María Belmonte
DESCRIPTION:María Belmonte presentará su último libro\, En tierra de Dioniso\, el próximo martes 16 de marzo a las 19 h en la librería NoLlegiu de Barcelona. \nEl acto se podrá seguir de manera simultánea en YouTube\, Facebook e Instagram. \nMaría Belmonte Barrenechea nació en Bilbao; estudió Historia en la Universidad de Deusto y Antropología en la Autónoma de Barcelona. En 1995 se doctoró en el Departamento de Antropología Social de la Universidad del País Vasco (San Sebastián) con una tesis sobre Historia de las Religiones. Ejerce profesionalmente como traductora técnico-literaria. Ha publicado en Acantilado Peregrinos de la belleza. Viajeros por Italia y Grecia (2015)\, Los senderos del mar. Un viaje a pie (2017) y En tierra de Dioniso. Vagabundeos por el norte de Grecia (2021). Ha vivido en diversas ciudades\, en una isla mediterránea y\, actualmente\, reside en Font-Rubí (Barcelona). \nPuedes verlo aquí:
URL:https://www.acantilado.es/evento/presentacion-de-en-tierra-de-dioniso/
LOCATION:Nollegiu\, Pons i Subirà\, 3\, Barcelona\, Barcelona\, 08005\, España
CATEGORIES:Presentaciones
ORGANIZER;CN="NoLlegiu":MAILTO:info@nollegiu.cat
GEO:41.4005278;2.2047564
X-APPLE-STRUCTURED-LOCATION;VALUE=URI;X-ADDRESS=Nollegiu Pons i Subirà 3 Barcelona Barcelona 08005 España;X-APPLE-RADIUS=500;X-TITLE=Pons i Subirà\, 3:geo:2.2047564,41.4005278
END:VEVENT
BEGIN:VEVENT
DTSTART;TZID=Europe/Madrid:20191027T123000
DTEND;TZID=Europe/Madrid:20191027T133000
DTSTAMP:20260417T003413
CREATED:20191023T073454Z
LAST-MODIFIED:20191023T073454Z
UID:10000773-1572179400-1572183000@www.acantilado.es
SUMMARY:Lectura en tres idiomas de dos cantos de la «Comedia» de Dante en Barcelona
DESCRIPTION:La librería NoLlegiu celebra su sexto aniversario el domingo 27 de octubre. En su programación se incluye una lectura en tres idiomas (italiano\, catalán y castellano) de los cantos V y XXVI del «Infierno» de la Comedia de Dante Alighieri\, a las 12:30 h. La voz en castellano será la del traductor José María Micó.\n  \nActividad libre y gratuita.\n  \n\n\n\n\nJosé María Micó (Barcelona\, 1961) es poeta\, traductor y catedrático de literatura en la Universidad Pompeu Fabra. Su obra filológica comprende ediciones de autores españoles (Alemán\, Cervantes\, Góngora y Quevedo)\, antologías comentadas de poesía hispánica y libros de estudios y ensayos (entre ellos De Góngora\, Las razones del poeta o La fragua de las soledades). Ha traducido a grandes clásicos europeos como Petrarca\, Jordi de Sant Jordi\, Ausiàs March y Ludovico Ariosto\, y su versión del Orlando furioso fue Premio Nacional de Traducción en España y en Italia. Recientemente ha traducido la Comedia de Dante Alighieri.
URL:https://www.acantilado.es/evento/lectura-en-tres-idiomas-de-dos-cantos-de-la-comedia-de-dante-en-barcelona/
LOCATION:Nollegiu\, Pons i Subirà\, 3\, Barcelona\, Barcelona\, 08005\, España
CATEGORIES:Evento
ORGANIZER;CN="NoLlegiu":MAILTO:info@nollegiu.cat
GEO:41.4005278;2.2047564
X-APPLE-STRUCTURED-LOCATION;VALUE=URI;X-ADDRESS=Nollegiu Pons i Subirà 3 Barcelona Barcelona 08005 España;X-APPLE-RADIUS=500;X-TITLE=Pons i Subirà\, 3:geo:2.2047564,41.4005278
END:VEVENT
BEGIN:VEVENT
DTSTART;TZID=Europe/Madrid:20180528T193000
DTEND;TZID=Europe/Madrid:20180528T210000
DTSTAMP:20260417T003413
CREATED:20180426T090315Z
LAST-MODIFIED:20180528T114140Z
UID:10000636-1527535800-1527541200@www.acantilado.es
SUMMARY:Presentación de 'Los senderos del mar' en Barcelona
DESCRIPTION:María Belmonte\, autora de Peregrinos de la belleza presentará su último libro\, Los senderos del mar\, en la librería barcelonesa NoLlegiu. \nAcompañada de Aristóteles\, Goethe\, Victor Hugo\, Darwin\, Jane Austen y tantos otros escritores\, pintores o aventureros\, la autora nos invita a realizar una travesía por la costa vasca. Un viaje sentimental a los lugares de la adolescencia se transforma en una exploración de los viejos caminos costeros\, un recorrido por la historia humana y geológica\, grabada de un modo particularmente revelador en los paisajes y las piedras de la costa\, el primigenio umbral donde se encuentran dos mundos. Un texto inspirador que nos propone observar la naturaleza y deleitarnos en ella\, contemplar los matices de la vida en estado puro y sentir su hondo latido.
URL:https://www.acantilado.es/evento/presentacion-de-los-senderos-del-mar-en-barcelona/
LOCATION:Nollegiu\, Pons i Subirà\, 3\, Barcelona\, Barcelona\, 08005\, España
CATEGORIES:Presentaciones
ATTACH;FMTTYPE=image/jpeg:https://www.acantilado.es/wp-content/uploads/Presentacio-Maria-Belmonte.jpg
ORGANIZER;CN="NoLlegiu":MAILTO:info@nollegiu.cat
GEO:41.4005278;2.2047564
X-APPLE-STRUCTURED-LOCATION;VALUE=URI;X-ADDRESS=Nollegiu Pons i Subirà 3 Barcelona Barcelona 08005 España;X-APPLE-RADIUS=500;X-TITLE=Pons i Subirà\, 3:geo:2.2047564,41.4005278
END:VEVENT
BEGIN:VEVENT
DTSTART;TZID=Europe/Madrid:20180523T193000
DTEND;TZID=Europe/Madrid:20180523T210000
DTSTAMP:20260417T003413
CREATED:20180425T145115Z
LAST-MODIFIED:20180425T145115Z
UID:10000632-1527103800-1527109200@www.acantilado.es
SUMMARY:Presentación de 'Pequeños paraísos' en Barcelona
DESCRIPTION:Mario Satz presentará su último ensayo\, Pequeños paraísos\, en la librería barcelonesa NoLlegiu. \nA lo largo de los siglos\, en todas las culturas\, desde Babilonia\, Grecia\, Persia\, China o Japón\, los seres humanos han creado\, con paciencia y a veces con enormes esfuerzos\, monumentos de verdor y acequias labradas en piedra para evocar un mítico lugar ideal\, frondoso\, donde siempre es primavera\, los animales son serenos\, los hombres pocos y pacíficos\, y el alimento abundante. En breves e intensos capítulos\, Mario Satz ahonda en la construcción de los pequeños paraísos\, esas obras de arte vegetal que aún hoy nos sorprenden y admiran. Un jardín es\, sin embargo\, algo más que una forma delicada de nostalgia\, pues no sólo buscamos el Paraíso en el pasado sino que lo proyectamos en el futuro con la esperanza de que perdure\, para quien sabe ver\, en nuestro entorno: tal vez el paraíso jamás haya desaparecido de la Tierra y tan sólo debamos aprender a verlo. \nLa entrada cuesta 5 euros o la compra del libro.
URL:https://www.acantilado.es/evento/presentacion-de-pequenos-paraisos-en-barcelona/
LOCATION:Nollegiu\, Pons i Subirà\, 3\, Barcelona\, Barcelona\, 08005\, España
CATEGORIES:Presentaciones
ORGANIZER;CN="NoLlegiu":MAILTO:info@nollegiu.cat
GEO:41.4005278;2.2047564
X-APPLE-STRUCTURED-LOCATION;VALUE=URI;X-ADDRESS=Nollegiu Pons i Subirà 3 Barcelona Barcelona 08005 España;X-APPLE-RADIUS=500;X-TITLE=Pons i Subirà\, 3:geo:2.2047564,41.4005278
END:VEVENT
BEGIN:VEVENT
DTSTART;TZID=Europe/Madrid:20180319T193000
DTEND;TZID=Europe/Madrid:20180319T210000
DTSTAMP:20260417T003413
CREATED:20180312T141320Z
LAST-MODIFIED:20180312T141320Z
UID:10000612-1521487800-1521493200@www.acantilado.es
SUMMARY:Presentación de 'La penúltima bondad'\, de Josep Maria Esquirol
DESCRIPTION:El filósofo Josep Maria Esquirol\, autor del exitoso ensayo La resistencia íntima\, presentará su nuevo libro\, La penúltima bondad\, en la librería barcelonesa No Llegiu. \nJosep Maria Esquirol es profesor de filosofía de la Universidad de Barcelona\, donde dirige el grupo de investigación Aporia\, dedicado al pensamiento contemporáneo. Ha publicado cerca de un centenar de artículos en revistas especializadas\, y una docena de libros\, entre los cuales destacan Uno mismo y los otros (2005)\, El respeto o la mirada atenta (2006)\, El respirar de los días (2009)\, Los filósofos contemporáneos y la técnica (2011) y\, muy especialmente\, La resistencia íntima (Acantilado\, 2015)\, que\, después de ser celebrado por lectores y crítica\, recibió el Premio Ciudad de Barcelona y el Premio Nacional de Ensayo.
URL:https://www.acantilado.es/evento/presentacion-la-penultima-bondad-josep-maria-esquirol/
LOCATION:Nollegiu\, Pons i Subirà\, 3\, Barcelona\, Barcelona\, 08005\, España
CATEGORIES:Presentaciones
ORGANIZER;CN="NoLlegiu":MAILTO:info@nollegiu.cat
GEO:41.4005278;2.2047564
X-APPLE-STRUCTURED-LOCATION;VALUE=URI;X-ADDRESS=Nollegiu Pons i Subirà 3 Barcelona Barcelona 08005 España;X-APPLE-RADIUS=500;X-TITLE=Pons i Subirà\, 3:geo:2.2047564,41.4005278
END:VEVENT
BEGIN:VEVENT
DTSTART;TZID=Europe/Madrid:20170315T170000
DTEND;TZID=Europe/Madrid:20170315T190000
DTSTAMP:20260417T003413
CREATED:20170309T150152Z
LAST-MODIFIED:20170309T150152Z
UID:10000539-1489597200-1489604400@www.acantilado.es
SUMMARY:Pablo Martín Sánchez participa en un duelo de máquinas de escribir
DESCRIPTION:Los duelos de máquinas de escribir\, coordinados por los periodistas Anna María Iglesia y Álvaro Colomer\, tienen lugar en dos librerías\, NoLlegiu y Malpaso. Pablo Martín Sánchez participará en la primera jornada de estos eventos\, en la librería NoLlegiu\, y lo hará acompañado por el también escritor Jordi Puntí. \nDos librerías\, dos máquinas de escribir\, dos escritores enfrentados\, dos cuentos inéditos.
URL:https://www.acantilado.es/evento/pablo-martin-sanchez-participa-duelo-maquinas-escribir/
LOCATION:Nollegiu\, Pons i Subirà\, 3\, Barcelona\, Barcelona\, 08005\, España
CATEGORIES:Conferencias
ORGANIZER;CN="NoLlegiu":MAILTO:info@nollegiu.cat
GEO:41.4005278;2.2047564
X-APPLE-STRUCTURED-LOCATION;VALUE=URI;X-ADDRESS=Nollegiu Pons i Subirà 3 Barcelona Barcelona 08005 España;X-APPLE-RADIUS=500;X-TITLE=Pons i Subirà\, 3:geo:2.2047564,41.4005278
END:VEVENT
END:VCALENDAR