BEGIN:VCALENDAR
VERSION:2.0
PRODID:-//ACANTILADO - ECPv6.15.18//NONSGML v1.0//EN
CALSCALE:GREGORIAN
METHOD:PUBLISH
X-ORIGINAL-URL:https://www.acantilado.es
X-WR-CALDESC:Eventos para ACANTILADO
REFRESH-INTERVAL;VALUE=DURATION:PT1H
X-Robots-Tag:noindex
X-PUBLISHED-TTL:PT1H
BEGIN:VTIMEZONE
TZID:Europe/Madrid
BEGIN:DAYLIGHT
TZOFFSETFROM:+0100
TZOFFSETTO:+0200
TZNAME:CEST
DTSTART:20220327T010000
END:DAYLIGHT
BEGIN:STANDARD
TZOFFSETFROM:+0200
TZOFFSETTO:+0100
TZNAME:CET
DTSTART:20221030T010000
END:STANDARD
BEGIN:DAYLIGHT
TZOFFSETFROM:+0100
TZOFFSETTO:+0200
TZNAME:CEST
DTSTART:20230326T010000
END:DAYLIGHT
BEGIN:STANDARD
TZOFFSETFROM:+0200
TZOFFSETTO:+0100
TZNAME:CET
DTSTART:20231029T010000
END:STANDARD
BEGIN:DAYLIGHT
TZOFFSETFROM:+0100
TZOFFSETTO:+0200
TZNAME:CEST
DTSTART:20240331T010000
END:DAYLIGHT
BEGIN:STANDARD
TZOFFSETFROM:+0200
TZOFFSETTO:+0100
TZNAME:CET
DTSTART:20241027T010000
END:STANDARD
BEGIN:DAYLIGHT
TZOFFSETFROM:+0100
TZOFFSETTO:+0200
TZNAME:CEST
DTSTART:20250330T010000
END:DAYLIGHT
BEGIN:STANDARD
TZOFFSETFROM:+0200
TZOFFSETTO:+0100
TZNAME:CET
DTSTART:20251026T010000
END:STANDARD
BEGIN:DAYLIGHT
TZOFFSETFROM:+0100
TZOFFSETTO:+0200
TZNAME:CEST
DTSTART:20260329T010000
END:DAYLIGHT
BEGIN:STANDARD
TZOFFSETFROM:+0200
TZOFFSETTO:+0100
TZNAME:CET
DTSTART:20261025T010000
END:STANDARD
END:VTIMEZONE
BEGIN:VEVENT
DTSTART;TZID=Europe/Madrid:20250129T190000
DTEND;TZID=Europe/Madrid:20250129T200000
DTSTAMP:20260413T042801
CREATED:20250120T123348Z
LAST-MODIFIED:20250120T123743Z
UID:10001326-1738177200-1738180800@www.acantilado.es
SUMMARY:Conferencia de María Belmonte en Castelló
DESCRIPTION:El próximo miércoles 29 de enero a las 19 h tendrá lugar una conferencia de María Belmonte en el Museo de Bellas Artes de Castelló. \nMaría Belmonte Barrenechea estudió Historia en la Universidad de Deusto y Antropología en la Autónoma de Barcelona. En 1995 se doctoró en el Departamento de Antropología Social de la Universidad del País Vasco (San Sebastián) con una tesis sobre Historia de las Religiones. Ejerce profesionalmente como traductora técnico-literaria. Ha publicado en Acantilado Peregrinos de la belleza. Viajeros por Italia y Grecia (2015)\, Los senderos del mar. Un viaje a pie (2017)\, En tierra de Dioniso. Vagabundeos por el norte de Grecia (2021) y El murmullo del agua. Fuentes\, jardines y divinidades acuáticas (2024).
URL:https://www.acantilado.es/evento/conferencia-de-maria-belmonte-en-castello/
LOCATION:Museo de Bellas Artes de Castellón\, Av. dels Germans Bou\, 28\, Castellón\, Castellón\, 12003
CATEGORIES:Conferencias
GEO:39.9823603;-0.0298817
X-APPLE-STRUCTURED-LOCATION;VALUE=URI;X-ADDRESS=Museo de Bellas Artes de Castellón Av. dels Germans Bou 28 Castellón Castellón 12003;X-APPLE-RADIUS=500;X-TITLE=Av. dels Germans Bou\, 28:geo:-0.0298817,39.9823603
END:VEVENT
BEGIN:VEVENT
DTSTART;TZID=Europe/Madrid:20230117T193000
DTEND;TZID=Europe/Madrid:20230117T203000
DTSTAMP:20260413T042801
CREATED:20230111T150227Z
LAST-MODIFIED:20230111T150227Z
UID:10001028-1673983800-1673987400@www.acantilado.es
SUMMARY:Encuentro con Manuel Astur en Castellón
DESCRIPTION:Manuel Astur participará en Intercanvis. Club de cultura el próximo martes 17 de enero. El autor conversará acerca de su obra en el Museo de Bellas Artes de Castellón a las 19:30 h. \nManuel Astur (Sama de Grado\, 1980) es escritor\, poeta y editor. Ha impartido cursos de literatura en distintas escuelas y colabora asiduamente con artículos\, reseñas y columnas en diversos medios. Fue editor de la revista cultural madrileña Arto! Ha publicado relatos en varias antologías\, así como el poemario Y encima es mi cumpleaños (2013)\, las novelas Quince días para acabar con el mundo (2014) y San\, el libro de los milagros (Acantilado\, 2020)\, y los ensayos Seré un anciano hermoso en un gran país (2016) y La aurora cuando surge (Acantilado\, 2022). En 2017 fue elegido una de las «Diez nuevas voces más interesantes del continente europeo» en el marco del proyecto Literary Europe Live.
URL:https://www.acantilado.es/evento/encuentro-con-manuel-astur-en-castellon/
LOCATION:Museo de Bellas Artes de Castellón\, Av. dels Germans Bou\, 28\, Castellón\, Castellón\, 12003
CATEGORIES:Encuentro
GEO:39.9823603;-0.0298817
X-APPLE-STRUCTURED-LOCATION;VALUE=URI;X-ADDRESS=Museo de Bellas Artes de Castellón Av. dels Germans Bou 28 Castellón Castellón 12003;X-APPLE-RADIUS=500;X-TITLE=Av. dels Germans Bou\, 28:geo:-0.0298817,39.9823603
END:VEVENT
END:VCALENDAR