BEGIN:VCALENDAR
VERSION:2.0
PRODID:-//ACANTILADO - ECPv6.15.18//NONSGML v1.0//EN
CALSCALE:GREGORIAN
METHOD:PUBLISH
X-WR-CALNAME:ACANTILADO
X-ORIGINAL-URL:https://www.acantilado.es
X-WR-CALDESC:Eventos para ACANTILADO
REFRESH-INTERVAL;VALUE=DURATION:PT1H
X-Robots-Tag:noindex
X-PUBLISHED-TTL:PT1H
BEGIN:VTIMEZONE
TZID:Europe/Madrid
BEGIN:DAYLIGHT
TZOFFSETFROM:+0100
TZOFFSETTO:+0200
TZNAME:CEST
DTSTART:20220327T010000
END:DAYLIGHT
BEGIN:STANDARD
TZOFFSETFROM:+0200
TZOFFSETTO:+0100
TZNAME:CET
DTSTART:20221030T010000
END:STANDARD
BEGIN:DAYLIGHT
TZOFFSETFROM:+0100
TZOFFSETTO:+0200
TZNAME:CEST
DTSTART:20230326T010000
END:DAYLIGHT
BEGIN:STANDARD
TZOFFSETFROM:+0200
TZOFFSETTO:+0100
TZNAME:CET
DTSTART:20231029T010000
END:STANDARD
BEGIN:DAYLIGHT
TZOFFSETFROM:+0100
TZOFFSETTO:+0200
TZNAME:CEST
DTSTART:20240331T010000
END:DAYLIGHT
BEGIN:STANDARD
TZOFFSETFROM:+0200
TZOFFSETTO:+0100
TZNAME:CET
DTSTART:20241027T010000
END:STANDARD
END:VTIMEZONE
BEGIN:VEVENT
DTSTART;TZID=Europe/Madrid:20230607T190000
DTEND;TZID=Europe/Madrid:20230607T200000
DTSTAMP:20260420T125226
CREATED:20230530T111516Z
LAST-MODIFIED:20230530T122656Z
UID:10001073-1686164400-1686168000@www.acantilado.es
SUMMARY:Conversación sobre Stefan Zweig con Sandra Ollo en Girona
DESCRIPTION:La editora de Acantilado Sandra Ollo conversará sobre la vida y obra de Stefan Zweig el miércoles 7 de junio a las 19 h en la librería Troa Empúries de Girona. \nStefan Zweig (Viena\, 1881 – Petrópolis\, Brasil\, 1942) fue un escritor enormemente popular\, tanto en su faceta de ensayista y biógrafo como en la de novelista. Su capacidad narrativa\, la pericia y la delicadeza en la descripción de los sentimientos y la elegancia de su estilo lo convierten en un narrador fascinante\, capaz de seducirnos desde las primeras líneas. En Acantilado se ha publicado la mayor parte de su obra narrativa y ensayística.
URL:https://www.acantilado.es/evento/conversacion-sobre-stefan-zweig-con-sandra-ollo-en-girona/
LOCATION:Llibreria Troa\, Avenida Álvarez de Castro\, 6\, Girona\, 17001
CATEGORIES:Encuentro
GEO:41.9813676;2.8198012
X-APPLE-STRUCTURED-LOCATION;VALUE=URI;X-ADDRESS=Llibreria Troa Avenida Álvarez de Castro 6 Girona 17001;X-APPLE-RADIUS=500;X-TITLE=Avenida Álvarez de Castro\, 6:geo:2.8198012,41.9813676
END:VEVENT
END:VCALENDAR