BEGIN:VCALENDAR
VERSION:2.0
PRODID:-//ACANTILADO - ECPv6.15.18//NONSGML v1.0//EN
CALSCALE:GREGORIAN
METHOD:PUBLISH
X-WR-CALNAME:ACANTILADO
X-ORIGINAL-URL:https://www.acantilado.es
X-WR-CALDESC:Eventos para ACANTILADO
REFRESH-INTERVAL;VALUE=DURATION:PT1H
X-Robots-Tag:noindex
X-PUBLISHED-TTL:PT1H
BEGIN:VTIMEZONE
TZID:Europe/Madrid
BEGIN:DAYLIGHT
TZOFFSETFROM:+0100
TZOFFSETTO:+0200
TZNAME:CEST
DTSTART:20180325T010000
END:DAYLIGHT
BEGIN:STANDARD
TZOFFSETFROM:+0200
TZOFFSETTO:+0100
TZNAME:CET
DTSTART:20181028T010000
END:STANDARD
BEGIN:DAYLIGHT
TZOFFSETFROM:+0100
TZOFFSETTO:+0200
TZNAME:CEST
DTSTART:20190331T010000
END:DAYLIGHT
BEGIN:STANDARD
TZOFFSETFROM:+0200
TZOFFSETTO:+0100
TZNAME:CET
DTSTART:20191027T010000
END:STANDARD
BEGIN:DAYLIGHT
TZOFFSETFROM:+0100
TZOFFSETTO:+0200
TZNAME:CEST
DTSTART:20200329T010000
END:DAYLIGHT
BEGIN:STANDARD
TZOFFSETFROM:+0200
TZOFFSETTO:+0100
TZNAME:CET
DTSTART:20201025T010000
END:STANDARD
END:VTIMEZONE
BEGIN:VEVENT
DTSTART;TZID=Europe/Madrid:20191024T190000
DTEND;TZID=Europe/Madrid:20191024T200000
DTSTAMP:20260415T043522
CREATED:20191014T103003Z
LAST-MODIFIED:20191017T073628Z
UID:10000771-1571943600-1571947200@www.acantilado.es
SUMMARY:Club de lectura con Mario Satz en Girona
DESCRIPTION:Librería Troa organiza un club de lectura sobre Pequeños paraísos con el autor Mario Satz. La actividad será el próximo jueves 17 de octubre a las 19 h. \nMario Satz (Coronel Pringles\, Buenos Aires\, 1944) es filólogo\, escritor y traductor. Tras cursar estudios secundarios en Argentina\, realizó largos viajes por Sudamérica\, Estados Unidos y Europa. Entre 1970 y 1973 vivió en Jerusalén\, donde estudió la cábala\, la Biblia y antropología e historia de Oriente Medio. En 1977 recibió una beca del gobierno italiano para investigar la obra del humanista Pico della Mirandola. Asimismo colabora asiduamente en numerosas revistas españolas y americanas\, y ha publicado múltiples ensayos\, poemarios y novelas. Acantilado ha publicado Pequeños paraísos (2017) y El alfabeto alado (2019).
URL:https://www.acantilado.es/evento/club-de-lectura-con-mario-satz-en-girona/
LOCATION:Llibreria Troa\, Avenida Álvarez de Castro\, 6\, Girona\, 17001
CATEGORIES:Evento
GEO:41.9813676;2.8198012
X-APPLE-STRUCTURED-LOCATION;VALUE=URI;X-ADDRESS=Llibreria Troa Avenida Álvarez de Castro 6 Girona 17001;X-APPLE-RADIUS=500;X-TITLE=Avenida Álvarez de Castro\, 6:geo:2.8198012,41.9813676
END:VEVENT
END:VCALENDAR