BEGIN:VCALENDAR
VERSION:2.0
PRODID:-//ACANTILADO - ECPv6.15.18//NONSGML v1.0//EN
CALSCALE:GREGORIAN
METHOD:PUBLISH
X-WR-CALNAME:ACANTILADO
X-ORIGINAL-URL:https://www.acantilado.es
X-WR-CALDESC:Eventos para ACANTILADO
REFRESH-INTERVAL;VALUE=DURATION:PT1H
X-Robots-Tag:noindex
X-PUBLISHED-TTL:PT1H
BEGIN:VTIMEZONE
TZID:Europe/Madrid
BEGIN:DAYLIGHT
TZOFFSETFROM:+0100
TZOFFSETTO:+0200
TZNAME:CEST
DTSTART:20200329T010000
END:DAYLIGHT
BEGIN:STANDARD
TZOFFSETFROM:+0200
TZOFFSETTO:+0100
TZNAME:CET
DTSTART:20201025T010000
END:STANDARD
BEGIN:DAYLIGHT
TZOFFSETFROM:+0100
TZOFFSETTO:+0200
TZNAME:CEST
DTSTART:20210328T010000
END:DAYLIGHT
BEGIN:STANDARD
TZOFFSETFROM:+0200
TZOFFSETTO:+0100
TZNAME:CET
DTSTART:20211031T010000
END:STANDARD
BEGIN:DAYLIGHT
TZOFFSETFROM:+0100
TZOFFSETTO:+0200
TZNAME:CEST
DTSTART:20220327T010000
END:DAYLIGHT
BEGIN:STANDARD
TZOFFSETFROM:+0200
TZOFFSETTO:+0100
TZNAME:CET
DTSTART:20221030T010000
END:STANDARD
BEGIN:DAYLIGHT
TZOFFSETFROM:+0100
TZOFFSETTO:+0200
TZNAME:CEST
DTSTART:20230326T010000
END:DAYLIGHT
BEGIN:STANDARD
TZOFFSETFROM:+0200
TZOFFSETTO:+0100
TZNAME:CET
DTSTART:20231029T010000
END:STANDARD
BEGIN:DAYLIGHT
TZOFFSETFROM:+0100
TZOFFSETTO:+0200
TZNAME:CEST
DTSTART:20240331T010000
END:DAYLIGHT
BEGIN:STANDARD
TZOFFSETFROM:+0200
TZOFFSETTO:+0100
TZNAME:CET
DTSTART:20241027T010000
END:STANDARD
BEGIN:DAYLIGHT
TZOFFSETFROM:+0100
TZOFFSETTO:+0200
TZNAME:CEST
DTSTART:20250330T010000
END:DAYLIGHT
BEGIN:STANDARD
TZOFFSETFROM:+0200
TZOFFSETTO:+0100
TZNAME:CET
DTSTART:20251026T010000
END:STANDARD
BEGIN:DAYLIGHT
TZOFFSETFROM:+0100
TZOFFSETTO:+0200
TZNAME:CEST
DTSTART:20260329T010000
END:DAYLIGHT
BEGIN:STANDARD
TZOFFSETFROM:+0200
TZOFFSETTO:+0100
TZNAME:CET
DTSTART:20261025T010000
END:STANDARD
END:VTIMEZONE
BEGIN:VEVENT
DTSTART;TZID=Europe/Madrid:20251113T190000
DTEND;TZID=Europe/Madrid:20251113T200000
DTSTAMP:20260420T015934
CREATED:20251029T145338Z
LAST-MODIFIED:20251029T151516Z
UID:10001408-1763060400-1763064000@www.acantilado.es
SUMMARY:Presentación de «Monterosso mon amour» en Barcelona
DESCRIPTION:El jueves 13 de noviembre tendrá lugar una presentación de la novela Monterosso mon amour\, de Ilja Leonard Pfeijffer\, a cargo de la editora Sandra Ollo. El encuentro será en la librería Tòmiris a las 19 h. \n¿Basta con aceptar las cosas como son para sentirse satisfecho? Carmen\, lectora empedernida\, aún no lo tiene claro. Tras una vida decepcionante viajando por el mundo como mujer florero de un diplomático fracasado\, trata de dotar sus días de sentido ejerciendo de voluntaria en una biblioteca pública. El recuerdo fortuito de unas vacaciones que pasó en el Mediterráneo cuando era adolescente\, en las que descubrió el amor\, la lleva a embarcarse en un viaje a Italia para poner el broche final a una historia incompleta y\, así\, dar forma literaria a su pasado. \nMagistral novela sobre la importancia de la fabulación\, ya sea en las páginas de un libro o en la propia biografía\, Monterosso mon amour es una auténtica oda a los letraheridos que hacen de su vida literatura.
URL:https://www.acantilado.es/evento/presentacion-de-monterosso-mon-amour-en-barcelona/
LOCATION:Llibreria Tomiris\, Carrer de Padilla\, 242\, local 2\, Barcelona\, Barcelona\, 08013
CATEGORIES:Presentaciones
ATTACH;FMTTYPE=image/png:https://www.acantilado.es/wp-content/uploads/SANDRA-OLLO-MONTEROSSO-MON-AMOUR-TOMIRIS-2025.png
GEO:41.4058356;2.1773613
X-APPLE-STRUCTURED-LOCATION;VALUE=URI;X-ADDRESS=Llibreria Tomiris Carrer de Padilla 242 local 2 Barcelona Barcelona 08013;X-APPLE-RADIUS=500;X-TITLE=Carrer de Padilla\, 242\, local 2:geo:2.1773613,41.4058356
END:VEVENT
BEGIN:VEVENT
DTSTART;TZID=Europe/Madrid:20250205T190000
DTEND;TZID=Europe/Madrid:20250205T200000
DTSTAMP:20260420T015934
CREATED:20250120T130358Z
LAST-MODIFIED:20250129T121114Z
UID:10001328-1738782000-1738785600@www.acantilado.es
SUMMARY:Isabel Alba presenta «Tortugas» en Barcelona
DESCRIPTION:El miércoles 5 de febrero la escritora Isabel Alba presentará su última novela\, Tortugas\, en la librería Tòmiris a las 19 h. La editora Sandra Ollo y la escritora Marta Carnicero dialogarán con la autora. \nA través de las notas de voz de Sofía\, estudiante de secundaria\, y de sus intercambios con Luna en Instagram\, vamos adentrándonos en la vida de esta adolescente cuyos pilares afectivos son su abuela Estrella\, bióloga\, y su madre Blanca\, médica de Urgencias. Escuchando a Sofía descubriremos sus pensamientos e inquietudes en un mundo dominado por el negacionismo y los discursos de odio\, así como los sinsabores de una vida cotidiana en la que se proyecta la oscura sombra del acoso escolar. Pero también se nos revelará el secreto que comparten Blanca y Estrella\, cuyo descubrimiento distanciará a Sofía de su madre cuando más la necesita. Recreando con maestría y viveza la realidad de la que está hecha la vida de los más jóvenes\, Isabel Alba urde una novela de formación rica en voces y emociones. \nIsabel Alba es escritora\, fotógrafa y guionista. Licenciada en filosofía por la Universidad Complutense de Madrid\, reside en Donostia. Ha publicado dos ensayos sobre narrativa cinematográfica y cinco novelas: Baby spot (2003)\, La verdadera historia de Matías Bran. El recinto Weiser (2011)—con la que fue finalista del Premio Euskadi de Literatura—\, 65 % agua (2014)\, La danza del sol (2018\, Acantilado)\, La ventana (2022\, Acantilado) y Tortugas (2024).
URL:https://www.acantilado.es/evento/isabel-alba-presenta-tortugas-en-barcelona/
LOCATION:Llibreria Tomiris\, Carrer de Padilla\, 242\, local 2\, Barcelona\, Barcelona\, 08013
CATEGORIES:Presentaciones
GEO:41.4058356;2.1773613
X-APPLE-STRUCTURED-LOCATION;VALUE=URI;X-ADDRESS=Llibreria Tomiris Carrer de Padilla 242 local 2 Barcelona Barcelona 08013;X-APPLE-RADIUS=500;X-TITLE=Carrer de Padilla\, 242\, local 2:geo:2.1773613,41.4058356
END:VEVENT
BEGIN:VEVENT
DTSTART;TZID=Europe/Madrid:20240612T190000
DTEND;TZID=Europe/Madrid:20240612T200000
DTSTAMP:20260420T015934
CREATED:20240529T085032Z
LAST-MODIFIED:20240529T085032Z
UID:10001233-1718218800-1718222400@www.acantilado.es
SUMMARY:Josep Maria Esquirol presenta «La escuela del alma» en Barcelona
DESCRIPTION:Josep Maria Esquirol presentará La escuela del alma el próximo miércoles 12 de junio. El evento será en la librería Tòmiris a las 19 h. \n\nLa escuela del alma es una fascinante invitación para descubrir\, partiendo de los cimientos de la educación\, el horizonte de una vida madura\, fecunda y espiritual. Paso a paso las realidades que nombran palabras como lugar\, enseñanza\, compañía\, atención\, mundo\, cuidado\, contemplación\, creación… van iluminando el camino con luz propia y nos descubren nuevos sentidos: cada ser humano se nos revela como origen\, y el encuentro\, como «un alma que toca otra alma». Una vez más\, Josep Maria Esquirol\, en su búsqueda de la esencia de las cosas\, nos plantea una propuesta luminosa y esperanzada en tiempos de desorientación\, una conspiración singularísima\, la orden filosófica del amor. \n\nJosep Maria Esquirol es catedrático de Filosofía de la Universidad de Barcelona\, donde da clases de Filosofía Contemporánea y dirige el grupo de investigación Aporia\, dedicado a la relación entre filosofía y psiquiatría. Ha publicado cerca de un centenar de artículos en revistas especializadas y una docena de libros. Especialmente en La resistencia íntima (Acantilado\, 2015)—que recibió los premios Ciutat de Barcelona y Nacional de Ensayo—\, junto con La penúltima bondad (Acantilado\, 2018) y Humano\, más humano (Acantilado\, 2021)\, traducidos al italiano\, portugués\, inglés y alemán\, el autor ha articulado su «filosofía de la proximidad». Acantilado también ha publicado La escuela del alma (2024).
URL:https://www.acantilado.es/evento/josep-maria-esquirol-presenta-la-escuela-del-alma-en-barcelona/
LOCATION:Llibreria Tomiris\, Carrer de Padilla\, 242\, local 2\, Barcelona\, Barcelona\, 08013
CATEGORIES:Presentaciones
GEO:41.4058356;2.1773613
X-APPLE-STRUCTURED-LOCATION;VALUE=URI;X-ADDRESS=Llibreria Tomiris Carrer de Padilla 242 local 2 Barcelona Barcelona 08013;X-APPLE-RADIUS=500;X-TITLE=Carrer de Padilla\, 242\, local 2:geo:2.1773613,41.4058356
END:VEVENT
BEGIN:VEVENT
DTSTART;TZID=Europe/Madrid:20240606T190000
DTEND;TZID=Europe/Madrid:20240606T200000
DTSTAMP:20260420T015934
CREATED:20240522T135346Z
LAST-MODIFIED:20240522T135423Z
UID:10001222-1717700400-1717704000@www.acantilado.es
SUMMARY:Mauricio Wiesenthal presenta «Las reinas del mar» en Barcelona
DESCRIPTION:Mauricio Wiesenthal presentará su última obra\, Las reinas del mar\, el próximo jueves 6 de junio. El evento será en la librería Tòmiris a las 19 h. La editora Sandra Ollo acompañará al autor. \n \n\n«Quizá debo comenzar explicando que mi vida de escritor ha sido bastante aventurera\, más divertida y laboriosa que segura\, y mucho más arriesgada y tormentosa que rentable. Tampoco es raro\, si pensamos que el oficio de escribir es quehacer de horizonte: quesoñar de cielo\, como las navegaciones». En esta fascinante epopeya—a veces memoria feliz\, crónica de mil viajes narrados en escenarios de novela y de cine—Mauricio Wiesenthal nos embarca a bordo de legendarios navíos\, repletos de historias románticas\, de amores\, de lugares y de vidas apasionantes cuya memoria recupera este viajero empedernido. Las reinas del mar nos descubre que lo mejor de la travesía no reside en el regreso al puerto seguro del hogar\, sino en las personas\, las experiencias y los relatos que atesoramos a lo largo del viaje de la vida\, un teatro infinito con un escenario siempre cambiante. \n\nMauricio Wiesenthal (Barcelona\, 1943)\, además de escritor\, ha sido profesor de Historia de la Cultura y conferenciante invitado en varias universidades. Entre sus obras destacan los ensayos La belle époque del Orient Express (1979) e Imagen de España (1984) y la novela El testamento de Nobel (1985). Su pensamiento y su estilo literario son herederos del gran legado cultural europeo\, tradición en la que se inscribe su «Trilogía europea» (Libro de Réquiems\, 2004; El esnobismo de las golondrinas\, 2007; y Luz de vísperas\, 2008). En esta editorial han aparecido Siguiendo mi camino (2013)\, Rainer Maria Rilke (2015)\, La hispanibundia (2018)\, Orient-Express (2020)\, El derecho a disentir (2021) y Las reinas del mar (2024).
URL:https://www.acantilado.es/evento/mauricio-wiesenthal-presenta-las-reinas-del-mar-en-barcelona/
LOCATION:Llibreria Tomiris\, Carrer de Padilla\, 242\, local 2\, Barcelona\, Barcelona\, 08013
CATEGORIES:Presentaciones
GEO:41.4058356;2.1773613
X-APPLE-STRUCTURED-LOCATION;VALUE=URI;X-ADDRESS=Llibreria Tomiris Carrer de Padilla 242 local 2 Barcelona Barcelona 08013;X-APPLE-RADIUS=500;X-TITLE=Carrer de Padilla\, 242\, local 2:geo:2.1773613,41.4058356
END:VEVENT
BEGIN:VEVENT
DTSTART;TZID=Europe/Madrid:20240513T190000
DTEND;TZID=Europe/Madrid:20240513T200000
DTSTAMP:20260420T015934
CREATED:20240506T130951Z
LAST-MODIFIED:20240507T090801Z
UID:10001199-1715626800-1715630400@www.acantilado.es
SUMMARY:Club de lectura sobre «El apuesto capitán» con Pedro Olalla en Barcelona
DESCRIPTION:El lunes\, 13 de mayo\, tendrá lugar un club de lectura sobre El apuesto capitán que contará con la participación del traductor de la obra\, Pedro Olalla. El evento tendrá lugar en la Librería Tòmiris de Barcelona a las 19 h. \n \n\n¿Por qué la jerarquía militar se niega a conceder un ascenso a un joven y apuesto capitán? ¿Y qué lleva al venerable magistrado\, encargado de llevar su caso\, a sentirse fascinado por el militar? Mientras el capitán se marchita esperando—con una porfía heroica y desconcertante—la resolución en los laberínticos pasillos del tribunal\, el juez no deja de ascender en la judicatura. Menis Koumandareas nos traslada a las entrañas del Ejército y el Consejo Militar griegos de la década de 1960 para recrear el horror que conduciría a la Dictadura de los Coroneles y descubrirnos la corrupción y la decadencia de unas instituciones que tan sólo son un medio para satisfacer las ambiciones personales de sus integrantes más deshonestos. Un relato absorbente en forma de pesadilla kafkiana. \n\nPedro Olalla (Asturias\, 1966) es escritor\, helenista\, profesor\, traductor y cineasta\, afincado en Atenas desde 1994. Su obra literaria y audiovisual explora y da a conocer la cultura griega y humanista combinando elementos literarios\, plásticos y científicos mediante un lenguaje marcadamente personal. Por el conjunto de su obra y por su labor en la promoción de la cultura griega ha recibido\, entre otros importantes reconocimientos\, los títulos de Embajador del Helenismo (Estado griego)\, Caballero de la Orden del Mérito Civil (Estado español) y Miembro Asociado del Centro de Estudios Helénicos de la Universidad de Harvard. En Acantilado ha publicado los ensayos Historia menor de Grecia (2012)\, Grecia en el aire (2015)\, De senectute politica (2018) y Palabras del Egeo (2022)\, la edición conmemorativa Cervantes y Grecia (2016) y las traducciones de Lirio y serpiente (2013)\, de Nikos Kazantzakis\, y El apuesto capitán (2024)\, de Menis Koumandareas.
URL:https://www.acantilado.es/evento/club-de-lectura-sobre-el-apuesto-capitan-con-pedro-olalla-en-barcelona/
LOCATION:Llibreria Tomiris\, Carrer de Padilla\, 242\, local 2\, Barcelona\, Barcelona\, 08013
CATEGORIES:Club de lectura
GEO:41.4058356;2.1773613
X-APPLE-STRUCTURED-LOCATION;VALUE=URI;X-ADDRESS=Llibreria Tomiris Carrer de Padilla 242 local 2 Barcelona Barcelona 08013;X-APPLE-RADIUS=500;X-TITLE=Carrer de Padilla\, 242\, local 2:geo:2.1773613,41.4058356
END:VEVENT
BEGIN:VEVENT
DTSTART;TZID=Europe/Madrid:20231109T190000
DTEND;TZID=Europe/Madrid:20231109T200000
DTSTAMP:20260420T015934
CREATED:20231025T080444Z
LAST-MODIFIED:20231025T090926Z
UID:10001114-1699556400-1699560000@www.acantilado.es
SUMMARY:Rafael Argullol presenta «Danza humana» en Barcelona
DESCRIPTION:El escritor Rafael Argullol presentará su reciente libro Danza humana el jueves 9 de noviembre a las 19 h en la librería Tòmiris. El autor estará acompañado de la editora Sandra Ollo. \nRafael Argullol ha escrito más de treinta libros\, entre los que se cuentan novelas\, ensayos y poemarios. Además\, ha intervenido en diversos proyectos teatrales y cinematográficos. Como profesor\, ha enseñado en universidades europeas y estadounidenses. Colaborador habitual en diarios y revistas\, con frecuencia ha vincu­lado su faceta de viajero y su estética literaria. Ha sido galardonado con el Premio Nadal en 1993 por La razón del mal\, el Premio de Ensayo Casa de América en 2002 por Una educación sensorial\, los Premios Cálamo y Ciutat de Barcelona en 2010 por Visión desde el fondo del mar y el Observatorio Achtall de Ensayo en 2015. Acantilado ha emprendido la publicación de toda su obra.
URL:https://www.acantilado.es/evento/rafael-argullol-presenta-danza-humana-en-barcelona-2/
LOCATION:Llibreria Tomiris\, Carrer de Padilla\, 242\, local 2\, Barcelona\, Barcelona\, 08013
CATEGORIES:Presentaciones
GEO:41.4058356;2.1773613
X-APPLE-STRUCTURED-LOCATION;VALUE=URI;X-ADDRESS=Llibreria Tomiris Carrer de Padilla 242 local 2 Barcelona Barcelona 08013;X-APPLE-RADIUS=500;X-TITLE=Carrer de Padilla\, 242\, local 2:geo:2.1773613,41.4058356
END:VEVENT
BEGIN:VEVENT
DTSTART;TZID=Europe/Madrid:20230329T190000
DTEND;TZID=Europe/Madrid:20230329T200000
DTSTAMP:20260420T015934
CREATED:20230316T114142Z
LAST-MODIFIED:20230322T105803Z
UID:10001044-1680116400-1680120000@www.acantilado.es
SUMMARY:Manel Ollé presenta «Islas de plata\, imperios de seda» en Barcelona
DESCRIPTION:El escritor Manel Ollé presentará su último libro\, Islas de plata\, imperios de seda\, el miércoles 29 de marzo a las 19 h en la librería Tòmiris. El autor conversará con el investigador y profesor Joan-Pau Rubiés. \nManel Ollé (1962)\, profesor de literatura y de historia de Asia Oriental en la Universidad Pompeu Fabra de Barcelona\, ha traducido\, junto a Chün Chin\, una selección de los cuentos de Pu Songling y de Mianmian. Es crítico literario en varios medios de comunicación y miembro del Instituto Universitario de Historia Jaume Vicens Vives y de la Escuela de Estudios de Asia Oriental. Ha publicado en Acantilado La empresa de China. De la Armada Invencible al Galeón de Manila (2002) e Islas de plata\, imperios de seda. Juncos y galeones en los Mares del Sur (2022).
URL:https://www.acantilado.es/evento/manel-olle-presenta-islas-de-plata-imperios-de-seda-en-barcelona/
LOCATION:Llibreria Tomiris\, Carrer de Padilla\, 242\, local 2\, Barcelona\, Barcelona\, 08013
CATEGORIES:Presentaciones
GEO:41.4058356;2.1773613
X-APPLE-STRUCTURED-LOCATION;VALUE=URI;X-ADDRESS=Llibreria Tomiris Carrer de Padilla 242 local 2 Barcelona Barcelona 08013;X-APPLE-RADIUS=500;X-TITLE=Carrer de Padilla\, 242\, local 2:geo:2.1773613,41.4058356
END:VEVENT
BEGIN:VEVENT
DTSTART;TZID=Europe/Madrid:20220525T190000
DTEND;TZID=Europe/Madrid:20220525T200000
DTSTAMP:20260420T015934
CREATED:20220517T094251Z
LAST-MODIFIED:20220517T094251Z
UID:10000957-1653505200-1653508800@www.acantilado.es
SUMMARY:Jesús del Campo presenta «Panfleto de Kronborg» en la librería Tòmiris de Barcelona
DESCRIPTION:El próximo miércoles 25 de mayo el escritor Jesús del Campo presentará el ensayo Panfleto de Kronborg en la librería Tòmiris a las 19 h. El autor estará acompañado de la editora Sandra Ollo. \n\n\n\n\nJesús del Campo (Gijón\, 1956) es doctor en Filología por la Universidad de Oviedo\, donde ha trabajado como profesor de Lengua y Literatura Inglesas. Ha traducido a varios autores de novela negra y clásicos de la literatura inglesa\, como Canción de Navidad\, de Dickens\, al castellano. Desde la aparición de su aclamada primera novela\, Los diarios clandestinos de Blancanieves (2001)\, ha publicado libros de viajes\, novelas y colecciones de relatos que se han traducido a diversas lenguas.
URL:https://www.acantilado.es/evento/jesus-del-campo-presenta-panfleto-de-kronborg-en-la-libreria-tomiris-de-barcelona/
LOCATION:Llibreria Tomiris\, Carrer de Padilla\, 242\, local 2\, Barcelona\, Barcelona\, 08013
CATEGORIES:Presentaciones
GEO:41.4058356;2.1773613
X-APPLE-STRUCTURED-LOCATION;VALUE=URI;X-ADDRESS=Llibreria Tomiris Carrer de Padilla 242 local 2 Barcelona Barcelona 08013;X-APPLE-RADIUS=500;X-TITLE=Carrer de Padilla\, 242\, local 2:geo:2.1773613,41.4058356
END:VEVENT
BEGIN:VEVENT
DTSTART;TZID=Europe/Madrid:20211118T183000
DTEND;TZID=Europe/Madrid:20211118T193000
DTSTAMP:20260420T015934
CREATED:20211115T113410Z
LAST-MODIFIED:20211115T160407Z
UID:10000921-1637260200-1637263800@www.acantilado.es
SUMMARY:Charla sobre «Grand Hotel Europa» con Sandra Ollo en Barcelona
DESCRIPTION:Sandra Ollo nos hablará acerca de la novela Grand Hotel Europa de Ilja Leonard Pfeijffer el próximo jueves a las 19 h en la librería Tomiris. \nEntrada libre con inscripción (tomiris@tomirisllibreria.com). \nMientras se documenta para un libro sobre el turismo de masas\, un escritor llamado Ilja Leonard Pfeijffer sufre una dolorosa ruptura sentimental y decide dejarlo todo para poner orden en sus recuerdos. El lugar que elige para su retiro es el Grand Hotel Europa\, un establecimiento de pasado ilustre y futuro incierto habitado por un elenco de personajes estrambóticos. El autor se impone la tarea de reconstruir por escrito su explosiva relación con Clío\, una historiadora del arte italiana con una audaz teoría sobre el último cuadro de Caravaggio\, y a medida que él avanza en su cometido incrementa su fascinación por los misterios del hotel. Las conversaciones con los demás huéspedes\, entretanto\, lo llevan a reflexionar sobre la decadencia del Viejo Continente. Grand Hotel Europa es una monumental novela que dialoga sotto voce con grandes pensadores y escritores europeos\, desde Virgilio\, Horacio o Séneca\, pasando por Dante\, hasta Thomas Mann y George Steiner.
URL:https://www.acantilado.es/evento/charla-sobre-grand-hotel-europa-con-sandra-ollo/
LOCATION:Llibreria Tomiris\, Carrer de Padilla\, 242\, local 2\, Barcelona\, Barcelona\, 08013
CATEGORIES:Coloquio / Diálogo,Evento
GEO:41.4058356;2.1773613
X-APPLE-STRUCTURED-LOCATION;VALUE=URI;X-ADDRESS=Llibreria Tomiris Carrer de Padilla 242 local 2 Barcelona Barcelona 08013;X-APPLE-RADIUS=500;X-TITLE=Carrer de Padilla\, 242\, local 2:geo:2.1773613,41.4058356
END:VEVENT
END:VCALENDAR