BEGIN:VCALENDAR
VERSION:2.0
PRODID:-//ACANTILADO - ECPv6.15.18//NONSGML v1.0//EN
CALSCALE:GREGORIAN
METHOD:PUBLISH
X-WR-CALNAME:ACANTILADO
X-ORIGINAL-URL:https://www.acantilado.es
X-WR-CALDESC:Eventos para ACANTILADO
REFRESH-INTERVAL;VALUE=DURATION:PT1H
X-Robots-Tag:noindex
X-PUBLISHED-TTL:PT1H
BEGIN:VTIMEZONE
TZID:Europe/Madrid
BEGIN:DAYLIGHT
TZOFFSETFROM:+0100
TZOFFSETTO:+0200
TZNAME:CEST
DTSTART:20170326T010000
END:DAYLIGHT
BEGIN:STANDARD
TZOFFSETFROM:+0200
TZOFFSETTO:+0100
TZNAME:CET
DTSTART:20171029T010000
END:STANDARD
BEGIN:DAYLIGHT
TZOFFSETFROM:+0100
TZOFFSETTO:+0200
TZNAME:CEST
DTSTART:20180325T010000
END:DAYLIGHT
BEGIN:STANDARD
TZOFFSETFROM:+0200
TZOFFSETTO:+0100
TZNAME:CET
DTSTART:20181028T010000
END:STANDARD
BEGIN:DAYLIGHT
TZOFFSETFROM:+0100
TZOFFSETTO:+0200
TZNAME:CEST
DTSTART:20190331T010000
END:DAYLIGHT
BEGIN:STANDARD
TZOFFSETFROM:+0200
TZOFFSETTO:+0100
TZNAME:CET
DTSTART:20191027T010000
END:STANDARD
END:VTIMEZONE
BEGIN:VEVENT
DTSTART;TZID=Europe/Madrid:20180522T193000
DTEND;TZID=Europe/Madrid:20180522T210000
DTSTAMP:20260420T180927
CREATED:20180425T143637Z
LAST-MODIFIED:20180425T143637Z
UID:10000630-1527017400-1527022800@www.acantilado.es
SUMMARY:Presentación de 'La penúltima bondad' en Valencia
DESCRIPTION:Josep Maria Esquirol presentará su último ensayo\, La penúltima bondad\, en la librería Ramon Llull de Valencia. \nEste ensayo aborda de un modo sutil e inesperado los «infinitivos esenciales» del ser humano: vivir\, pensar y amar. Y constituye\, sin duda\, una valiosa aportación filosófica\, desarrollada a partir del concepto de «repliegue del sentir». El estilo singular del autor va calando serena pero tenazmente\, como una fina lluvia\, proponiéndonos un revelador itinerario a través de páginas dedicadas a la conmoción\, el deseo\, la creación\, la amistad\, la revolución y el agradecimiento. Y desde el comienzo nos anticipa lo más nuclear: «Aquí\, en las afueras\, la génesis y la degeneración\, la vida y la muerte\, lo humano y lo inhumano—ya que sólo el humano puede ser inhumano—\, la proximidad y la indiferencia. Aquí\, en las afueras\, el mal es muy profundo\, pero la bondad todavía lo es más. Aquí\, en las afueras\, nada tiene más sentido que el amparo y la generosidad. Aquí\, en las afueras\, no sólo vivimos\, sino que somos capaces de vida».
URL:https://www.acantilado.es/evento/presentacion-de-la-penultima-bondad-en-valencia/
LOCATION:Llibreria Ramon Llull\, Carrer de la Corona\, 5\, Valencia\, Valencia\, 46003\, España
CATEGORIES:Presentaciones
GEO:39.4776746;-0.381135
X-APPLE-STRUCTURED-LOCATION;VALUE=URI;X-ADDRESS=Llibreria Ramon Llull Carrer de la Corona 5 Valencia Valencia 46003 España;X-APPLE-RADIUS=500;X-TITLE=Carrer de la Corona\, 5:geo:-0.381135,39.4776746
END:VEVENT
BEGIN:VEVENT
DTSTART;TZID=Europe/Madrid:20180517T193000
DTEND;TZID=Europe/Madrid:20180517T210000
DTSTAMP:20260420T180927
CREATED:20180425T143414Z
LAST-MODIFIED:20180425T143414Z
UID:10000629-1526585400-1526590800@www.acantilado.es
SUMMARY:Presentación de 'Peregrinos de la belleza' en Valencia
DESCRIPTION:María Belmonte\, autora de Los senderos del mar\, presentará su primer libro\, Peregrinos de la belleza\, en la librería valenciana Ramon Llull. \nA partir del siglo XVIII Italia y Grecia se convirtieron en lugares de culto y peregrinación obligada de los aristócratas jóvenes\, cuya educación se consideraba incompleta hasta visitar la cuna de la cultura occidental para contemplar in situ algunos de sus mayores logros. Fue una tradición conocida como el Grand Tour\, y a ella contribuyeron definitivamente obras como Viaje a Italia de Goethe\, una de las primeras que atestigua la honda impresión que causaron los paisajes y las esencias mediterráneas en los habitantes de las tierras del norte. La impronta de aquellos viajeros precursores ha perdurado hasta nuestros días\, y a sus últimos exponentes dedica la autora este libro: «A lo largo de los años\, fruto de lecturas y búsquedas incesantes\, fui conociendo a los personajes que aparecen en este libro\, a los que he llamado “peregrinos de la belleza”. Ellos han sido mis sagaces e ilustrados mentores\, quienes han agudizado mi mirada\, ensanchado mi percepción y guiado mis pasos por el Mediterráneo». \n 
URL:https://www.acantilado.es/evento/presentacion-de-peregrinos-de-la-belleza-en-valencia/
LOCATION:Llibreria Ramon Llull\, Carrer de la Corona\, 5\, Valencia\, Valencia\, 46003\, España
CATEGORIES:Presentaciones
GEO:39.4776746;-0.381135
X-APPLE-STRUCTURED-LOCATION;VALUE=URI;X-ADDRESS=Llibreria Ramon Llull Carrer de la Corona 5 Valencia Valencia 46003 España;X-APPLE-RADIUS=500;X-TITLE=Carrer de la Corona\, 5:geo:-0.381135,39.4776746
END:VEVENT
END:VCALENDAR