BEGIN:VCALENDAR
VERSION:2.0
PRODID:-//ACANTILADO - ECPv6.15.18//NONSGML v1.0//EN
CALSCALE:GREGORIAN
METHOD:PUBLISH
X-ORIGINAL-URL:https://www.acantilado.es
X-WR-CALDESC:Eventos para ACANTILADO
REFRESH-INTERVAL;VALUE=DURATION:PT1H
X-Robots-Tag:noindex
X-PUBLISHED-TTL:PT1H
BEGIN:VTIMEZONE
TZID:Europe/Madrid
BEGIN:DAYLIGHT
TZOFFSETFROM:+0100
TZOFFSETTO:+0200
TZNAME:CEST
DTSTART:20230326T010000
END:DAYLIGHT
BEGIN:STANDARD
TZOFFSETFROM:+0200
TZOFFSETTO:+0100
TZNAME:CET
DTSTART:20231029T010000
END:STANDARD
BEGIN:DAYLIGHT
TZOFFSETFROM:+0100
TZOFFSETTO:+0200
TZNAME:CEST
DTSTART:20240331T010000
END:DAYLIGHT
BEGIN:STANDARD
TZOFFSETFROM:+0200
TZOFFSETTO:+0100
TZNAME:CET
DTSTART:20241027T010000
END:STANDARD
BEGIN:DAYLIGHT
TZOFFSETFROM:+0100
TZOFFSETTO:+0200
TZNAME:CEST
DTSTART:20250330T010000
END:DAYLIGHT
BEGIN:STANDARD
TZOFFSETFROM:+0200
TZOFFSETTO:+0100
TZNAME:CET
DTSTART:20251026T010000
END:STANDARD
END:VTIMEZONE
BEGIN:VEVENT
DTSTART;TZID=Europe/Madrid:20241030T190000
DTEND;TZID=Europe/Madrid:20241030T200000
DTSTAMP:20260420T111730
CREATED:20241028T151917Z
LAST-MODIFIED:20241028T151917Z
UID:10001299-1730314800-1730318400@www.acantilado.es
SUMMARY:Peter Stamm presenta «El archivo de los sentimientos» en Barcelona
DESCRIPTION:Peter Stamm presentará su último libro\, El archivo de los sentimientos\, el próximo miércoles 30 octubre. El evento será en la librería Ona a las 19 h. El autor estará acompañado por el periodista y escritor Jordi Nopca. \n\nUn documentalista ha consagrado años de su vida a construir en casa un archivo inmenso donde poner en orden su mundo. Uno de los archivadores que guarda con celo está dedicado a Franziska—alias Fabienne\, una cantante famosa—y pesa nada más y nada menos que dos kilos\, el peso de un amor que no languidece. Cuando\, finalmente\, el narrador se decide a retomar el contacto con ella\, tras décadas distanciados\, pone en peligro su existencia\, desdichada pero pacífica\, de demiurgo moderno: ¿podrá conservar intacto el amor que siente por Franziska\, resguardarlo del paso del tiempo como los expedientes del archivo? Peter Stamm busca respuesta a esta y otras preguntas inescrutables urdiendo una singular historia de amor que desbarata\, con sentido del humor y ternura\, los códigos de la novela sentimental. \n\nPeter Stamm (Weinfelden\, 1963) estudió Filología Inglesa\, Psicología\, Psicopatología e Informática en Zúrich. Ha vivido largas temporadas en París\, Nueva York y los países escandinavos. Desde 1990 se dedica a la literatura. Ha escrito cinco obras de teatro y colabora habitualmente en la radio y la televisión. Desde 1997 es redactor de la revista literaria Entwürfe für Literatur. Acantilado ha publicado sus novelas Agnes (2001)\, Paisaje aproximado (2003)\, Tal día como hoy (2007)\, Siete años (2011)\, Noche es el día (2016)\, Monte a través (2019) y El archivo de los sentimientos (2024)\, la novela corta Marcia de Vermont (2020) y los libros de relatos Lluvia de hielo (2002)\, En jardines ajenos (2006)\, Los voladores (2010) y A espaldas del lago (2014).
URL:https://www.acantilado.es/evento/peter-stamm-presenta-el-archivo-de-los-sentimientos-en-barcelona-2/
LOCATION:Llibreria Ona\, Carrer de Pau Claris\, Barcelona\, Barcelona\, 08010\, Spain
CATEGORIES:Presentaciones
GEO:41.390411;2.1705896
X-APPLE-STRUCTURED-LOCATION;VALUE=URI;X-ADDRESS=Llibreria Ona Carrer de Pau Claris Barcelona Barcelona 08010 Spain;X-APPLE-RADIUS=500;X-TITLE=Carrer de Pau Claris:geo:2.1705896,41.390411
END:VEVENT
END:VCALENDAR