BEGIN:VCALENDAR
VERSION:2.0
PRODID:-//ACANTILADO - ECPv6.15.18//NONSGML v1.0//EN
CALSCALE:GREGORIAN
METHOD:PUBLISH
X-WR-CALNAME:ACANTILADO
X-ORIGINAL-URL:https://www.acantilado.es
X-WR-CALDESC:Eventos para ACANTILADO
REFRESH-INTERVAL;VALUE=DURATION:PT1H
X-Robots-Tag:noindex
X-PUBLISHED-TTL:PT1H
BEGIN:VTIMEZONE
TZID:Europe/Madrid
BEGIN:DAYLIGHT
TZOFFSETFROM:+0100
TZOFFSETTO:+0200
TZNAME:CEST
DTSTART:20210328T010000
END:DAYLIGHT
BEGIN:STANDARD
TZOFFSETFROM:+0200
TZOFFSETTO:+0100
TZNAME:CET
DTSTART:20211031T010000
END:STANDARD
BEGIN:DAYLIGHT
TZOFFSETFROM:+0100
TZOFFSETTO:+0200
TZNAME:CEST
DTSTART:20220327T010000
END:DAYLIGHT
BEGIN:STANDARD
TZOFFSETFROM:+0200
TZOFFSETTO:+0100
TZNAME:CET
DTSTART:20221030T010000
END:STANDARD
BEGIN:DAYLIGHT
TZOFFSETFROM:+0100
TZOFFSETTO:+0200
TZNAME:CEST
DTSTART:20230326T010000
END:DAYLIGHT
BEGIN:STANDARD
TZOFFSETFROM:+0200
TZOFFSETTO:+0100
TZNAME:CET
DTSTART:20231029T010000
END:STANDARD
END:VTIMEZONE
BEGIN:VEVENT
DTSTART;TZID=Europe/Madrid:20220922T183000
DTEND;TZID=Europe/Madrid:20220922T193000
DTSTAMP:20260421T135216
CREATED:20220825T124205Z
LAST-MODIFIED:20220920T081025Z
UID:10000988-1663871400-1663875000@www.acantilado.es
SUMMARY:Isabel Soler presenta «Magallanes & Co.» en Barcelona
DESCRIPTION:El jueves 22 de septiembre la escritora Isabel Soler presentará su último libro\, Magallanes & Co.\, en conversación con el catedrático Josep Maria Fradera. En la librería Altaïr de Barcelona a las 18:30 h. \nIsabel Soler (Barcelona\, 1964) es profesora de Literatura y Cultura Portuguesas en la Universidad de Barcelona y especialista en literatura de viajes del período renacentista\, al que ha dedicado diversos estudios y ediciones. Acantilado ha publicado El nudo y la esfera (2003)\, Los mares náufragos (2004)\, Derrota de Vasco de Gama (2011)\, El sueño del rey (2015)\, Miguel de Cervantes: los años de Argel (2016) y Magallanes & Co. (2022)\, además de su edición de Carta del descubrimiento de Brasil (2008) y de los Diálogos de Roma de Francisco de Holanda (2018). Asimismo\, ha traducido para esta editorial las obras del novelista y ensayista portugués Vergílio Ferreira.
URL:https://www.acantilado.es/evento/isabel-soler-presenta-magallanes-co-en-barcelona/
LOCATION:Llibreria Altaïr\, Gran Via de les Corts Catalanes\, 616\, Barcelona\, Barcelona\, 08007
CATEGORIES:Presentaciones
GEO:41.3876218;2.1665452
X-APPLE-STRUCTURED-LOCATION;VALUE=URI;X-ADDRESS=Llibreria Altaïr Gran Via de les Corts Catalanes 616 Barcelona Barcelona 08007;X-APPLE-RADIUS=500;X-TITLE=Gran Via de les Corts Catalanes\, 616:geo:2.1665452,41.3876218
END:VEVENT
END:VCALENDAR