BEGIN:VCALENDAR
VERSION:2.0
PRODID:-//ACANTILADO - ECPv6.15.18//NONSGML v1.0//EN
CALSCALE:GREGORIAN
METHOD:PUBLISH
X-WR-CALNAME:ACANTILADO
X-ORIGINAL-URL:https://www.acantilado.es
X-WR-CALDESC:Eventos para ACANTILADO
REFRESH-INTERVAL;VALUE=DURATION:PT1H
X-Robots-Tag:noindex
X-PUBLISHED-TTL:PT1H
BEGIN:VTIMEZONE
TZID:Europe/Madrid
BEGIN:DAYLIGHT
TZOFFSETFROM:+0100
TZOFFSETTO:+0200
TZNAME:CEST
DTSTART:20160327T010000
END:DAYLIGHT
BEGIN:STANDARD
TZOFFSETFROM:+0200
TZOFFSETTO:+0100
TZNAME:CET
DTSTART:20161030T010000
END:STANDARD
BEGIN:DAYLIGHT
TZOFFSETFROM:+0100
TZOFFSETTO:+0200
TZNAME:CEST
DTSTART:20170326T010000
END:DAYLIGHT
BEGIN:STANDARD
TZOFFSETFROM:+0200
TZOFFSETTO:+0100
TZNAME:CET
DTSTART:20171029T010000
END:STANDARD
BEGIN:DAYLIGHT
TZOFFSETFROM:+0100
TZOFFSETTO:+0200
TZNAME:CEST
DTSTART:20180325T010000
END:DAYLIGHT
BEGIN:STANDARD
TZOFFSETFROM:+0200
TZOFFSETTO:+0100
TZNAME:CET
DTSTART:20181028T010000
END:STANDARD
BEGIN:DAYLIGHT
TZOFFSETFROM:+0100
TZOFFSETTO:+0200
TZNAME:CEST
DTSTART:20190331T010000
END:DAYLIGHT
BEGIN:STANDARD
TZOFFSETFROM:+0200
TZOFFSETTO:+0100
TZNAME:CET
DTSTART:20191027T010000
END:STANDARD
BEGIN:DAYLIGHT
TZOFFSETFROM:+0100
TZOFFSETTO:+0200
TZNAME:CEST
DTSTART:20200329T010000
END:DAYLIGHT
BEGIN:STANDARD
TZOFFSETFROM:+0200
TZOFFSETTO:+0100
TZNAME:CET
DTSTART:20201025T010000
END:STANDARD
BEGIN:DAYLIGHT
TZOFFSETFROM:+0100
TZOFFSETTO:+0200
TZNAME:CEST
DTSTART:20210328T010000
END:DAYLIGHT
BEGIN:STANDARD
TZOFFSETFROM:+0200
TZOFFSETTO:+0100
TZNAME:CET
DTSTART:20211031T010000
END:STANDARD
BEGIN:DAYLIGHT
TZOFFSETFROM:+0100
TZOFFSETTO:+0200
TZNAME:CEST
DTSTART:20220327T010000
END:DAYLIGHT
BEGIN:STANDARD
TZOFFSETFROM:+0200
TZOFFSETTO:+0100
TZNAME:CET
DTSTART:20221030T010000
END:STANDARD
BEGIN:DAYLIGHT
TZOFFSETFROM:+0100
TZOFFSETTO:+0200
TZNAME:CEST
DTSTART:20230326T010000
END:DAYLIGHT
BEGIN:STANDARD
TZOFFSETFROM:+0200
TZOFFSETTO:+0100
TZNAME:CET
DTSTART:20231029T010000
END:STANDARD
BEGIN:DAYLIGHT
TZOFFSETFROM:+0100
TZOFFSETTO:+0200
TZNAME:CEST
DTSTART:20240331T010000
END:DAYLIGHT
BEGIN:STANDARD
TZOFFSETFROM:+0200
TZOFFSETTO:+0100
TZNAME:CET
DTSTART:20241027T010000
END:STANDARD
BEGIN:DAYLIGHT
TZOFFSETFROM:+0100
TZOFFSETTO:+0200
TZNAME:CEST
DTSTART:20250330T010000
END:DAYLIGHT
BEGIN:STANDARD
TZOFFSETFROM:+0200
TZOFFSETTO:+0100
TZNAME:CET
DTSTART:20251026T010000
END:STANDARD
BEGIN:DAYLIGHT
TZOFFSETFROM:+0100
TZOFFSETTO:+0200
TZNAME:CEST
DTSTART:20260329T010000
END:DAYLIGHT
BEGIN:STANDARD
TZOFFSETFROM:+0200
TZOFFSETTO:+0100
TZNAME:CET
DTSTART:20261025T010000
END:STANDARD
END:VTIMEZONE
BEGIN:VEVENT
DTSTART;TZID=Europe/Madrid:20251017T190000
DTEND;TZID=Europe/Madrid:20251017T200000
DTSTAMP:20260416T062711
CREATED:20251014T110439Z
LAST-MODIFIED:20251014T112132Z
UID:10001400-1760727600-1760731200@www.acantilado.es
SUMMARY:Encuentro con Isabel Soler en Benicàssim
DESCRIPTION:El viernes 17 de octubre a las 19 h la escritora Isabel Soler participará en el encuentro Afinidades Electivas que organiza la librería Noviembre. La autora conversará con el escritor Albert Sánchez-Piñol. Moderará Lourdes Rubio. \nIsabel Soler (Barcelona\, 1964) es profesora de Literatura y Cultura Portuguesas en la Universidad de Barcelona y especialista en literatura de viajes del período renacentista\, al que ha dedicado diversos estudios y ediciones. Acantilado ha publicado El nudo y la esfera (2003)\, Los mares náufragos (2004)\, Derrota de Vasco de Gama (2011)\, El sueño del rey (2015)\, Miguel de Cervantes: los años de Argel (2016) y Magallanes & Co. (2022)\, además de su edición de Carta del descubrimiento de Brasil (2008) y de los Diálogos de Roma de Francisco de Holanda (2018). Asimismo\, ha traducido para esta editorial las obras del novelista y ensayista portugués Vergílio Ferreira.
URL:https://www.acantilado.es/evento/encuentro-con-isabel-soler-en-benicassim/
LOCATION:Librería Noviembre\, Carrer Mestre J. Segarra\, 3B\, Benicàssim\, Castelló\, 12560
CATEGORIES:Coloquio / Diálogo,Encuentro
ATTACH;FMTTYPE=image/png:https://www.acantilado.es/wp-content/uploads/ISABEL-SOLER-LIBRERIA-NOVIEMBRE-2025.png
ORGANIZER;CN="Librer%C3%ADa Noviembre":MAILTO:info@librerianoviembre.com
GEO:40.053461;0.061631
X-APPLE-STRUCTURED-LOCATION;VALUE=URI;X-ADDRESS=Librería Noviembre Carrer Mestre J. Segarra 3B Benicàssim Castelló 12560;X-APPLE-RADIUS=500;X-TITLE=Carrer Mestre J. Segarra\, 3B:geo:0.061631,40.053461
END:VEVENT
BEGIN:VEVENT
DTSTART;TZID=Europe/Madrid:20240411T193000
DTEND;TZID=Europe/Madrid:20240411T203000
DTSTAMP:20260416T062711
CREATED:20240405T092529Z
LAST-MODIFIED:20240408T131421Z
UID:10001170-1712863800-1712867400@www.acantilado.es
SUMMARY:Encuentro con Antonio Monegal en Castellón
DESCRIPTION:El jueves\, 11 de abril\, Éric Gras y Antonio Monegal comentarán Como el aire que respiramos y El silencio de la guerra. El evento se celebrará en la librería Noviembre a las 19:30 h. \n \nAntonio Monegal (Barcelona\, 1957) es catedrático de Teoría de la Literatura y Literatura Comparada en la Universidad Pompeu Fabra. Licenciado en Filosofía por la Universidad de Barcelona\, se doctoró en Harvard en 1989 y ejerció la docencia en Cornell University hasta su regreso a España. Es autor de los libros Luis Buñuel de la literatura al cine (1993) y En los límites de la diferencia. Poesía e imagen en las vanguardias hispánicas (1998)\, editor de las obras de García Lorca Viaje a la luna (1994) y El público y El sueño de la vida (2000)\, y coordinador de las antologías Literatura y pintura (2000) y Política y (po)ética de las imágenes de guerra (2007).
URL:https://www.acantilado.es/evento/encuentro-con-antonio-monegal-en-castellon/
LOCATION:Librería Noviembre\, Carrer Mestre J. Segarra\, 3B\, Benicàssim\, Castelló\, 12560
CATEGORIES:Encuentro
GEO:40.053461;0.061631
X-APPLE-STRUCTURED-LOCATION;VALUE=URI;X-ADDRESS=Librería Noviembre Carrer Mestre J. Segarra 3B Benicàssim Castelló 12560;X-APPLE-RADIUS=500;X-TITLE=Carrer Mestre J. Segarra\, 3B:geo:0.061631,40.053461
END:VEVENT
BEGIN:VEVENT
DTSTART;TZID=Europe/Madrid:20230916T190000
DTEND;TZID=Europe/Madrid:20230916T200000
DTSTAMP:20260416T062711
CREATED:20230802T094818Z
LAST-MODIFIED:20230912T112313Z
UID:10001088-1694890800-1694894400@www.acantilado.es
SUMMARY:Encuentro con Joan Benesiu en Benicàssim
DESCRIPTION:Joan Benesiu\, autor de Seremos Atlántida\, conversará con Marta Sanz el próximo sábado 16 de septiembre en la librería Noviembre a las 19 h. Modera Lourdes Rubio. \nEste acto forma parte del ciclo Afinidades electivas. \nJoan Benesiu (Beneixama\, 1971) es autor\, además de Seremos Atlántida\, de numerosos relatos y de la novela Gegants de gel (2015)\, galardonada con los premios Llibreter y Crexells de narrativa en lengua catalana. Ha colaborado además en el opúsculo cultural L’Esca así como en la revista Manual de Uso Cultural.
URL:https://www.acantilado.es/evento/encuentro-con-joan-benesiu-en-benicassim/
LOCATION:Librería Noviembre\, Carrer Mestre J. Segarra\, 3B\, Benicàssim\, Castelló\, 12560
CATEGORIES:Encuentro
GEO:40.053461;0.061631
X-APPLE-STRUCTURED-LOCATION;VALUE=URI;X-ADDRESS=Librería Noviembre Carrer Mestre J. Segarra 3B Benicàssim Castelló 12560;X-APPLE-RADIUS=500;X-TITLE=Carrer Mestre J. Segarra\, 3B:geo:0.061631,40.053461
END:VEVENT
BEGIN:VEVENT
DTSTART;TZID=Europe/Madrid:20221125T190000
DTEND;TZID=Europe/Madrid:20221125T200000
DTSTAMP:20260416T062711
CREATED:20221116T105003Z
LAST-MODIFIED:20221116T105003Z
UID:10001019-1669402800-1669406400@www.acantilado.es
SUMMARY:Manuel Astur presenta «La aurora cuando surge» en Benicàssim
DESCRIPTION:El viernes 25 de noviembre el escritor Manuel Astur presentará su último libro\, La aurora cuando surge\, en la librería Noviembre de Benicàssim a las 19 h. El autor estará acompañado del poeta Javier Vicedo Alós. \nManuel Astur (Sama de Grado\, 1980) es escritor\, poeta y editor. Ha impartido cursos de literatura en distintas escuelas y colabora asiduamente con artículos\, reseñas y columnas en diversos medios. Fue editor de la revista cultural madrileña Arto! Ha publicado relatos en varias antologías\, así como el poemario Y encima es mi cumpleaños (2013)\, las novelas Quince días para acabar con el mundo (2014) y San\, el libro de los milagros (Acantilado\, 2020)\, y los ensayos Seré un anciano hermoso en un gran país (2016) y La aurora cuando surge (Acantilado\, 2022). En 2017 fue elegido una de las «Diez nuevas voces más interesantes del continente europeo» en el marco del proyecto Literary Europe Live.
URL:https://www.acantilado.es/evento/manuel-astur-presenta-la-aurora-cuando-surge-en-benicassim-2/
LOCATION:Librería Noviembre\, Carrer Mestre J. Segarra\, 3B\, Benicàssim\, Castelló\, 12560
CATEGORIES:Presentaciones
ORGANIZER;CN="Librer%C3%ADa Noviembre":MAILTO:info@librerianoviembre.com
GEO:40.053461;0.061631
X-APPLE-STRUCTURED-LOCATION;VALUE=URI;X-ADDRESS=Librería Noviembre Carrer Mestre J. Segarra 3B Benicàssim Castelló 12560;X-APPLE-RADIUS=500;X-TITLE=Carrer Mestre J. Segarra\, 3B:geo:0.061631,40.053461
END:VEVENT
BEGIN:VEVENT
DTSTART;TZID=Europe/Madrid:20221015T190000
DTEND;TZID=Europe/Madrid:20221015T200000
DTSTAMP:20260416T062711
CREATED:20221006T124917Z
LAST-MODIFIED:20221010T082712Z
UID:10000998-1665860400-1665864000@www.acantilado.es
SUMMARY:[EVENTO POSPUESTO] Manuel Astur presenta «La aurora cuando surge» en Benicàssim
DESCRIPTION:Evento pospuesto. Próximamente más información. \nEl escritor Manuel Astur presentará su último libro\, La aurora cuando surge\, en la Librería Noviembre. Presenta al autor el poeta Javier Vicedo Alós. \nManuel Astur (Sama de Grado\, 1980) es escritor\, poeta y editor. Ha impartido cursos de literatura en distintas escuelas y colabora asiduamente con artículos\, reseñas y columnas en diversos medios. Fue editor de la revista cultural madrileña Arto! Ha publicado relatos en varias antologías\, así como el poemario Y encima es mi cumpleaños (2013)\, las novelas Quince días para acabar con el mundo (2014) y San\, el libro de los milagros (Acantilado\, 2020)\, y los ensayos Seré un anciano hermoso en un gran país (2016) y La aurora cuando surge (Acantilado\, 2022). En 2017 fue elegido una de las «Diez nuevas voces más interesantes del continente europeo» en el marco del proyecto Literary Europe Live.
URL:https://www.acantilado.es/evento/manuel-astur-presenta-la-aurora-cuando-surge-en-benicassim/
LOCATION:Librería Noviembre\, Carrer Mestre J. Segarra\, 3B\, Benicàssim\, Castelló\, 12560
CATEGORIES:Presentaciones
ORGANIZER;CN="Librer%C3%ADa Noviembre":MAILTO:info@librerianoviembre.com
GEO:40.053461;0.061631
X-APPLE-STRUCTURED-LOCATION;VALUE=URI;X-ADDRESS=Librería Noviembre Carrer Mestre J. Segarra 3B Benicàssim Castelló 12560;X-APPLE-RADIUS=500;X-TITLE=Carrer Mestre J. Segarra\, 3B:geo:0.061631,40.053461
END:VEVENT
BEGIN:VEVENT
DTSTART;TZID=Europe/Madrid:20220608T193000
DTEND;TZID=Europe/Madrid:20220608T203000
DTSTAMP:20260416T062711
CREATED:20220523T141210Z
LAST-MODIFIED:20220523T141210Z
UID:10000971-1654716600-1654720200@www.acantilado.es
SUMMARY:Pedro Olalla presenta «Palabras del Egeo» en Benicàssim
DESCRIPTION:El próximo miércoles 8 de junio el escritor Pedro Olalla presentará su último ensayo\, Palabras del Egeo. El autor conversará con Ana Ovando\, profesora de griego antiguo y promotora de la cultura griega. En la librería Noviembre de Benicàssim a las 19:30 h. \nPedro Olalla (Asturias\, 1966) es escritor\, helenista\, profesor\, traductor y cineasta\, afincado en Atenas desde 1994. Su obra literaria y audiovisual explora y da a conocer la cultura griega y humanista combinando elementos literarios\, plásticos y científicos mediante un lenguaje marcadamente personal. Por el conjunto de su obra y por su labor en la promoción de la cultura griega ha recibido\, entre otros importantes reconocimientos\, los títulos de Embajador del Helenismo (Estado griego)\, Caballero de la Orden del Mérito Civil (Estado español) y Miembro Asociado del Centro de Estudios Helénicos de la Universidad de Harvard. En Acantilado ha publicado los ensayos Historia menor de Grecia (2012)\, Grecia en el aire (2015)\, De senectute politica (2018) y Palabras del Egeo (2022)\, la edición conmemorativa Cervantes y Grecia (2016) y la traducción de Lirio y serpiente (2013)\, de Nikos Kazantzakis.
URL:https://www.acantilado.es/evento/pedro-olalla-presenta-palabras-del-egeo-en-benicassim/
LOCATION:Librería Noviembre\, Carrer Mestre J. Segarra\, 3B\, Benicàssim\, Castelló\, 12560
CATEGORIES:Presentaciones
GEO:40.053461;0.061631
X-APPLE-STRUCTURED-LOCATION;VALUE=URI;X-ADDRESS=Librería Noviembre Carrer Mestre J. Segarra 3B Benicàssim Castelló 12560;X-APPLE-RADIUS=500;X-TITLE=Carrer Mestre J. Segarra\, 3B:geo:0.061631,40.053461
END:VEVENT
BEGIN:VEVENT
DTSTART;TZID=Europe/Madrid:20220304T190000
DTEND;TZID=Europe/Madrid:20220304T200000
DTSTAMP:20260416T062711
CREATED:20220223T130331Z
LAST-MODIFIED:20220228T130911Z
UID:10000939-1646420400-1646424000@www.acantilado.es
SUMMARY:Encuentro literario con María Belmonte en Benicàssim
DESCRIPTION:La escritora María Belmonte presentará su último libro\, En tierra de Dioniso\, el próximo viernes 4 de marzo a las 19 h en la librería Noviembre de Benicàssim. \nMaría Belmonte Barrenechea nació en Bilbao; estudió Historia en la Universidad de Deusto y Antropología en la Autónoma de Barcelona. En 1995 se doctoró en el Departamento de Antropología Social de la Universidad del País Vasco (San Sebastián) con una tesis sobre Historia de las Religiones. Ejerce profesionalmente como traductora técnico-literaria. Ha publicado en Acantilado Peregrinos de la belleza. Viajeros por Italia y Grecia (2015)\, Los senderos del mar. Un viaje a pie (2017) y En tierra de Dioniso. Vagabundeos por el norte de Grecia (2021). Ha vivido en diversas ciudades\, en una isla mediterránea y\, actualmente\, reside en Font-Rubí (Barcelona).
URL:https://www.acantilado.es/evento/encuentro-literario-con-maria-belmonte-en-benicassim/
LOCATION:Librería Noviembre\, Carrer Mestre J. Segarra\, 3B\, Benicàssim\, Castelló\, 12560
CATEGORIES:Presentaciones
ORGANIZER;CN="Librer%C3%ADa Noviembre":MAILTO:info@librerianoviembre.com
GEO:40.053461;0.061631
X-APPLE-STRUCTURED-LOCATION;VALUE=URI;X-ADDRESS=Librería Noviembre Carrer Mestre J. Segarra 3B Benicàssim Castelló 12560;X-APPLE-RADIUS=500;X-TITLE=Carrer Mestre J. Segarra\, 3B:geo:0.061631,40.053461
END:VEVENT
BEGIN:VEVENT
DTSTART;TZID=Europe/Madrid:20210925T190000
DTEND;TZID=Europe/Madrid:20210925T200000
DTSTAMP:20260416T062711
CREATED:20210827T090320Z
LAST-MODIFIED:20210827T093850Z
UID:10000899-1632596400-1632600000@www.acantilado.es
SUMMARY:Encuentro literario con Josep Maria Esquirol en Benicàssim
DESCRIPTION:El próximo sábado 25 de septiembre tendrá lugar un encuentro literario entre Josep Maria Esquirol y Beatriz Montañez. Presentará: Lourdes Rubio. A las 19 h en la Librería Noviembre. \nEste acto forma parte del programa Afinidades Electivas del Ministerio de Cultura. \nJosep Maria Esquirol es catedrático de Filosofía de la Universidad de Barcelona\, donde da clases de Filosofía Contemporánea y dirige el grupo de investigación Aporia\, dedicado a la relación entre filosofía y psiquiatría. Ha publicado cerca de un centenar de artículos en revistas especializadas\, y una docena de libros\, entre los cuales destacan Uno mismo y los otros (2005)\, El respeto o la mirada atenta (2006)\, El respirar de los días (2009)\, Los filósofos contemporáneos y la técnica (2011) y\, muy especialmente\, La resistencia íntima (Acantilado\, 2015)\, que recibió los premios Ciutat de Barcelona y Nacional de Ensayo\, y se ha traducido al italiano\, portugués\, inglés y alemán; La penúltima bondad (Acantilado\, 2018) y Humano\, más humano (Acantilado\, 2021).
URL:https://www.acantilado.es/evento/encuentro-literario-con-josep-maria-esquirol-en-benicassim/
LOCATION:Librería Noviembre\, Carrer Mestre J. Segarra\, 3B\, Benicàssim\, Castelló\, 12560
CATEGORIES:Coloquio / Diálogo
ORGANIZER;CN="Librer%C3%ADa Noviembre":MAILTO:info@librerianoviembre.com
GEO:40.053461;0.061631
X-APPLE-STRUCTURED-LOCATION;VALUE=URI;X-ADDRESS=Librería Noviembre Carrer Mestre J. Segarra 3B Benicàssim Castelló 12560;X-APPLE-RADIUS=500;X-TITLE=Carrer Mestre J. Segarra\, 3B:geo:0.061631,40.053461
END:VEVENT
BEGIN:VEVENT
DTSTART;TZID=Europe/Madrid:20171110T190000
DTEND;TZID=Europe/Madrid:20171110T200000
DTSTAMP:20260416T062711
CREATED:20171031T115544Z
LAST-MODIFIED:20171031T135702Z
UID:10000579-1510340400-1510344000@www.acantilado.es
SUMMARY:Presentación de 'Los senderos del mar' en Benicàssim
DESCRIPTION:María Belmonte presentará su segundo libro\, Los senderos del mar\, en la librería Noviembre\, en el centro de Benicàssim. \nAcompañada de Aristóteles\, Goethe\, Victor Hugo\, Darwin\, Jane Austen y tantos otros escritores\, pintores o aventureros\, la autora nos invita a realizar una travesía por la costa vasca. Un viaje sentimental a los lugares de la adolescencia se transforma en una exploración de los viejos caminos costeros\, un recorrido por la historia humana y geológica\, grabada de un modo particularmente revelador en los paisajes y las piedras de la costa\, el primigenio umbral donde se encuentran dos mundos. Un texto inspirador que nos propone observar la naturaleza y deleitarnos en ella\, contemplar los matices de la vida en estado puro y sentir su hondo latido.
URL:https://www.acantilado.es/evento/presentacion-los-senderos-del-mar-benicassim/
LOCATION:Librería Noviembre\, Carrer Mestre J. Segarra\, 3B\, Benicàssim\, Castelló\, 12560
CATEGORIES:Presentaciones
ORGANIZER;CN="Editorial Acantilado":MAILTO:info@acantilado.es
GEO:40.053461;0.061631
X-APPLE-STRUCTURED-LOCATION;VALUE=URI;X-ADDRESS=Librería Noviembre Carrer Mestre J. Segarra 3B Benicàssim Castelló 12560;X-APPLE-RADIUS=500;X-TITLE=Carrer Mestre J. Segarra\, 3B:geo:0.061631,40.053461
END:VEVENT
END:VCALENDAR