BEGIN:VCALENDAR
VERSION:2.0
PRODID:-//ACANTILADO - ECPv6.15.18//NONSGML v1.0//EN
CALSCALE:GREGORIAN
METHOD:PUBLISH
X-WR-CALNAME:ACANTILADO
X-ORIGINAL-URL:https://www.acantilado.es
X-WR-CALDESC:Eventos para ACANTILADO
REFRESH-INTERVAL;VALUE=DURATION:PT1H
X-Robots-Tag:noindex
X-PUBLISHED-TTL:PT1H
BEGIN:VTIMEZONE
TZID:Europe/Madrid
BEGIN:DAYLIGHT
TZOFFSETFROM:+0100
TZOFFSETTO:+0200
TZNAME:CEST
DTSTART:20220327T010000
END:DAYLIGHT
BEGIN:STANDARD
TZOFFSETFROM:+0200
TZOFFSETTO:+0100
TZNAME:CET
DTSTART:20221030T010000
END:STANDARD
BEGIN:DAYLIGHT
TZOFFSETFROM:+0100
TZOFFSETTO:+0200
TZNAME:CEST
DTSTART:20230326T010000
END:DAYLIGHT
BEGIN:STANDARD
TZOFFSETFROM:+0200
TZOFFSETTO:+0100
TZNAME:CET
DTSTART:20231029T010000
END:STANDARD
BEGIN:DAYLIGHT
TZOFFSETFROM:+0100
TZOFFSETTO:+0200
TZNAME:CEST
DTSTART:20240331T010000
END:DAYLIGHT
BEGIN:STANDARD
TZOFFSETFROM:+0200
TZOFFSETTO:+0100
TZNAME:CET
DTSTART:20241027T010000
END:STANDARD
END:VTIMEZONE
BEGIN:VEVENT
DTSTART;TZID=Europe/Madrid:20231218T180000
DTEND;TZID=Europe/Madrid:20231218T190000
DTSTAMP:20260420T144542
CREATED:20231214T081813Z
LAST-MODIFIED:20231214T081813Z
UID:10001127-1702922400-1702926000@www.acantilado.es
SUMMARY:Club de lectura de «Búscame» con Gregorio Casamayor en Madrid
DESCRIPTION:El próximo lunes 18 de diciembre a las 18 h tendrá lugar un club de lectura de Búscame en la librería Crazy Mary & Co de Madrid. El acto contará con la participación del autor Gregorio Casamayor. \nUna mañana lluviosa\, el fotógrafo Paul Knobel encuentra un diario íntimo en una parada de taxis de Brooklyn. Mientras lo examina\, el cuaderno se abre por azar en la entrada del 5 de julio\, donde puede leerse una enigmática frase que traslada a Paul al último verano que pasó con su madre en Cape Cod. Acaso por esta coincidencia\, el fotógrafo se pone en marcha para devolver el diario a su legítima propietaria\, aunque ello le suponga enfrentarse a sus propios fantasmas. Gregorio Casamayor construye en Búscame un relato coral que nos permitirá adentrarnos en la vida de Paul Knobel\, en la de su ayudante\, Rufus\, en la de la autora del diario\, Gloria Graham\, y en la de su hija\, así como en la del resto de personajes que conforman su universo. Una novela de tintes detectivescos que se revela como un relato certero sobre la identidad\, los vínculos afectivos y las segundas oportunidades que nos brinda el azar.
URL:https://www.acantilado.es/evento/club-de-lectura-de-buscame-con-gregorio-casamayor-en-madrid/
LOCATION:Librería Crazy Mary & Co\, c/ de Echegaray\, 32\, Madrid\, Madrid\, 28014\, España
CATEGORIES:Club de lectura
ATTACH;FMTTYPE=image/png:https://www.acantilado.es/wp-content/uploads/CASAMAYOR-CRAZY-MARY-2023-CLUB-LECTURA.png
GEO:40.4139263;-3.6995789
X-APPLE-STRUCTURED-LOCATION;VALUE=URI;X-ADDRESS=Librería Crazy Mary & Co c/ de Echegaray 32 Madrid Madrid 28014 España;X-APPLE-RADIUS=500;X-TITLE=c/ de Echegaray\, 32:geo:-3.6995789,40.4139263
END:VEVENT
END:VCALENDAR