BEGIN:VCALENDAR
VERSION:2.0
PRODID:-//ACANTILADO - ECPv6.15.18//NONSGML v1.0//EN
CALSCALE:GREGORIAN
METHOD:PUBLISH
X-WR-CALNAME:ACANTILADO
X-ORIGINAL-URL:https://www.acantilado.es
X-WR-CALDESC:Eventos para ACANTILADO
REFRESH-INTERVAL;VALUE=DURATION:PT1H
X-Robots-Tag:noindex
X-PUBLISHED-TTL:PT1H
BEGIN:VTIMEZONE
TZID:Europe/Madrid
BEGIN:DAYLIGHT
TZOFFSETFROM:+0100
TZOFFSETTO:+0200
TZNAME:CEST
DTSTART:20200329T010000
END:DAYLIGHT
BEGIN:STANDARD
TZOFFSETFROM:+0200
TZOFFSETTO:+0100
TZNAME:CET
DTSTART:20201025T010000
END:STANDARD
BEGIN:DAYLIGHT
TZOFFSETFROM:+0100
TZOFFSETTO:+0200
TZNAME:CEST
DTSTART:20210328T010000
END:DAYLIGHT
BEGIN:STANDARD
TZOFFSETFROM:+0200
TZOFFSETTO:+0100
TZNAME:CET
DTSTART:20211031T010000
END:STANDARD
BEGIN:DAYLIGHT
TZOFFSETFROM:+0100
TZOFFSETTO:+0200
TZNAME:CEST
DTSTART:20220327T010000
END:DAYLIGHT
BEGIN:STANDARD
TZOFFSETFROM:+0200
TZOFFSETTO:+0100
TZNAME:CET
DTSTART:20221030T010000
END:STANDARD
BEGIN:DAYLIGHT
TZOFFSETFROM:+0100
TZOFFSETTO:+0200
TZNAME:CEST
DTSTART:20230326T010000
END:DAYLIGHT
BEGIN:STANDARD
TZOFFSETFROM:+0200
TZOFFSETTO:+0100
TZNAME:CET
DTSTART:20231029T010000
END:STANDARD
END:VTIMEZONE
BEGIN:VEVENT
DTSTART;TZID=Europe/Madrid:20220308T183000
DTEND;TZID=Europe/Madrid:20220308T193000
DTSTAMP:20260419T233202
CREATED:20220228T123337Z
LAST-MODIFIED:20220228T123337Z
UID:10000948-1646764200-1646767800@www.acantilado.es
SUMMARY:Gregorio Casamayor presenta «Estás muerto\, y tú lo sabes» en Barcelona
DESCRIPTION:El escritor Gregorio Casamayor presentará su última novela\, Estás muerto\, y tú lo sabes\, en La Model de Barcelona el próximo martes 8 de marzo a las 18:30 h. El autor estará acompañado de Òscar Carreño. \nGregorio Casamayor (Cañadajuncosa\, Cuenca\, 1955) es autor de un libro de relatos cortos\, Borrón y cuenta nueva (2005). Acantilado ha publicado sus novelas La sopa de Dios (2009)—Premio Memorial Silverio Cañada 2010 a la mejor primera novela de la Semana Negra de Gijón—\, La vida y las muertes de Ethel Jurado (2011)\, Otra vida en la maleta (2012)—escrita con A.G. Porta—y Los días rotos (2018).
URL:https://www.acantilado.es/evento/gregorio-casamayor-presenta-estas-muerto-y-tu-lo-sabes-en-barcelona-2/
LOCATION:La Model\, C/ d'Entença\, 155\, Barcelona\, Barcelona\, 08029
CATEGORIES:Presentaciones
GEO:41.3830019;2.1448017
X-APPLE-STRUCTURED-LOCATION;VALUE=URI;X-ADDRESS=La Model C/ d'Entença 155 Barcelona Barcelona 08029;X-APPLE-RADIUS=500;X-TITLE=C/ d'Entença\, 155:geo:2.1448017,41.3830019
END:VEVENT
BEGIN:VEVENT
DTSTART;TZID=Europe/Madrid:20211222T190000
DTEND;TZID=Europe/Madrid:20211222T200000
DTSTAMP:20260419T233202
CREATED:20211216T111311Z
LAST-MODIFIED:20211220T110924Z
UID:10000932-1640199600-1640203200@www.acantilado.es
SUMMARY:[EVENTO POSPUESTO] Gregorio Casamayor presenta «Estás muerto\, y tú lo sabes» en Barcelona
DESCRIPTION:[EVENTO POSPUESTO] \nEl escritor Gregorio Casamayor presentará su última novela\, Estás muerto\, y tú lo sabes\, en La Model de Barcelona. El autor estará acompañado de Òscar Carreño. \nGregorio Casamayor (Cañadajuncosa\, Cuenca\, 1955) es autor de un libro de relatos cortos\, Borrón y cuenta nueva (2005). Acantilado ha publicado sus novelas La sopa de Dios (2009)—Premio Memorial Silverio Cañada 2010 a la mejor primera novela de la Semana Negra de Gijón—\, La vida y las muertes de Ethel Jurado (2011)\, Otra vida en la maleta (2012)—escrita con A.G. Porta—y Los días rotos (2018).
URL:https://www.acantilado.es/evento/gregorio-casamayor-presenta-estas-muerto-y-tu-lo-sabes-en-barcelona/
LOCATION:La Model\, C/ d'Entença\, 155\, Barcelona\, Barcelona\, 08029
CATEGORIES:Presentaciones
GEO:41.3830019;2.1448017
X-APPLE-STRUCTURED-LOCATION;VALUE=URI;X-ADDRESS=La Model C/ d'Entença 155 Barcelona Barcelona 08029;X-APPLE-RADIUS=500;X-TITLE=C/ d'Entença\, 155:geo:2.1448017,41.3830019
END:VEVENT
END:VCALENDAR