BEGIN:VCALENDAR
VERSION:2.0
PRODID:-//ACANTILADO - ECPv6.15.18//NONSGML v1.0//EN
CALSCALE:GREGORIAN
METHOD:PUBLISH
X-ORIGINAL-URL:https://www.acantilado.es
X-WR-CALDESC:Eventos para ACANTILADO
REFRESH-INTERVAL;VALUE=DURATION:PT1H
X-Robots-Tag:noindex
X-PUBLISHED-TTL:PT1H
BEGIN:VTIMEZONE
TZID:Europe/Madrid
BEGIN:DAYLIGHT
TZOFFSETFROM:+0100
TZOFFSETTO:+0200
TZNAME:CEST
DTSTART:20170326T010000
END:DAYLIGHT
BEGIN:STANDARD
TZOFFSETFROM:+0200
TZOFFSETTO:+0100
TZNAME:CET
DTSTART:20171029T010000
END:STANDARD
BEGIN:DAYLIGHT
TZOFFSETFROM:+0100
TZOFFSETTO:+0200
TZNAME:CEST
DTSTART:20180325T010000
END:DAYLIGHT
BEGIN:STANDARD
TZOFFSETFROM:+0200
TZOFFSETTO:+0100
TZNAME:CET
DTSTART:20181028T010000
END:STANDARD
BEGIN:DAYLIGHT
TZOFFSETFROM:+0100
TZOFFSETTO:+0200
TZNAME:CEST
DTSTART:20190331T010000
END:DAYLIGHT
BEGIN:STANDARD
TZOFFSETFROM:+0200
TZOFFSETTO:+0100
TZNAME:CET
DTSTART:20191027T010000
END:STANDARD
BEGIN:DAYLIGHT
TZOFFSETFROM:+0100
TZOFFSETTO:+0200
TZNAME:CEST
DTSTART:20200329T010000
END:DAYLIGHT
BEGIN:STANDARD
TZOFFSETFROM:+0200
TZOFFSETTO:+0100
TZNAME:CET
DTSTART:20201025T010000
END:STANDARD
BEGIN:DAYLIGHT
TZOFFSETFROM:+0100
TZOFFSETTO:+0200
TZNAME:CEST
DTSTART:20210328T010000
END:DAYLIGHT
BEGIN:STANDARD
TZOFFSETFROM:+0200
TZOFFSETTO:+0100
TZNAME:CET
DTSTART:20211031T010000
END:STANDARD
BEGIN:DAYLIGHT
TZOFFSETFROM:+0100
TZOFFSETTO:+0200
TZNAME:CEST
DTSTART:20220327T010000
END:DAYLIGHT
BEGIN:STANDARD
TZOFFSETFROM:+0200
TZOFFSETTO:+0100
TZNAME:CET
DTSTART:20221030T010000
END:STANDARD
BEGIN:DAYLIGHT
TZOFFSETFROM:+0100
TZOFFSETTO:+0200
TZNAME:CEST
DTSTART:20230326T010000
END:DAYLIGHT
BEGIN:STANDARD
TZOFFSETFROM:+0200
TZOFFSETTO:+0100
TZNAME:CET
DTSTART:20231029T010000
END:STANDARD
BEGIN:DAYLIGHT
TZOFFSETFROM:+0100
TZOFFSETTO:+0200
TZNAME:CEST
DTSTART:20240331T010000
END:DAYLIGHT
BEGIN:STANDARD
TZOFFSETFROM:+0200
TZOFFSETTO:+0100
TZNAME:CET
DTSTART:20241027T010000
END:STANDARD
BEGIN:DAYLIGHT
TZOFFSETFROM:+0100
TZOFFSETTO:+0200
TZNAME:CEST
DTSTART:20250330T010000
END:DAYLIGHT
BEGIN:STANDARD
TZOFFSETFROM:+0200
TZOFFSETTO:+0100
TZNAME:CET
DTSTART:20251026T010000
END:STANDARD
BEGIN:DAYLIGHT
TZOFFSETFROM:+0100
TZOFFSETTO:+0200
TZNAME:CEST
DTSTART:20260329T010000
END:DAYLIGHT
BEGIN:STANDARD
TZOFFSETFROM:+0200
TZOFFSETTO:+0100
TZNAME:CET
DTSTART:20261025T010000
END:STANDARD
END:VTIMEZONE
BEGIN:VEVENT
DTSTART;TZID=Europe/Madrid:20251009T193000
DTEND;TZID=Europe/Madrid:20251009T203000
DTSTAMP:20260419T070605
CREATED:20251008T100902Z
LAST-MODIFIED:20251008T100902Z
UID:10001398-1760038200-1760041800@www.acantilado.es
SUMMARY:Conversación con María Belmonte en Barcelona
DESCRIPTION:El jueves 9 de octubre a las 19:30 h tendrá lugar una conversación entre María Belmonte y Xavi Ayén titulada «Las ciudades de la Antigüedad Clásica en mi obra» en el Hotel Alma de Barcelona. \nMaría Belmonte Barrenechea estudió Historia en la Universidad de Deusto y Antropología en la Autónoma de Barcelona. En 1995 se doctoró en el Departamento de Antropología Social de la Universidad del País Vasco (San Sebastián) con una tesis sobre Historia de las Religiones. Ejerce profesionalmente como traductora técnico-literaria. Ha publicado en Acantilado «Peregrinos de la belleza. Viajeros por Italia y Grecia» (2015)\, «Los senderos del mar. Un viaje a pie» (2017)\, «En tierra de Dioniso. Vagabundeos por el norte de Grecia» (2021) y «El murmullo del agua. Fuentes\, jardines y divinidades acuáticas» (2024).
URL:https://www.acantilado.es/evento/conversacion-con-maria-belmonte-en-barcelona/
LOCATION:Hotel Alma Barcelona\, Mallorca\, 271\, Barcelona\, Barcelona\, 08008\, España
CATEGORIES:Coloquio / Diálogo
ATTACH;FMTTYPE=image/jpeg:https://www.acantilado.es/wp-content/uploads/MARIA-BELMONTE-web.jpg
ORGANIZER;CN="Hotel Alma Barcelona":MAILTO:reservations@almabarcelona.com
END:VEVENT
BEGIN:VEVENT
DTSTART;TZID=Europe/Madrid:20251008T193000
DTEND;TZID=Europe/Madrid:20251008T203000
DTSTAMP:20260419T070605
CREATED:20251008T100600Z
LAST-MODIFIED:20251008T100600Z
UID:10001397-1759951800-1759955400@www.acantilado.es
SUMMARY:Conversación con Mauricio Wiesenthal en Barcelona
DESCRIPTION:El miércoles 8 de octubre a las 19:30 h tendrá lugar una conversación entre Mauricio Wiesenthal y Alberto Ojeda titulada «Las ciudades del mundo en mi obra» en el Hotel Alma de Barcelona. \nMauricio Wiesenthal (Barcelona\, 1943)\, además de escritor\, ha sido profesor de Historia de la Cultura y conferenciante invitado en varias universidades. Entre sus obras destacan los ensayos «La belle époque del Orient Express» (1979) e «Imagen de España» (1984) y la novela «El testamento de Nobel» (1985). Su pensamiento y su estilo literario son herederos del gran legado cultural europeo\, tradición en la que se inscribe su Trilogía europea («Libro de Réquiems»\, 2004; «El esnobismo de las golondrinas»\, 2007; y «Luz de vísperas»\, 2008). En Acantilado han aparecido «Siguiendo mi camino» (2013)\, «Rainer Maria Rilke» (2015)\, «La hispanibundia» (2018)\, «Orient-Express» (2020)\, «El derecho a disentir» (2021) y «Las reinas del mar» (2024).
URL:https://www.acantilado.es/evento/conversacion-con-mauricio-wiesenthal-en-barcelona/
LOCATION:Hotel Alma Barcelona\, Mallorca\, 271\, Barcelona\, Barcelona\, 08008\, España
CATEGORIES:Coloquio / Diálogo
ATTACH;FMTTYPE=image/png:https://www.acantilado.es/wp-content/uploads/Mauricio-Wiesenthal-web.png
ORGANIZER;CN="Hotel Alma Barcelona":MAILTO:reservations@almabarcelona.com
END:VEVENT
BEGIN:VEVENT
DTSTART;TZID=Europe/Madrid:20190411T190000
DTEND;TZID=Europe/Madrid:20190411T203000
DTSTAMP:20260419T070605
CREATED:20190404T083535Z
LAST-MODIFIED:20190404T083535Z
UID:10000735-1555009200-1555014600@www.acantilado.es
SUMMARY:Nuevo ciclo de «Lecturas expandidas»: «La música como discurso sonoro» de Nikolaus Harnoncourt
DESCRIPTION:La obra La música como discurso sonoro de Nikolaus Harnoncourt protagonizará el octavo ciclo de conferencias de Lecturas expandidas sobre nuestro catálogo musical\, de la mano del doctor Carlos Calderón\, el próximo jueves 11 de abril a las 19:00 horas\, en el Hotel Alma Barcelona.\nEsta conferencia forma parte del bloque «El músico habla». \nDebido a las limitaciones de aforo\, sugerimos que confirmen su asistencia lo antes posible en la siguiente dirección de correo electrónico: events@almahotels.com
URL:https://www.acantilado.es/evento/nuevo-ciclo-de-lecturas-expandidas-la-musica-como-discurso-sonoro-de-nikolaus-harnoncourt/
LOCATION:Hotel Alma Barcelona\, Mallorca\, 271\, Barcelona\, Barcelona\, 08008\, España
CATEGORIES:Conferencias
END:VEVENT
BEGIN:VEVENT
DTSTART;TZID=Europe/Madrid:20181107T190000
DTEND;TZID=Europe/Madrid:20181107T203000
DTSTAMP:20260419T070605
CREATED:20181030T092913Z
LAST-MODIFIED:20181108T153305Z
UID:10000669-1541617200-1541622600@www.acantilado.es
SUMMARY:Nuevo ciclo de «Lecturas expandidas»: 'La novena de Beethoven' de Esteban Buch
DESCRIPTION:La obra La novena de Beethoven de Esteban Buch protagonizará el sexto ciclo de conferencias de Lecturas expandidas sobre nuestro catálogo musical\, de la mano del doctor Carlos Calderón\, el próximo miércoles 7 de noviembre a las 19:00 horas\, dentro del bloque “Los Creadores” en el Hotel Alma Barcelona. \nDebido a las limitaciones de aforo\, sugerimos que confirmen su asistencia lo antes posible en la siguiente dirección de correo electrónico: events@almahotels.com
URL:https://www.acantilado.es/evento/nuevo-ciclo-de-lecturas-expandidas-la-novena-de-beethoven-de-esteban-buch/
LOCATION:Hotel Alma Barcelona\, Mallorca\, 271\, Barcelona\, Barcelona\, 08008\, España
CATEGORIES:Conferencias
ORGANIZER;CN="Hotel Alma Barcelona":MAILTO:reservations@almabarcelona.com
END:VEVENT
BEGIN:VEVENT
DTSTART;TZID=Europe/Madrid:20180716T190000
DTEND;TZID=Europe/Madrid:20180716T213000
DTSTAMP:20260419T070605
CREATED:20180710T094607Z
LAST-MODIFIED:20180710T101340Z
UID:10000595-1531767600-1531776600@www.acantilado.es
SUMMARY:Nuevo ciclo de «Lecturas expandidas»: 'El mundo en el oído'
DESCRIPTION:La obra El mundo en el oído\, de Ramón Andrés\, protagonizará el quinto ciclo de conferencias Lecturas expandidas sobre nuestro catálogo musical\, de la mano del Dr. Carlos Calderón\, el próximo lunes 16 de julio a las 19:00 horas\, dentro del bloque de “Los Creadores” en el Hotel Alma Barcelona. \nDebido a las limitaciones de aforo\, sugerimos que confirmen su asistencia lo antes posible en las siguiente dirección de correo electrónico: events@almahotels.com
URL:https://www.acantilado.es/evento/nuevo-ciclo-de-lecturas-expandidas-el-mundo-en-el-oido/
LOCATION:Hotel Alma Barcelona\, Mallorca\, 271\, Barcelona\, Barcelona\, 08008\, España
CATEGORIES:Conferencias
ATTACH;FMTTYPE=image/jpeg:https://www.acantilado.es/wp-content/uploads/lecturas-expandidas.jpg
ORGANIZER;CN="Hotel Alma Barcelona":MAILTO:reservations@almabarcelona.com
END:VEVENT
BEGIN:VEVENT
DTSTART;TZID=Europe/Madrid:20180503T190000
DTEND;TZID=Europe/Madrid:20180503T213000
DTSTAMP:20260419T070605
CREATED:20180425T141536Z
LAST-MODIFIED:20180425T141536Z
UID:10000626-1525374000-1525383000@www.acantilado.es
SUMMARY:Nuevo ciclo de «Lecturas expandidas»: 'Autorretrato de Mozart'
DESCRIPTION:La obra Autorretrato de Mozart\, de P. A. Balcells\, protagonizará el cuarto ciclo de conferencias Lecturas expandidas sobre nuestro catálogo musical\, de la mano del Dr. Carlos Calderón. \nDebido a las limitaciones de aforo\, sugerimos que confirmen su asistencia lo antes posible en las siguiente dirección de correo electrónico: events@almahotels.com
URL:https://www.acantilado.es/evento/nuevo-ciclo-de-lecturas-expandidas-autorretrato-de-mozart/
LOCATION:Hotel Alma Barcelona\, Mallorca\, 271\, Barcelona\, Barcelona\, 08008\, España
CATEGORIES:Conferencias
ORGANIZER;CN="Hotel Alma Barcelona":MAILTO:reservations@almabarcelona.com
END:VEVENT
BEGIN:VEVENT
DTSTART;TZID=Europe/Madrid:20180321T190000
DTEND;TZID=Europe/Madrid:20180321T210000
DTSTAMP:20260419T070605
CREATED:20180312T143012Z
LAST-MODIFIED:20180314T122056Z
UID:10000614-1521658800-1521666000@www.acantilado.es
SUMMARY:Nuevo ciclo de «Lecturas expandidas»: 'Aspectos de Wagner'
DESCRIPTION:La obra Aspectos de Wagner\, de Bryan Magee\, protagonizará el tercer ciclo de conferencias Lecturas expandidas sobre nuestro catálogo musical\, de la mano del Dr. Carlos Calderón. \nDebido a las limitaciones de aforo\, sugerimos que confirmen su asistencia lo antes posible en las siguiente dirección de correo electrónico: events@almahotels.com
URL:https://www.acantilado.es/evento/nuevo-ciclo-lecturas-expandidas-aspectos-wagner/
LOCATION:Hotel Alma Barcelona\, Mallorca\, 271\, Barcelona\, Barcelona\, 08008\, España
CATEGORIES:Conferencias
ATTACH;FMTTYPE=image/jpeg:https://www.acantilado.es/wp-content/uploads/lecturas-expandidas-hotel-alma-programa3-1.jpg
ORGANIZER;CN="Hotel Alma Barcelona":MAILTO:reservations@almabarcelona.com
END:VEVENT
BEGIN:VEVENT
DTSTART;TZID=Europe/Madrid:20180131T190000
DTEND;TZID=Europe/Madrid:20180131T210000
DTSTAMP:20260419T070605
CREATED:20180123T074549Z
LAST-MODIFIED:20180123T074549Z
UID:10000598-1517425200-1517432400@www.acantilado.es
SUMMARY:Lecturas expandidas: 'De la A a la Z de un pianista'
DESCRIPTION:La obra De la A a la Z de un pianista de Alfred Brendel protagonizará el segundo ciclo de conferencias Lecturas expandidas sobre nuestro catálogo musical\, de la mano del Dr. Carlos Calderón. \nDebido a las limitaciones de aforo\, sugerimos que confirmen su asistencia lo antes posible en las siguiente dirección de correo electrónico: events@almahotels.com
URL:https://www.acantilado.es/evento/lecturas-expandidas-la-la-z-pianista/
LOCATION:Hotel Alma Barcelona\, Mallorca\, 271\, Barcelona\, Barcelona\, 08008\, España
CATEGORIES:Conferencias
ATTACH;FMTTYPE=image/jpeg:https://www.acantilado.es/wp-content/uploads/lecturas-expandidas-hotel-alma-programa2.jpg
ORGANIZER;CN="Hotel Alma Barcelona":MAILTO:reservations@almabarcelona.com
END:VEVENT
END:VCALENDAR