BEGIN:VCALENDAR
VERSION:2.0
PRODID:-//ACANTILADO - ECPv6.15.18//NONSGML v1.0//EN
CALSCALE:GREGORIAN
METHOD:PUBLISH
X-ORIGINAL-URL:https://www.acantilado.es
X-WR-CALDESC:Eventos para ACANTILADO
REFRESH-INTERVAL;VALUE=DURATION:PT1H
X-Robots-Tag:noindex
X-PUBLISHED-TTL:PT1H
BEGIN:VTIMEZONE
TZID:Europe/Madrid
BEGIN:DAYLIGHT
TZOFFSETFROM:+0100
TZOFFSETTO:+0200
TZNAME:CEST
DTSTART:20200329T010000
END:DAYLIGHT
BEGIN:STANDARD
TZOFFSETFROM:+0200
TZOFFSETTO:+0100
TZNAME:CET
DTSTART:20201025T010000
END:STANDARD
BEGIN:DAYLIGHT
TZOFFSETFROM:+0100
TZOFFSETTO:+0200
TZNAME:CEST
DTSTART:20210328T010000
END:DAYLIGHT
BEGIN:STANDARD
TZOFFSETFROM:+0200
TZOFFSETTO:+0100
TZNAME:CET
DTSTART:20211031T010000
END:STANDARD
BEGIN:DAYLIGHT
TZOFFSETFROM:+0100
TZOFFSETTO:+0200
TZNAME:CEST
DTSTART:20220327T010000
END:DAYLIGHT
BEGIN:STANDARD
TZOFFSETFROM:+0200
TZOFFSETTO:+0100
TZNAME:CET
DTSTART:20221030T010000
END:STANDARD
BEGIN:DAYLIGHT
TZOFFSETFROM:+0100
TZOFFSETTO:+0200
TZNAME:CEST
DTSTART:20230326T010000
END:DAYLIGHT
BEGIN:STANDARD
TZOFFSETFROM:+0200
TZOFFSETTO:+0100
TZNAME:CET
DTSTART:20231029T010000
END:STANDARD
END:VTIMEZONE
BEGIN:VEVENT
DTSTART;TZID=Europe/Madrid:20221101T180000
DTEND;TZID=Europe/Madrid:20221101T193000
DTSTAMP:20260415T051242
CREATED:20221024T100909Z
LAST-MODIFIED:20221024T125157Z
UID:10001011-1667325600-1667331000@www.acantilado.es
SUMMARY:Isabel Soler presenta «Magallanes & Co.» en la Feria del Libro de Sevilla
DESCRIPTION:La escritora Isabel Soler presentará su último libro\, Magallanes & Co.\, conversando con el  escritor y periodista Francisco Vázquez Perea. En la Carpa de la Plaza Nueva de la Feria del Libro de Sevilla\, el martes 1 de noviembre a las 18 h. \nA les 19 h\, la autora firmará libros en la caseta de la librería Palas. \nIsabel Soler (Barcelona\, 1964) es profesora de Literatura y Cultura Portuguesas en la Universidad de Barcelona y especialista en literatura de viajes del período renacentista\, al que ha dedicado diversos estudios y ediciones. Acantilado ha publicado El nudo y la esfera (2003)\, Los mares náufragos (2004)\, Derrota de Vasco de Gama (2011)\, El sueño del rey (2015)\, Miguel de Cervantes: los años de Argel (2016) y Magallanes & Co. (2022)\, además de su edición de Carta del descubrimiento de Brasil (2008) y de los Diálogos de Roma de Francisco de Holanda (2018). Asimismo\, ha traducido para esta editorial las obras del novelista y ensayista portugués Vergílio Ferreira.
URL:https://www.acantilado.es/evento/isabel-soler-presenta-magallanes-co-en-la-feria-del-libro-de-sevilla/
LOCATION:Feria del Libro de Sevilla\, Plaza Nueva\, Sevilla\, Sevilla\, 41001
CATEGORIES:Firmas,Presentaciones
GEO:38.0254171;-3.9872542
X-APPLE-STRUCTURED-LOCATION;VALUE=URI;X-ADDRESS=Feria del Libro de Sevilla Plaza Nueva Sevilla Sevilla 41001;X-APPLE-RADIUS=500;X-TITLE=Plaza Nueva:geo:-3.9872542,38.0254171
END:VEVENT
BEGIN:VEVENT
DTSTART;TZID=Europe/Madrid:20211025T200000
DTEND;TZID=Europe/Madrid:20211025T210000
DTSTAMP:20260415T051242
CREATED:20211019T093508Z
LAST-MODIFIED:20211023T184927Z
UID:10000813-1635192000-1635195600@www.acantilado.es
SUMMARY:Presentación de «El derecho a disentir» en la Feria del Libro de Sevilla
DESCRIPTION:El escritor Mauricio Wiesenthal presentará su última obra\, El derecho a disentir\, el próximo lunes 25 de octubre en la carpa de presentaciones de la Feria del Libro de Sevilla. El autor estará acompañado de Alfredo Valenzuela. Actividad en colaboración con el Centro Andaluz de las Letras. \nPuedes consultar el programa de la Feria aquí.\n \nMauricio Wiesenthal (Barcelona\, 1943)\, además de escritor\, ha sido profesor de Historia de la Cultura y conferenciante invitado en varias universidades. Entre sus obras destacan los ensayos La belle époque del Orient Express (1979) e Imagen de España (1984) y la novela El testamento de Nobel (1985). Su pensamiento y su estilo literario son herederos del gran legado cultural europeo\, tradición en la que se inscribe su «Trilogía europea» (Libro de Réquiems\, 2004; El esnobismo de las golondrinas\, 2007; y Luz de vísperas\, 2008). En esta editorial han aparecido Siguiendo mi camino (2013)\, Rainer Maria Rilke (2015)\, La hispanibundia (2018) y Orient-Express (2020).
URL:https://www.acantilado.es/evento/presentacion-de-el-derecho-a-disentir-en-la-feria-del-libro-de-sevilla/
LOCATION:Feria del Libro de Sevilla\, Plaza Nueva\, Sevilla\, Sevilla\, 41001
CATEGORIES:Ferias,Presentaciones
GEO:38.0254171;-3.9872542
X-APPLE-STRUCTURED-LOCATION;VALUE=URI;X-ADDRESS=Feria del Libro de Sevilla Plaza Nueva Sevilla Sevilla 41001;X-APPLE-RADIUS=500;X-TITLE=Plaza Nueva:geo:-3.9872542,38.0254171
END:VEVENT
END:VCALENDAR