BEGIN:VCALENDAR
VERSION:2.0
PRODID:-//ACANTILADO - ECPv6.15.18//NONSGML v1.0//EN
CALSCALE:GREGORIAN
METHOD:PUBLISH
X-WR-CALNAME:ACANTILADO
X-ORIGINAL-URL:https://www.acantilado.es
X-WR-CALDESC:Eventos para ACANTILADO
REFRESH-INTERVAL;VALUE=DURATION:PT1H
X-Robots-Tag:noindex
X-PUBLISHED-TTL:PT1H
BEGIN:VTIMEZONE
TZID:Europe/Madrid
BEGIN:DAYLIGHT
TZOFFSETFROM:+0100
TZOFFSETTO:+0200
TZNAME:CEST
DTSTART:20230326T010000
END:DAYLIGHT
BEGIN:STANDARD
TZOFFSETFROM:+0200
TZOFFSETTO:+0100
TZNAME:CET
DTSTART:20231029T010000
END:STANDARD
BEGIN:DAYLIGHT
TZOFFSETFROM:+0100
TZOFFSETTO:+0200
TZNAME:CEST
DTSTART:20240331T010000
END:DAYLIGHT
BEGIN:STANDARD
TZOFFSETFROM:+0200
TZOFFSETTO:+0100
TZNAME:CET
DTSTART:20241027T010000
END:STANDARD
BEGIN:DAYLIGHT
TZOFFSETFROM:+0100
TZOFFSETTO:+0200
TZNAME:CEST
DTSTART:20250330T010000
END:DAYLIGHT
BEGIN:STANDARD
TZOFFSETFROM:+0200
TZOFFSETTO:+0100
TZNAME:CET
DTSTART:20251026T010000
END:STANDARD
END:VTIMEZONE
BEGIN:VEVENT
DTSTART;TZID=Europe/Madrid:20241030T193000
DTEND;TZID=Europe/Madrid:20241030T203000
DTSTAMP:20260421T140951
CREATED:20241017T094745Z
LAST-MODIFIED:20241021T082613Z
UID:10001288-1730316600-1730320200@www.acantilado.es
SUMMARY:Miguel Ángel Hernández presenta «Yo estoy en la imagen» en Murcia
DESCRIPTION:Miguel Ángel Hernández presentará su última obra\, Yo estoy en la imagen\, el próximo miércoles 30 de octubre. El evento será en el Hemiciclo de la Facultad de Letras de la Universidad de Murcia a las 19:30 h. Presentará el acto el periodista Antonio Candelero. \n \n\nEl acto de mirar es siempre interpretativo: supone el establecimiento de una relación íntima que afecta tanto al observador como al objeto de su mirada. Pese al supuesto distanciamiento que suele exigirse al teórico del arte\, Miguel Ángel Hernández lleva años aproximándose así a las imágenes para establecer con ellas un diálogo profundo en el continuum de arte y vida. El resultado son los textos aquí reunidos\, a medio camino entre el ensayo\, la autobiografía y la narrativa\, en los que siguiendo la estela de Benjamin\, Sontag y Barthes se exploran cuestiones como el valor de la memoria y su vínculo con el conocimiento\, el duelo\, la ética de la mirada\, las relaciones entre tecnología y deseo\, o la percepción subjetiva del tiempo. A través de una prosa atravesada de vivencias\, iluminaciones y experimentación literaria\, el ejercicio de contemplar imágenes se nos revela como una experiencia vital y transformadora. \n\nMiguel Ángel Hernández (Murcia\, 1977) es escritor y profesor de Historia del Arte en la Universidad de Murcia. Es autor de varios ensayos sobre arte contemporáneo y cultura visual entre los que destacan Materializar el pasado (2012)\, El arte a contratiempo (2020) y El don de la siesta (2020)\, así como de diez obras de narrativa\, entre las que se cuentan las novelas Intento de escapada (2013)\, El instante de peligro (2015)\, El dolor de los demás (2018) y Anoxia (2023)\, traducidas al francés\, alemán\, italiano e inglés. En Acantilado ha aparecido el ensayo Yo estoy en la imagen (2024).
URL:https://www.acantilado.es/evento/miguel-angel-hernandez-presenta-yo-estoy-en-la-imagen-en-murcia/
LOCATION:Facultad de Letras de la Universidad de Murcia\, Calle Santo Cristo\, Murcia\, Murcia\, 30001\, Spain
CATEGORIES:Presentaciones
GEO:37.9874879;-1.1257397
X-APPLE-STRUCTURED-LOCATION;VALUE=URI;X-ADDRESS=Facultad de Letras de la Universidad de Murcia Calle Santo Cristo Murcia Murcia 30001 Spain;X-APPLE-RADIUS=500;X-TITLE=Calle Santo Cristo:geo:-1.1257397,37.9874879
END:VEVENT
END:VCALENDAR