BEGIN:VCALENDAR
VERSION:2.0
PRODID:-//ACANTILADO - ECPv6.15.18//NONSGML v1.0//EN
CALSCALE:GREGORIAN
METHOD:PUBLISH
X-WR-CALNAME:ACANTILADO
X-ORIGINAL-URL:https://www.acantilado.es
X-WR-CALDESC:Eventos para ACANTILADO
REFRESH-INTERVAL;VALUE=DURATION:PT1H
X-Robots-Tag:noindex
X-PUBLISHED-TTL:PT1H
BEGIN:VTIMEZONE
TZID:Europe/Madrid
BEGIN:DAYLIGHT
TZOFFSETFROM:+0100
TZOFFSETTO:+0200
TZNAME:CEST
DTSTART:20200329T010000
END:DAYLIGHT
BEGIN:STANDARD
TZOFFSETFROM:+0200
TZOFFSETTO:+0100
TZNAME:CET
DTSTART:20201025T010000
END:STANDARD
BEGIN:DAYLIGHT
TZOFFSETFROM:+0100
TZOFFSETTO:+0200
TZNAME:CEST
DTSTART:20210328T010000
END:DAYLIGHT
BEGIN:STANDARD
TZOFFSETFROM:+0200
TZOFFSETTO:+0100
TZNAME:CET
DTSTART:20211031T010000
END:STANDARD
BEGIN:DAYLIGHT
TZOFFSETFROM:+0100
TZOFFSETTO:+0200
TZNAME:CEST
DTSTART:20220327T010000
END:DAYLIGHT
BEGIN:STANDARD
TZOFFSETFROM:+0200
TZOFFSETTO:+0100
TZNAME:CET
DTSTART:20221030T010000
END:STANDARD
END:VTIMEZONE
BEGIN:VEVENT
DTSTART;TZID=Europe/Madrid:20210329T170000
DTEND;TZID=Europe/Madrid:20210329T180000
DTSTAMP:20260420T011731
CREATED:20210323T100823Z
LAST-MODIFIED:20210325T091427Z
UID:10000845-1617037200-1617040800@www.acantilado.es
SUMMARY:Conversación virtual con Mauricio Wiesenthal
DESCRIPTION:El escritor Mauricio Wisenthal conversará con el escritor Gonzalo Manglano de Garay acerca de su última obra\, Orient-Express. El tren de Europa. La charla se podrá ver a partir del próximo lunes 29 de marzo en los canales y perfiles de redes sociales del Instituto Cervantes de Estambul. \n  \nMauricio Wiesenthal (Barcelona\, 1943)\, además de escritor\, ha sido profesor de Historia de la Cultura y conferenciante invitado en varias universidades. Entre sus obras destacan los ensayos La belle époque del Orient Express (1979) e Imagen de España (1984) y la novela El testamento de Nobel (1985). Su pensamiento y su estilo literario son herederos del gran legado cultural europeo\, tradición en la que se inscribe su «Trilogía europea» (Libro de Réquiems\, 2004; El esnobismo de las golondrinas\, 2007; y Luz de vísperas\, 2008). En esta editorial han aparecido Siguiendo mi camino (2013)\, Rainer Maria Rilke (2015)\, La hispanibundia (2018) y Orient-Express (2020).
URL:https://www.acantilado.es/evento/conversacion-virtual-con-mauricio-wiesenthal/
LOCATION:Evento virtual
CATEGORIES:Coloquio / Diálogo
END:VEVENT
END:VCALENDAR