BEGIN:VCALENDAR
VERSION:2.0
PRODID:-//ACANTILADO - ECPv6.15.18//NONSGML v1.0//EN
CALSCALE:GREGORIAN
METHOD:PUBLISH
X-WR-CALNAME:ACANTILADO
X-ORIGINAL-URL:https://www.acantilado.es
X-WR-CALDESC:Eventos para ACANTILADO
REFRESH-INTERVAL;VALUE=DURATION:PT1H
X-Robots-Tag:noindex
X-PUBLISHED-TTL:PT1H
BEGIN:VTIMEZONE
TZID:Europe/Madrid
BEGIN:DAYLIGHT
TZOFFSETFROM:+0100
TZOFFSETTO:+0200
TZNAME:CEST
DTSTART:20220327T010000
END:DAYLIGHT
BEGIN:STANDARD
TZOFFSETFROM:+0200
TZOFFSETTO:+0100
TZNAME:CET
DTSTART:20221030T010000
END:STANDARD
BEGIN:DAYLIGHT
TZOFFSETFROM:+0100
TZOFFSETTO:+0200
TZNAME:CEST
DTSTART:20230326T010000
END:DAYLIGHT
BEGIN:STANDARD
TZOFFSETFROM:+0200
TZOFFSETTO:+0100
TZNAME:CET
DTSTART:20231029T010000
END:STANDARD
BEGIN:DAYLIGHT
TZOFFSETFROM:+0100
TZOFFSETTO:+0200
TZNAME:CEST
DTSTART:20240331T010000
END:DAYLIGHT
BEGIN:STANDARD
TZOFFSETFROM:+0200
TZOFFSETTO:+0100
TZNAME:CET
DTSTART:20241027T010000
END:STANDARD
BEGIN:DAYLIGHT
TZOFFSETFROM:+0100
TZOFFSETTO:+0200
TZNAME:CEST
DTSTART:20250330T010000
END:DAYLIGHT
BEGIN:STANDARD
TZOFFSETFROM:+0200
TZOFFSETTO:+0100
TZNAME:CET
DTSTART:20251026T010000
END:STANDARD
END:VTIMEZONE
BEGIN:VEVENT
DTSTART;TZID=Europe/Madrid:20241122T193000
DTEND;TZID=Europe/Madrid:20241122T200000
DTSTAMP:20260420T144543
CREATED:20241115T101338Z
LAST-MODIFIED:20241120T113635Z
UID:10001311-1732303800-1732305600@www.acantilado.es
SUMMARY:Encuentro con Elisenda Julibert en Palma
DESCRIPTION:El viernes 22 de noviembre\, tras la proyección de «Ese oscuro objeto del deseo»\, tendrá lugar la conversación «¿De quién es el deseo?» entre la escritora Elisenda Julibert\, autora de Hombres fatales\, y Aldana Areco\, de la Llibreria Propia. El evento tendrá lugar en el Estudi General Lul·lià a las 19:40 h. \n \nElisenda Julibert (Barcelona\, 1974) estudió Filosofía y trabaja desde hace más de dos décadas en editoriales. Ha traducido del francés a George Sand\, Guy de Maupassant\, Marcel Proust\, Albert Camus y Claude Lévi-Strauss\, y del inglés a Sylvia Plath\, Zygmunt Bauman o Simon Critchley. Actualmente es editora de mesa y esporádicamente escribe en la revista ctxt y traduce.
URL:https://www.acantilado.es/evento/encuentro-con-elisenda-julibert-en-palma/
LOCATION:Estudi General Lul·lià\, Carrer de Sant Roc\, 4\, Palma\, Mallorca\, 07001
CATEGORIES:Encuentro
END:VEVENT
BEGIN:VEVENT
DTSTART;TZID=Europe/Madrid:20231005T100000
DTEND;TZID=Europe/Madrid:20231005T110000
DTSTAMP:20260420T144543
CREATED:20231003T094821Z
LAST-MODIFIED:20231003T094821Z
UID:10001101-1696500000-1696503600@www.acantilado.es
SUMMARY:Diálogo con Ramón Andrés en Palma de Mallorca
DESCRIPTION:«Lentamente en el mundo»\, con el escritor Ramón Andrés y Miguel Eek\, director de Majordocs\, el próximo jueves 5 de octubre a las 10 h en el Estudi General Lul·lià. \nActo gratuito\, mediante reserva. Consigue tu entrada aquí. \nRamón Andrés (Pamplona\, 1955) ha escrito numerosos libros\, como el Diccionario de instrumentos musicales (1995-2001)\, W. A. Mozart (2003-2006)\, El oyente infinito (2007) y\, en Acantilado\, Johann Sebastian Bach. Los días\, las ideas y los libros (2005)\, El mundo en el oído. El nacimiento de la música en la cultura (2008)\, No sufrir compañía. Escritos místicos sobre el silencio (2010)\, Diccionario de música\, mitología\, magia y religión (2012)\, El luthier de Delft. Música\, pintura y ciencia en tiempos de Vermeer y Spinoza (2013)\, Semper dolens. Historia del suicidio en Occidente (2015)\, Pensar y no caer (2015)\, Claudio Monteverdi. «Lamento della Ninfa» (2017) y Filosofía y consuelo de la música (2020\, Premio Nacional de Ensayo 2021)\, además de la edición de Oculta filosofía. Razones de la música en el hombre y la naturaleza (2004)\, de Juan Eusebio Nieremberg. Asimismo\, es autor de varios libros de poesía. En 2015 fue galardonado con el Premio Príncipe de Viana de la Cultura y en 2020 con el Premio Nacional de la Crítica de Poesía por Los árboles que nos quedan. Desde 2018 es miembro correspondiente de la Reial Acadèmia Catalana de Belles Arts de Sant Jordi.
URL:https://www.acantilado.es/evento/dialogo-con-ramon-andres-en-palma-de-mallorca/
LOCATION:Estudi General Lul·lià\, Carrer de Sant Roc\, 4\, Palma\, Mallorca\, 07001
CATEGORIES:Coloquio / Diálogo
END:VEVENT
END:VCALENDAR