BEGIN:VCALENDAR
VERSION:2.0
PRODID:-//ACANTILADO - ECPv6.15.18//NONSGML v1.0//EN
CALSCALE:GREGORIAN
METHOD:PUBLISH
X-ORIGINAL-URL:https://www.acantilado.es
X-WR-CALDESC:Eventos para ACANTILADO
REFRESH-INTERVAL;VALUE=DURATION:PT1H
X-Robots-Tag:noindex
X-PUBLISHED-TTL:PT1H
BEGIN:VTIMEZONE
TZID:Europe/Madrid
BEGIN:DAYLIGHT
TZOFFSETFROM:+0100
TZOFFSETTO:+0200
TZNAME:CEST
DTSTART:20230326T010000
END:DAYLIGHT
BEGIN:STANDARD
TZOFFSETFROM:+0200
TZOFFSETTO:+0100
TZNAME:CET
DTSTART:20231029T010000
END:STANDARD
BEGIN:DAYLIGHT
TZOFFSETFROM:+0100
TZOFFSETTO:+0200
TZNAME:CEST
DTSTART:20240331T010000
END:DAYLIGHT
BEGIN:STANDARD
TZOFFSETFROM:+0200
TZOFFSETTO:+0100
TZNAME:CET
DTSTART:20241027T010000
END:STANDARD
BEGIN:DAYLIGHT
TZOFFSETFROM:+0100
TZOFFSETTO:+0200
TZNAME:CEST
DTSTART:20250330T010000
END:DAYLIGHT
BEGIN:STANDARD
TZOFFSETFROM:+0200
TZOFFSETTO:+0100
TZNAME:CET
DTSTART:20251026T010000
END:STANDARD
END:VTIMEZONE
BEGIN:VEVENT
DTSTART;TZID=Europe/Madrid:20240423T130000
DTEND;TZID=Europe/Madrid:20240423T140000
DTSTAMP:20260419T145621
CREATED:20240411T080659Z
LAST-MODIFIED:20240411T080659Z
UID:10001182-1713877200-1713880800@www.acantilado.es
SUMMARY:Conferencia de María Belmonte en Barcelona
DESCRIPTION:El martes\, 23 de abril\, la escritora María Belmonte conversará en la sesión «Aguas barrocas» sobre su obra El murmullo del agua. Esa charla forma parte del ciclo de conferencias llamadas El murmullo del agua. El evento tendrá lugar en la Escuela Técnica Superior de Arquitectura de Barcelona a las 13 h. \nMaría Belmonte Barrenechea nació en Bilbao; estudió Historia en la Universidad de Deusto y Antropología en la Autónoma de Barcelona. En 1995 se doctoró en el Departamento de Antropología Social de la Universidad del País Vasco (San Sebastián) con una tesis sobre Historia de las Religiones. Ejerce profesionalmente como traductora técnico-literaria. Ha publicado en Acantilado Peregrinos de la belleza. Viajeros por Italia y Grecia (2015)\, Los senderos del mar. Un viaje a pie (2017) y En tierra de Dioniso. Vagabundeos por el norte de Grecia (2021). Ha vivido en diversas ciudades\, en una isla mediterránea y\, actualmente\, reside en Font-Rubí (Barcelona).
URL:https://www.acantilado.es/evento/conferencia-de-maria-belmonte-en-barcelona-2/
LOCATION:Escuela Técnica Superior de Arquitectura de Barcelona\, Av. Diagonal\, 649\, Barcelona\, España\, 08028\, España
CATEGORIES:Coloquio / Diálogo,Presentaciones
GEO:41.38396;2.1139588
X-APPLE-STRUCTURED-LOCATION;VALUE=URI;X-ADDRESS=Escuela Técnica Superior de Arquitectura de Barcelona Av. Diagonal 649 Barcelona España 08028 España;X-APPLE-RADIUS=500;X-TITLE=Av. Diagonal\, 649:geo:2.1139588,41.38396
END:VEVENT
BEGIN:VEVENT
DTSTART;TZID=Europe/Madrid:20240416T130000
DTEND;TZID=Europe/Madrid:20240416T140000
DTSTAMP:20260419T145621
CREATED:20240409T131846Z
LAST-MODIFIED:20240409T131846Z
UID:10001178-1713272400-1713276000@www.acantilado.es
SUMMARY:Conferencia de María Belmonte en Barcelona
DESCRIPTION:El martes\, 16 de abril\, la escritora María Belmonte conversará en la sesión «Aguas renacentistas» sobre su obra El murmullo del agua. Esa charla forma parte del ciclo de conferencias llamadas El murmullo del agua. El evento tendrá lugar en la Escuela Técnica Superior de Arquitectura de Barcelona a las 13 h. \nMaría Belmonte Barrenechea nació en Bilbao; estudió Historia en la Universidad de Deusto y Antropología en la Autónoma de Barcelona. En 1995 se doctoró en el Departamento de Antropología Social de la Universidad del País Vasco (San Sebastián) con una tesis sobre Historia de las Religiones. Ejerce profesionalmente como traductora técnico-literaria. Ha publicado en Acantilado Peregrinos de la belleza. Viajeros por Italia y Grecia (2015)\, Los senderos del mar. Un viaje a pie (2017) y En tierra de Dioniso. Vagabundeos por el norte de Grecia (2021). Ha vivido en diversas ciudades\, en una isla mediterránea y\, actualmente\, reside en Font-Rubí (Barcelona).
URL:https://www.acantilado.es/evento/conferencia-de-maria-belmonte-en-barcelona/
LOCATION:Escuela Técnica Superior de Arquitectura de Barcelona\, Av. Diagonal\, 649\, Barcelona\, España\, 08028\, España
CATEGORIES:Coloquio / Diálogo,Presentaciones
GEO:41.38396;2.1139588
X-APPLE-STRUCTURED-LOCATION;VALUE=URI;X-ADDRESS=Escuela Técnica Superior de Arquitectura de Barcelona Av. Diagonal 649 Barcelona España 08028 España;X-APPLE-RADIUS=500;X-TITLE=Av. Diagonal\, 649:geo:2.1139588,41.38396
END:VEVENT
BEGIN:VEVENT
DTSTART;TZID=Europe/Madrid:20240412T190000
DTEND;TZID=Europe/Madrid:20240412T200000
DTSTAMP:20260419T145621
CREATED:20240410T151149Z
LAST-MODIFIED:20240410T151149Z
UID:10001176-1712948400-1712952000@www.acantilado.es
SUMMARY:Encuentro con María Belmonte en Huesca
DESCRIPTION:El viernes\, 12 de abril\, la escritora María Belmonte participará en el club de lectura sobre Los senderos del mar. El evento tendrá lugar en la Biblioteca Pública de Huesca de Huesca a las 19 h. \nAcompañada de Aristóteles\, Goethe\, Victor Hugo\, Darwin\, Jane Austen y tantos otros escritores\, pintores o aventureros\, la autora nos invita a realizar una travesía por la costa vasca. Un viaje sentimental a los lugares de la adolescencia se transforma en una exploración de los viejos caminos costeros\, un recorrido por la historia humana y geológica\, grabada de un modo particularmente revelador en los paisajes y las piedras de la costa\, el primigenio umbral donde se encuentran dos mundos. Un texto inspirador que nos propone observar la naturaleza y deleitarnos en ella\, contemplar los matices de la vida en estado puro y sentir su hondo latido. \nMaría Belmonte Barrenechea nació en Bilbao; estudió Historia en la Universidad de Deusto y Antropología en la Autónoma de Barcelona. En 1995 se doctoró en el Departamento de Antropología Social de la Universidad del País Vasco (San Sebastián) con una tesis sobre Historia de las Religiones. Ejerce profesionalmente como traductora técnico-literaria. Ha publicado en Acantilado Peregrinos de la belleza. Viajeros por Italia y Grecia (2015)\, Los senderos del mar. Un viaje a pie (2017) y En tierra de Dioniso. Vagabundeos por el norte de Grecia (2021). Ha vivido en diversas ciudades\, en una isla mediterránea y\, actualmente\, reside en Font-Rubí (Barcelona).
URL:https://www.acantilado.es/evento/encuentro-con-maria-belmonte-en-huesca/
LOCATION:Escuela Técnica Superior de Arquitectura de Barcelona\, Av. Diagonal\, 649\, Barcelona\, España\, 08028\, España
CATEGORIES:Coloquio / Diálogo,Presentaciones
GEO:41.38396;2.1139588
X-APPLE-STRUCTURED-LOCATION;VALUE=URI;X-ADDRESS=Escuela Técnica Superior de Arquitectura de Barcelona Av. Diagonal 649 Barcelona España 08028 España;X-APPLE-RADIUS=500;X-TITLE=Av. Diagonal\, 649:geo:2.1139588,41.38396
END:VEVENT
BEGIN:VEVENT
DTSTART;TZID=Europe/Madrid:20240409T130000
DTEND;TZID=Europe/Madrid:20240409T140000
DTSTAMP:20260419T145621
CREATED:20240404T131351Z
LAST-MODIFIED:20240405T092406Z
UID:10001166-1712667600-1712671200@www.acantilado.es
SUMMARY:Conferencia de María Belmonte en Barcelona
DESCRIPTION:El martes\, 9 de abril\, la escritora María Belmonte conversará en la sesión «Aguas clásicas (Grecia y Roma)» sobre su obra El murmullo del agua. Esa charla forma parte del ciclo de conferencias llamadas El murmullo del agua. El evento tendrá lugar en la Escuela Técnica Superior de Arquitectura de Barcelona a las 13 h. \nMaría Belmonte Barrenechea nació en Bilbao; estudió Historia en la Universidad de Deusto y Antropología en la Autónoma de Barcelona. En 1995 se doctoró en el Departamento de Antropología Social de la Universidad del País Vasco (San Sebastián) con una tesis sobre Historia de las Religiones. Ejerce profesionalmente como traductora técnico-literaria. Ha publicado en Acantilado Peregrinos de la belleza. Viajeros por Italia y Grecia (2015)\, Los senderos del mar. Un viaje a pie (2017) y En tierra de Dioniso. Vagabundeos por el norte de Grecia (2021). Ha vivido en diversas ciudades\, en una isla mediterránea y\, actualmente\, reside en Font-Rubí (Barcelona).
URL:https://www.acantilado.es/evento/conferencia-con-maria-belmonte-en-bercelona/
LOCATION:Escuela Técnica Superior de Arquitectura de Barcelona\, Av. Diagonal\, 649\, Barcelona\, España\, 08028\, España
CATEGORIES:Coloquio / Diálogo,Presentaciones
GEO:41.38396;2.1139588
X-APPLE-STRUCTURED-LOCATION;VALUE=URI;X-ADDRESS=Escuela Técnica Superior de Arquitectura de Barcelona Av. Diagonal 649 Barcelona España 08028 España;X-APPLE-RADIUS=500;X-TITLE=Av. Diagonal\, 649:geo:2.1139588,41.38396
END:VEVENT
END:VCALENDAR