BEGIN:VCALENDAR
VERSION:2.0
PRODID:-//ACANTILADO - ECPv6.15.18//NONSGML v1.0//EN
CALSCALE:GREGORIAN
METHOD:PUBLISH
X-ORIGINAL-URL:https://www.acantilado.es
X-WR-CALDESC:Eventos para ACANTILADO
REFRESH-INTERVAL;VALUE=DURATION:PT1H
X-Robots-Tag:noindex
X-PUBLISHED-TTL:PT1H
BEGIN:VTIMEZONE
TZID:Europe/Madrid
BEGIN:DAYLIGHT
TZOFFSETFROM:+0100
TZOFFSETTO:+0200
TZNAME:CEST
DTSTART:20210328T010000
END:DAYLIGHT
BEGIN:STANDARD
TZOFFSETFROM:+0200
TZOFFSETTO:+0100
TZNAME:CET
DTSTART:20211031T010000
END:STANDARD
BEGIN:DAYLIGHT
TZOFFSETFROM:+0100
TZOFFSETTO:+0200
TZNAME:CEST
DTSTART:20220327T010000
END:DAYLIGHT
BEGIN:STANDARD
TZOFFSETFROM:+0200
TZOFFSETTO:+0100
TZNAME:CET
DTSTART:20221030T010000
END:STANDARD
BEGIN:DAYLIGHT
TZOFFSETFROM:+0100
TZOFFSETTO:+0200
TZNAME:CEST
DTSTART:20230326T010000
END:DAYLIGHT
BEGIN:STANDARD
TZOFFSETFROM:+0200
TZOFFSETTO:+0100
TZNAME:CET
DTSTART:20231029T010000
END:STANDARD
END:VTIMEZONE
BEGIN:VEVENT
DTSTART;TZID=Europe/Madrid:20220125T190000
DTEND;TZID=Europe/Madrid:20220125T190000
DTSTAMP:20260419T233119
CREATED:20220118T112928Z
LAST-MODIFIED:20220118T112928Z
UID:10000933-1643137200-1643137200@www.acantilado.es
SUMMARY:Mauricio Wiesenthal presenta «El derecho a disentir» en Barcelona
DESCRIPTION:El escritor Mauricio Wiesenthal presentará su última obra\, El derecho a disentir\, el próximo martes 25 de enero a las 19 h. Evento destinado para socios del Círculo del Liceo. \nMauricio Wiesenthal (Barcelona\, 1943)\, además de escritor\, ha sido profesor de Historia de la Cultura y conferenciante invitado en varias universidades. Entre sus obras destacan los ensayos La belle époque del Orient Express (1979) e Imagen de España (1984) y la novela El testamento de Nobel (1985). Su pensamiento y su estilo literario son herederos del gran legado cultural europeo\, tradición en la que se inscribe su «Trilogía europea» (Libro de Réquiems\, 2004; El esnobismo de las golondrinas\, 2007; y Luz de vísperas\, 2008). En esta editorial han aparecido Siguiendo mi camino (2013)\, Rainer Maria Rilke (2015)\, La hispanibundia (2018) y Orient-Express (2020).
URL:https://www.acantilado.es/evento/mauricio-wiesenthal-presenta-el-derecho-a-disentir-en-barcelona/
LOCATION:Círculo del Liceo\, La Rambla\, 65\, Barcelona
CATEGORIES:Presentaciones
GEO:41.3808471;2.1733365
X-APPLE-STRUCTURED-LOCATION;VALUE=URI;X-ADDRESS=Círculo del Liceo La Rambla 65 Barcelona;X-APPLE-RADIUS=500;X-TITLE=La Rambla\, 65:geo:2.1733365,41.3808471
END:VEVENT
END:VCALENDAR