BEGIN:VCALENDAR
VERSION:2.0
PRODID:-//ACANTILADO - ECPv6.15.18//NONSGML v1.0//EN
CALSCALE:GREGORIAN
METHOD:PUBLISH
X-WR-CALNAME:ACANTILADO
X-ORIGINAL-URL:https://www.acantilado.es
X-WR-CALDESC:Eventos para ACANTILADO
REFRESH-INTERVAL;VALUE=DURATION:PT1H
X-Robots-Tag:noindex
X-PUBLISHED-TTL:PT1H
BEGIN:VTIMEZONE
TZID:Europe/Madrid
BEGIN:DAYLIGHT
TZOFFSETFROM:+0100
TZOFFSETTO:+0200
TZNAME:CEST
DTSTART:20160327T010000
END:DAYLIGHT
BEGIN:STANDARD
TZOFFSETFROM:+0200
TZOFFSETTO:+0100
TZNAME:CET
DTSTART:20161030T010000
END:STANDARD
BEGIN:DAYLIGHT
TZOFFSETFROM:+0100
TZOFFSETTO:+0200
TZNAME:CEST
DTSTART:20170326T010000
END:DAYLIGHT
BEGIN:STANDARD
TZOFFSETFROM:+0200
TZOFFSETTO:+0100
TZNAME:CET
DTSTART:20171029T010000
END:STANDARD
BEGIN:DAYLIGHT
TZOFFSETFROM:+0100
TZOFFSETTO:+0200
TZNAME:CEST
DTSTART:20180325T010000
END:DAYLIGHT
BEGIN:STANDARD
TZOFFSETFROM:+0200
TZOFFSETTO:+0100
TZNAME:CET
DTSTART:20181028T010000
END:STANDARD
END:VTIMEZONE
BEGIN:VEVENT
DTSTART;TZID=Europe/Madrid:20170930T183000
DTEND;TZID=Europe/Madrid:20170930T210000
DTSTAMP:20260420T233015
CREATED:20170919T124528Z
LAST-MODIFIED:20170919T132656Z
UID:10000568-1506796200-1506805200@www.acantilado.es
SUMMARY:Proyección de 'The alchemist' y coloquio sobre Glenn Gould en la Cineteca (Madrid)
DESCRIPTION:El próximo sábado 30 de septiembre a las 18:30h\, se proyectará en la Cineteca de Madrid el documental sobre Glenn Gould L’Alquimiste\, dirigido por Bruno Monsaingeon. Al finalizar el pase\, Ramón del Castillo (profesor de Filosofía en la UNED y colaborador en medios culturales musicales) y Luis Gago (traductor y crítico musical de El País) hablarán sobre la figura y el legado de Glenn Gould.
URL:https://www.acantilado.es/evento/proyeccion-alquimista-conferencia-glenn-gould-madrid/
LOCATION:Cineteca\, Plaza de Legazpi\, 8\, Madrid\, Madrid\, 28045\, España
CATEGORIES:Conferencias
ORGANIZER;CN="Editorial Acantilado":MAILTO:info@acantilado.es
GEO:40.3919736;-3.6978614
X-APPLE-STRUCTURED-LOCATION;VALUE=URI;X-ADDRESS=Cineteca Plaza de Legazpi 8 Madrid Madrid 28045 España;X-APPLE-RADIUS=500;X-TITLE=Plaza de Legazpi\, 8:geo:-3.6978614,40.3919736
END:VEVENT
BEGIN:VEVENT
DTSTART;TZID=Europe/Madrid:20170929T183000
DTEND;TZID=Europe/Madrid:20170929T213000
DTSTAMP:20260420T233015
CREATED:20170919T124148Z
LAST-MODIFIED:20170919T133114Z
UID:10000567-1506709800-1506720600@www.acantilado.es
SUMMARY:Bruno Monsaingeon presenta en Madrid 'Glenn Gould. No\, no soy en absoluto un excéntrico'
DESCRIPTION:El próximo viernes 29 de septiembre\, a las 18:30h\, proyectaremos el documental La Retraite\, de Bruno Monsaingeon en la Cineteca de Madrid. Una vez finalizado el pase\, Bruno Monsaingeon hablará sobre la figura del genial pianista con Jorge Fernández Guerra (traductor de Glenn Gould. No\, no soy en absoluto un excéntrico) y Ramón del Castillo (profesor de Filosofía en la UNED y colaborador en medios culturales musicales). \nBruno Monsaingeon firmará ejemplares de su libro al término del acto\, y los asistentes están invitados después a una consumición en La Cantina (presentando la entrada). \nLa Retraite forma parte de la película Glenn Gould. The Alchemist (1974) que realizó Monsaingeon en Toronto diez años después de la retirada de Gould de los escenarios\, y es un testimonio único y una obra de culto en el género documental. \nEste acto cuenta con la colaboración de la Embajada de Canadá.
URL:https://www.acantilado.es/evento/bruno-monsaingeon-presenta-madrid-glenn-gould/
LOCATION:Cineteca\, Plaza de Legazpi\, 8\, Madrid\, Madrid\, 28045\, España
CATEGORIES:Conferencias,Presentaciones
ORGANIZER;CN="Editorial Acantilado":MAILTO:info@acantilado.es
GEO:40.3919736;-3.6978614
X-APPLE-STRUCTURED-LOCATION;VALUE=URI;X-ADDRESS=Cineteca Plaza de Legazpi 8 Madrid Madrid 28045 España;X-APPLE-RADIUS=500;X-TITLE=Plaza de Legazpi\, 8:geo:-3.6978614,40.3919736
END:VEVENT
END:VCALENDAR