BEGIN:VCALENDAR
VERSION:2.0
PRODID:-//ACANTILADO - ECPv6.15.18//NONSGML v1.0//EN
CALSCALE:GREGORIAN
METHOD:PUBLISH
X-ORIGINAL-URL:https://www.acantilado.es
X-WR-CALDESC:Eventos para ACANTILADO
REFRESH-INTERVAL;VALUE=DURATION:PT1H
X-Robots-Tag:noindex
X-PUBLISHED-TTL:PT1H
BEGIN:VTIMEZONE
TZID:Europe/Madrid
BEGIN:DAYLIGHT
TZOFFSETFROM:+0100
TZOFFSETTO:+0200
TZNAME:CEST
DTSTART:20230326T010000
END:DAYLIGHT
BEGIN:STANDARD
TZOFFSETFROM:+0200
TZOFFSETTO:+0100
TZNAME:CET
DTSTART:20231029T010000
END:STANDARD
BEGIN:DAYLIGHT
TZOFFSETFROM:+0100
TZOFFSETTO:+0200
TZNAME:CEST
DTSTART:20240331T010000
END:DAYLIGHT
BEGIN:STANDARD
TZOFFSETFROM:+0200
TZOFFSETTO:+0100
TZNAME:CET
DTSTART:20241027T010000
END:STANDARD
BEGIN:DAYLIGHT
TZOFFSETFROM:+0100
TZOFFSETTO:+0200
TZNAME:CEST
DTSTART:20250330T010000
END:DAYLIGHT
BEGIN:STANDARD
TZOFFSETFROM:+0200
TZOFFSETTO:+0100
TZNAME:CET
DTSTART:20251026T010000
END:STANDARD
END:VTIMEZONE
BEGIN:VEVENT
DTSTART;TZID=Europe/Madrid:20241105T190000
DTEND;TZID=Europe/Madrid:20241105T200000
DTSTAMP:20260422T113008
CREATED:20241021T105934Z
LAST-MODIFIED:20241021T105934Z
UID:10001289-1730833200-1730836800@www.acantilado.es
SUMMARY:Josep Maria Esquirol presenta «La escuela del alma» en Zaragoza
DESCRIPTION:Josep Maria Esquirol presentará La escuela del alma el próximo martes 5 de noviembre. El evento será en el Centro Pignatelli a las 19 h. El autor conversará con Juan Francisco Comendador. \n\nLa escuela del alma es una fascinante invitación para descubrir\, partiendo de los cimientos de la educación\, el horizonte de una vida madura\, fecunda y espiritual. Paso a paso las realidades que nombran palabras como lugar\, enseñanza\, compañía\, atención\, mundo\, cuidado\, contemplación\, creación… van iluminando el camino con luz propia y nos descubren nuevos sentidos: cada ser humano se nos revela como origen\, y el encuentro\, como «un alma que toca otra alma». Una vez más\, Josep Maria Esquirol\, en su búsqueda de la esencia de las cosas\, nos plantea una propuesta luminosa y esperanzada en tiempos de desorientación\, una conspiración singularísima\, la orden filosófica del amor. \n\nJosep Maria Esquirol es catedrático de Filosofía de la Universidad de Barcelona\, donde da clases de Filosofía Contemporánea y dirige el grupo de investigación Aporia\, dedicado a la relación entre filosofía y psiquiatría. Ha publicado cerca de un centenar de artículos en revistas especializadas y una docena de libros. Especialmente en La resistencia íntima (Acantilado\, 2015)—que recibió los premios Ciutat de Barcelona y Nacional de Ensayo—\, junto con La penúltima bondad (Acantilado\, 2018) y Humano\, más humano (Acantilado\, 2021)\, traducidos al italiano\, portugués\, inglés y alemán\, el autor ha articulado su «filosofía de la proximidad». Acantilado también ha publicado La escuela del alma (2024).
URL:https://www.acantilado.es/evento/josep-maria-esquirol-presenta-la-escuela-del-alma-en-zaragoza/
LOCATION:Centro Pignatelli\, Paseo de la Constitucion\, Zaragoza\, Zaragoza\, 50008\, Spain
CATEGORIES:Presentaciones
GEO:41.6472185;-0.883899
X-APPLE-STRUCTURED-LOCATION;VALUE=URI;X-ADDRESS=Centro Pignatelli Paseo de la Constitucion Zaragoza Zaragoza 50008 Spain;X-APPLE-RADIUS=500;X-TITLE=Paseo de la Constitucion:geo:-0.883899,41.6472185
END:VEVENT
END:VCALENDAR