BEGIN:VCALENDAR
VERSION:2.0
PRODID:-//ACANTILADO - ECPv6.15.18//NONSGML v1.0//EN
CALSCALE:GREGORIAN
METHOD:PUBLISH
X-WR-CALNAME:ACANTILADO
X-ORIGINAL-URL:https://www.acantilado.es
X-WR-CALDESC:Eventos para ACANTILADO
REFRESH-INTERVAL;VALUE=DURATION:PT1H
X-Robots-Tag:noindex
X-PUBLISHED-TTL:PT1H
BEGIN:VTIMEZONE
TZID:Europe/Madrid
BEGIN:DAYLIGHT
TZOFFSETFROM:+0100
TZOFFSETTO:+0200
TZNAME:CEST
DTSTART:20220327T010000
END:DAYLIGHT
BEGIN:STANDARD
TZOFFSETFROM:+0200
TZOFFSETTO:+0100
TZNAME:CET
DTSTART:20221030T010000
END:STANDARD
BEGIN:DAYLIGHT
TZOFFSETFROM:+0100
TZOFFSETTO:+0200
TZNAME:CEST
DTSTART:20230326T010000
END:DAYLIGHT
BEGIN:STANDARD
TZOFFSETFROM:+0200
TZOFFSETTO:+0100
TZNAME:CET
DTSTART:20231029T010000
END:STANDARD
BEGIN:DAYLIGHT
TZOFFSETFROM:+0100
TZOFFSETTO:+0200
TZNAME:CEST
DTSTART:20240331T010000
END:DAYLIGHT
BEGIN:STANDARD
TZOFFSETFROM:+0200
TZOFFSETTO:+0100
TZNAME:CET
DTSTART:20241027T010000
END:STANDARD
END:VTIMEZONE
BEGIN:VEVENT
DTSTART;TZID=Europe/Madrid:20231010T200000
DTEND;TZID=Europe/Madrid:20231010T210000
DTSTAMP:20260419T144800
CREATED:20231002T095755Z
LAST-MODIFIED:20231004T093644Z
UID:10001098-1696968000-1696971600@www.acantilado.es
SUMMARY:Aurora Luque presenta «Las sirenas de abajo» en Málaga
DESCRIPTION:El próximo martes 10 de octubre tendrá lugar una presentación de Las sirenas de abajo\, de Aurora Luque\, y No aceptaré más límites: Aurora Luque\, gaviera y nómada\, de Josefa Álvarez\, en el Centro Cultural María Victoria Atencia a las 20 h. \nAurora Luque es poeta\, doctora en Filología Clásica por la Universidad de Salamanca y traductora. Autora de Problemas de doblaje\, Carpe noctem\, Transitoria\, Camaradas de Ícaro (traducido al griego en 2015)\, La siesta de Epicuro\, Personal & político y Gavieras (premio Loewe 2019)\, ha publicado las antologías Fabricación de las islas\, Médula y Carpe amorem\, así como las traducciones Si no\, el invierno. Fragmentos de Safo de Anne Carson y Grecorromanas. Lírica superviviente de la Antigüedad clásica. En esta editorial han aparecido sus ediciones y traducciones de Poemas y testimonios (2004 y 2020)\, de Safo\, Sonetos y elegías (2011)\, de Louise Labé\, y Aquel vivir del mar. El mar en la poesía griega (2015)\, además de su poesía reunida\, Las sirenas de abajo (2023).
URL:https://www.acantilado.es/evento/aurora-luque-presenta-las-sirenas-de-abajo-en-malaga/
LOCATION:Centro Cultural María Victoria Atencia\, C. Ollerías\, 34\, Málaga\, Málaga\, 29012
CATEGORIES:Presentaciones
GEO:36.7254887;-4.4224194
X-APPLE-STRUCTURED-LOCATION;VALUE=URI;X-ADDRESS=Centro Cultural María Victoria Atencia C. Ollerías 34 Málaga Málaga 29012;X-APPLE-RADIUS=500;X-TITLE=C. Ollerías\, 34:geo:-4.4224194,36.7254887
END:VEVENT
END:VCALENDAR