BEGIN:VCALENDAR
VERSION:2.0
PRODID:-//ACANTILADO - ECPv6.15.18//NONSGML v1.0//EN
CALSCALE:GREGORIAN
METHOD:PUBLISH
X-WR-CALNAME:ACANTILADO
X-ORIGINAL-URL:https://www.acantilado.es
X-WR-CALDESC:Eventos para ACANTILADO
REFRESH-INTERVAL;VALUE=DURATION:PT1H
X-Robots-Tag:noindex
X-PUBLISHED-TTL:PT1H
BEGIN:VTIMEZONE
TZID:Europe/Madrid
BEGIN:DAYLIGHT
TZOFFSETFROM:+0100
TZOFFSETTO:+0200
TZNAME:CEST
DTSTART:20200329T010000
END:DAYLIGHT
BEGIN:STANDARD
TZOFFSETFROM:+0200
TZOFFSETTO:+0100
TZNAME:CET
DTSTART:20201025T010000
END:STANDARD
BEGIN:DAYLIGHT
TZOFFSETFROM:+0100
TZOFFSETTO:+0200
TZNAME:CEST
DTSTART:20210328T010000
END:DAYLIGHT
BEGIN:STANDARD
TZOFFSETFROM:+0200
TZOFFSETTO:+0100
TZNAME:CET
DTSTART:20211031T010000
END:STANDARD
BEGIN:DAYLIGHT
TZOFFSETFROM:+0100
TZOFFSETTO:+0200
TZNAME:CEST
DTSTART:20220327T010000
END:DAYLIGHT
BEGIN:STANDARD
TZOFFSETFROM:+0200
TZOFFSETTO:+0100
TZNAME:CET
DTSTART:20221030T010000
END:STANDARD
END:VTIMEZONE
BEGIN:VEVENT
DTSTART;TZID=Europe/Madrid:20211020T193000
DTEND;TZID=Europe/Madrid:20211020T203000
DTSTAMP:20260420T144613
CREATED:20211013T110004Z
LAST-MODIFIED:20211013T110644Z
UID:10000910-1634758200-1634761800@www.acantilado.es
SUMMARY:Clausura del club de lectura de «En tierra de Dioniso» con María Belmonte
DESCRIPTION:La última sesión del club de lectura de En tierra de Dioniso de la librería A Peu de Página será el próximo miércoles 20 de octubre a las 19:30 h en la terraza del Centre Cívic de Sarrià. La actividad contará con la participación de la autora\, María Belmonte. \nPara más información\, contacte con llibreria@apeudepagina.com \nMaría Belmonte Barrenechea nació en Bilbao; estudió Historia en la Universidad de Deusto y Antropología en la Autónoma de Barcelona. En 1995 se doctoró en el Departamento de Antropología Social de la Universidad del País Vasco (San Sebastián) con una tesis sobre Historia de las Religiones. Ejerce profesionalmente como traductora técnico-literaria. Ha publicado en Acantilado Peregrinos de la belleza. Viajeros por Italia y Grecia (2015)\, Los senderos del mar. Un viaje a pie (2017) y En tierra de Dioniso. Vagabundeos por el norte de Grecia (2021). Ha vivido en diversas ciudades\, en una isla mediterránea y\, actualmente\, reside en Font-Rubí (Barcelona).
URL:https://www.acantilado.es/evento/club-de-lectura-de-en-tierra-de-dioniso-con-maria-belmonte/
LOCATION:Centre Cívic de Sarrià\, C/ Eduardo Conde 22\, Barcelona\, 08034
CATEGORIES:Club de lectura
ORGANIZER;CN="A Peu de P%C3%A0gina":MAILTO:llibreria@apeudepagina.com
GEO:41.3936397;2.121589
X-APPLE-STRUCTURED-LOCATION;VALUE=URI;X-ADDRESS=Centre Cívic de Sarrià C/ Eduardo Conde 22 Barcelona 08034;X-APPLE-RADIUS=500;X-TITLE=C/ Eduardo Conde 22:geo:2.121589,41.3936397
END:VEVENT
END:VCALENDAR