BEGIN:VCALENDAR
VERSION:2.0
PRODID:-//ACANTILADO - ECPv6.15.18//NONSGML v1.0//EN
CALSCALE:GREGORIAN
METHOD:PUBLISH
X-WR-CALNAME:ACANTILADO
X-ORIGINAL-URL:https://www.acantilado.es
X-WR-CALDESC:Eventos para ACANTILADO
REFRESH-INTERVAL;VALUE=DURATION:PT1H
X-Robots-Tag:noindex
X-PUBLISHED-TTL:PT1H
BEGIN:VTIMEZONE
TZID:Europe/Madrid
BEGIN:DAYLIGHT
TZOFFSETFROM:+0100
TZOFFSETTO:+0200
TZNAME:CEST
DTSTART:20170326T010000
END:DAYLIGHT
BEGIN:STANDARD
TZOFFSETFROM:+0200
TZOFFSETTO:+0100
TZNAME:CET
DTSTART:20171029T010000
END:STANDARD
BEGIN:DAYLIGHT
TZOFFSETFROM:+0100
TZOFFSETTO:+0200
TZNAME:CEST
DTSTART:20180325T010000
END:DAYLIGHT
BEGIN:STANDARD
TZOFFSETFROM:+0200
TZOFFSETTO:+0100
TZNAME:CET
DTSTART:20181028T010000
END:STANDARD
BEGIN:DAYLIGHT
TZOFFSETFROM:+0100
TZOFFSETTO:+0200
TZNAME:CEST
DTSTART:20190331T010000
END:DAYLIGHT
BEGIN:STANDARD
TZOFFSETFROM:+0200
TZOFFSETTO:+0100
TZNAME:CET
DTSTART:20191027T010000
END:STANDARD
BEGIN:DAYLIGHT
TZOFFSETFROM:+0100
TZOFFSETTO:+0200
TZNAME:CEST
DTSTART:20200329T010000
END:DAYLIGHT
BEGIN:STANDARD
TZOFFSETFROM:+0200
TZOFFSETTO:+0100
TZNAME:CET
DTSTART:20201025T010000
END:STANDARD
BEGIN:DAYLIGHT
TZOFFSETFROM:+0100
TZOFFSETTO:+0200
TZNAME:CEST
DTSTART:20210328T010000
END:DAYLIGHT
BEGIN:STANDARD
TZOFFSETFROM:+0200
TZOFFSETTO:+0100
TZNAME:CET
DTSTART:20211031T010000
END:STANDARD
BEGIN:DAYLIGHT
TZOFFSETFROM:+0100
TZOFFSETTO:+0200
TZNAME:CEST
DTSTART:20220327T010000
END:DAYLIGHT
BEGIN:STANDARD
TZOFFSETFROM:+0200
TZOFFSETTO:+0100
TZNAME:CET
DTSTART:20221030T010000
END:STANDARD
BEGIN:DAYLIGHT
TZOFFSETFROM:+0100
TZOFFSETTO:+0200
TZNAME:CEST
DTSTART:20230326T010000
END:DAYLIGHT
BEGIN:STANDARD
TZOFFSETFROM:+0200
TZOFFSETTO:+0100
TZNAME:CET
DTSTART:20231029T010000
END:STANDARD
BEGIN:DAYLIGHT
TZOFFSETFROM:+0100
TZOFFSETTO:+0200
TZNAME:CEST
DTSTART:20240331T010000
END:DAYLIGHT
BEGIN:STANDARD
TZOFFSETFROM:+0200
TZOFFSETTO:+0100
TZNAME:CET
DTSTART:20241027T010000
END:STANDARD
BEGIN:DAYLIGHT
TZOFFSETFROM:+0100
TZOFFSETTO:+0200
TZNAME:CEST
DTSTART:20250330T010000
END:DAYLIGHT
BEGIN:STANDARD
TZOFFSETFROM:+0200
TZOFFSETTO:+0100
TZNAME:CET
DTSTART:20251026T010000
END:STANDARD
BEGIN:DAYLIGHT
TZOFFSETFROM:+0100
TZOFFSETTO:+0200
TZNAME:CEST
DTSTART:20260329T010000
END:DAYLIGHT
BEGIN:STANDARD
TZOFFSETFROM:+0200
TZOFFSETTO:+0100
TZNAME:CET
DTSTART:20261025T010000
END:STANDARD
END:VTIMEZONE
BEGIN:VEVENT
DTSTART;TZID=Europe/Madrid:20251211T190000
DTEND;TZID=Europe/Madrid:20251211T200000
DTSTAMP:20260416T215936
CREATED:20251128T110835Z
LAST-MODIFIED:20251211T154414Z
UID:10001415-1765479600-1765483200@www.acantilado.es
SUMMARY:[POSPUESTO] «¿Quién es el Nobel de este año?»\, con la editora Sandra Ollo en Barcelona
DESCRIPTION:[POSPUESTO] \nEl jueves 11 de diciembre tendrá lugar una charla titulada ¿Quién es el Nobel de este año? a cargo de Sandra Ollo. La editora conversará con los lectores acerca de la obra del escritor László Krasznahorkai. El encuentro será en la librería Casa Usher de Barcelona a las 19 h. \nLászló Krasznahorkai\, uno de los narradores más originales de la literatura europea\, ha creado a lo largo de los años una obra literaria singularísima\, y tal vez por ello se la ha comparado a menudo con la de otros autores únicos en su especie\, como Kafka–su héroe literario–\, Gógol\, Beckett o Bernhard. La desolación\, el apocalipsis y el absurdo\, que constituyen el telón de fondo de su mundo narrativo\, no están reñidos en su obra con la búsqueda de la belleza o el amor a la naturaleza como reflejo de la divinidad. \nLászló Krasznahorkai (Gyula\, Hungría\, 1954) recorrió durante años el país después de estudiar en Budapest y ejerció diversas profesiones en pueblos y ciudades de provincias. Acantilado ha publicado Melancolía de la resistencia (2001)—con la que se presentó a los lectores en lengua española—\, Al Norte la montaña\, al Sur el lago\, al Oeste el camino\, al Este el río (2005)\, Guerra y guerra (2009)\, Ha llegado Isaías (2009)\, Y Seiobo descendió a la Tierra (2015)\, Tango satánico (2017)\, Relaciones misericordiosas (2023) y El barón Wenckheim vuelve a casa (2024). Varias de sus obras han sido llevadas al cine. En 2004 recibió del Gobierno húngaro el Premio Kossuth\, uno de los más prestigiosos de su país\, por el conjunto de su obra; en 2015\, el Man Booker International; en 2021\, el Premio Austríaco de Literatura Europea\, y en 2024\, el Premio Formentor de las Letras.
URL:https://www.acantilado.es/evento/quien-es-el-nobel-de-este-ano-con-la-editora-sandra-ollo-en-barcelona/
LOCATION:Casa Usher\, Carrer de Santaló\, 79\, Barcelona\, 08021\, España
CATEGORIES:Conferencias,Encuentro
ATTACH;FMTTYPE=image/png:https://www.acantilado.es/wp-content/uploads/SANDRA-NOBEL-CASA-USHER-2025-2.png
ORGANIZER;CN="Casa Usher":MAILTO:casausher@casausher.com
GEO:41.3974903;2.1433148
X-APPLE-STRUCTURED-LOCATION;VALUE=URI;X-ADDRESS=Casa Usher Carrer de Santaló 79 Barcelona 08021 España;X-APPLE-RADIUS=500;X-TITLE=Carrer de Santaló\, 79:geo:2.1433148,41.3974903
END:VEVENT
BEGIN:VEVENT
DTSTART;TZID=Europe/Madrid:20250508T190000
DTEND;TZID=Europe/Madrid:20250508T200000
DTSTAMP:20260416T215936
CREATED:20250429T124955Z
LAST-MODIFIED:20250429T124955Z
UID:10001354-1746730800-1746734400@www.acantilado.es
SUMMARY:Club de lectura sobre «Breve elogio de Dante» en Barcelona
DESCRIPTION:El jueves 8 de mayo tendrá lugar un club de lectura sobre Breve elogio de Dante de Boccaccio en la librería Casa Usher a las 19 h. La actividad contará con la participación de Marilena de Chiara\, la traductora del volumen. \nEscrito entre 1351 y 1355\, Breve elogio de Dante es una de las primeras biografías de Dante en sentido moderno. Boccaccio\, gran admirador y conocedor de la obra del poeta florentino\, al que sin embargo jamás llegó a conocer\, se propuso componer una semblanza del que fue estrecho amigo de su padre y\, a sus ojos\, víctima de la bajeza moral de la Florencia del siglo XIV. Para ello\, recurrió tanto a episodios transmitidos por la tradición oral como a testimonios de personas que lo conocieron\, y abordó la figura del escritor con gran rigor moral y finísima ironía. Dante se nos muestra en estas páginas como hombre concernido por la realidad de su tiempo y creador de una obra divina—tal como el propio Boccaccio la bautizó—que abraza la literatura sacra y profana; como poeta que no sólo custodia el saber teológico\, sino que también defiende la verdad y los valores de la humanitas.
URL:https://www.acantilado.es/evento/club-de-lectura-sobre-breve-elogio-de-dante-en-barcelona/
LOCATION:Casa Usher\, Carrer de Santaló\, 79\, Barcelona\, 08021\, España
CATEGORIES:Club de lectura
ORGANIZER;CN="Casa Usher":MAILTO:casausher@casausher.com
GEO:41.3974903;2.1433148
X-APPLE-STRUCTURED-LOCATION;VALUE=URI;X-ADDRESS=Casa Usher Carrer de Santaló 79 Barcelona 08021 España;X-APPLE-RADIUS=500;X-TITLE=Carrer de Santaló\, 79:geo:2.1433148,41.3974903
END:VEVENT
BEGIN:VEVENT
DTSTART;TZID=Europe/Madrid:20250206T190000
DTEND;TZID=Europe/Madrid:20250206T200000
DTSTAMP:20260416T215936
CREATED:20250131T110910Z
LAST-MODIFIED:20250131T110910Z
UID:10001332-1738868400-1738872000@www.acantilado.es
SUMMARY:Club de lectura sobre «Yo estoy en la imagen» con Miguel Ángel Hernández en Barcelona
DESCRIPTION:El jueves\, 6 de febrero\, tendrá lugar un club de lectura sobre Yo estoy en la imagen que contará con la participación del autor Miguel Ángel Hernández. El evento tendrá lugar en la librería Casa Usher de Barcelona a las 19 h. \n\nEl acto de mirar es siempre interpretativo: supone el establecimiento de una relación íntima que afecta tanto al observador como al objeto de su mirada. Pese al supuesto distanciamiento que suele exigirse al teórico del arte\, Miguel Ángel Hernández lleva años aproximándose así a las imágenes para establecer con ellas un diálogo profundo en el continuum de arte y vida. El resultado son los textos aquí reunidos\, a medio camino entre el ensayo\, la autobiografía y la narrativa\, en los que siguiendo la estela de Benjamin\, Sontag y Barthes se exploran cuestiones como el valor de la memoria y su vínculo con el conocimiento\, el duelo\, la ética de la mirada\, las relaciones entre tecnología y deseo\, o la percepción subjetiva del tiempo. A través de una prosa atravesada de vivencias\, iluminaciones y experimentación literaria\, el ejercicio de contemplar imágenes se nos revela como una experiencia vital y transformadora. \n\nMiguel Ángel Hernández (Murcia\, 1977) es escritor y profesor de Historia del Arte en la Universidad de Murcia. Es autor de varios ensayos sobre arte contemporáneo y cultura visual entre los que destacan Materializar el pasado (2012)\, El arte a contratiempo (2020) y El don de la siesta (2020)\, así como de diez obras de narrativa\, entre las que se cuentan las novelas Intento de escapada (2013)\, El instante de peligro (2015)\, El dolor de los demás (2018) y Anoxia (2023)\, traducidas al francés\, alemán\, italiano e inglés. En Acantilado ha aparecido el ensayo Yo estoy en la imagen (2024).
URL:https://www.acantilado.es/evento/club-de-lectura-sobre-yo-estoy-en-la-imagen-con-miguel-angel-hernandez-en-barcelona/
LOCATION:Casa Usher\, Carrer de Santaló\, 79\, Barcelona\, 08021\, España
CATEGORIES:Club de lectura
GEO:41.3974903;2.1433148
X-APPLE-STRUCTURED-LOCATION;VALUE=URI;X-ADDRESS=Casa Usher Carrer de Santaló 79 Barcelona 08021 España;X-APPLE-RADIUS=500;X-TITLE=Carrer de Santaló\, 79:geo:2.1433148,41.3974903
END:VEVENT
BEGIN:VEVENT
DTSTART;TZID=Europe/Madrid:20241005T120000
DTEND;TZID=Europe/Madrid:20241005T130000
DTSTAMP:20260416T215936
CREATED:20240917T114414Z
LAST-MODIFIED:20240917T114414Z
UID:10001268-1728129600-1728133200@www.acantilado.es
SUMMARY:Mauricio Wiesenthal presenta «Las reinas del mar» en Barcelona
DESCRIPTION:Mauricio Wiesenthal presentará su última obra\, Las reinas del mar\, el próximo sábado 5 de octubre. El evento será en la librería Casa Usher a las 12 h. La editora Sandra Ollo acompañará al autor. \n \n\n«Quizá debo comenzar explicando que mi vida de escritor ha sido bastante aventurera\, más divertida y laboriosa que segura\, y mucho más arriesgada y tormentosa que rentable. Tampoco es raro\, si pensamos que el oficio de escribir es quehacer de horizonte: quesoñar de cielo\, como las navegaciones». En esta fascinante epopeya—a veces memoria feliz\, crónica de mil viajes narrados en escenarios de novela y de cine—Mauricio Wiesenthal nos embarca a bordo de legendarios navíos\, repletos de historias románticas\, de amores\, de lugares y de vidas apasionantes cuya memoria recupera este viajero empedernido. Las reinas del mar nos descubre que lo mejor de la travesía no reside en el regreso al puerto seguro del hogar\, sino en las personas\, las experiencias y los relatos que atesoramos a lo largo del viaje de la vida\, un teatro infinito con un escenario siempre cambiante. \n\nMauricio Wiesenthal (Barcelona\, 1943)\, además de escritor\, ha sido profesor de Historia de la Cultura y conferenciante invitado en varias universidades. Entre sus obras destacan los ensayos La belle époque del Orient Express (1979) e Imagen de España (1984) y la novela El testamento de Nobel (1985). Su pensamiento y su estilo literario son herederos del gran legado cultural europeo\, tradición en la que se inscribe su «Trilogía europea» (Libro de Réquiems\, 2004; El esnobismo de las golondrinas\, 2007; y Luz de vísperas\, 2008). En esta editorial han aparecido Siguiendo mi camino (2013)\, Rainer Maria Rilke (2015)\, La hispanibundia (2018)\, Orient-Express (2020)\, El derecho a disentir (2021) y Las reinas del mar (2024).
URL:https://www.acantilado.es/evento/mauricio-wiesenthal-presenta-las-reinas-del-mar-en-barcelona-2/
LOCATION:Casa Usher\, Carrer de Santaló\, 79\, Barcelona\, 08021\, España
CATEGORIES:Presentaciones
GEO:41.3974903;2.1433148
X-APPLE-STRUCTURED-LOCATION;VALUE=URI;X-ADDRESS=Casa Usher Carrer de Santaló 79 Barcelona 08021 España;X-APPLE-RADIUS=500;X-TITLE=Carrer de Santaló\, 79:geo:2.1433148,41.3974903
END:VEVENT
BEGIN:VEVENT
DTSTART;TZID=Europe/Madrid:20240606T190000
DTEND;TZID=Europe/Madrid:20240606T200000
DTSTAMP:20260416T215936
CREATED:20240522T145058Z
LAST-MODIFIED:20240522T145717Z
UID:10001223-1717700400-1717704000@www.acantilado.es
SUMMARY:Club de lectura con Josep Maria Esquirol en Barcelona
DESCRIPTION:El próximo jueves\, 6 de junio\, tendrá lugar un club de lectura con Josep Maria Esquirol. El evento será en la librería Casa Usher a las 19 h. \nJosep Maria Esquirol es catedrático de Filosofía de la Universidad de Barcelona\, donde da clases de Filosofía Contemporánea y dirige el grupo de investigación Aporia\, dedicado a la relación entre filosofía y psiquiatría. Ha publicado cerca de un centenar de artículos en revistas especializadas y una docena de libros. Especialmente en La resistencia íntima (Acantilado\, 2015)—que recibió los premios Ciutat de Barcelona y Nacional de Ensayo—\, junto con La penúltima bondad (Acantilado\, 2018) y Humano\, más humano (Acantilado\, 2021)\, traducidos al italiano\, portugués\, inglés y alemán\, el autor ha articulado su «filosofía de la proximidad». Acantilado también ha publicado La escuela del alma (2024).
URL:https://www.acantilado.es/evento/club-de-lectura-con-josep-maria-esquirol-en-barcelona/
LOCATION:Casa Usher\, Carrer de Santaló\, 79\, Barcelona\, 08021\, España
CATEGORIES:Club de lectura
GEO:41.3974903;2.1433148
X-APPLE-STRUCTURED-LOCATION;VALUE=URI;X-ADDRESS=Casa Usher Carrer de Santaló 79 Barcelona 08021 España;X-APPLE-RADIUS=500;X-TITLE=Carrer de Santaló\, 79:geo:2.1433148,41.3974903
END:VEVENT
BEGIN:VEVENT
DTSTART;TZID=Europe/Madrid:20240523T190000
DTEND;TZID=Europe/Madrid:20240523T200000
DTSTAMP:20260416T215936
CREATED:20240513T140105Z
LAST-MODIFIED:20240514T140300Z
UID:10001204-1716490800-1716494400@www.acantilado.es
SUMMARY:Club de lectura sobre «El murmullo del agua» con María Belmonte en Barcelona
DESCRIPTION:El jueves\, 23 de mayo\, tendrá lugar un club de lectura sobre El murmullo del agua que contará con la participación de la autora María Belmonte. El evento tendrá lugar en la Casa Usher Llibreters de Barcelona a las 19 h. \n \n«Con los años he llegado a descubrir que las fuentes son lugares mágicos y liminales a los que hay que acudir sin prisa\, como quien va a visitar a un amigo […] Las fuentes cantan y nos hablan directamente al subconsciente. Son paisajes sonoros\, musicales. Junto a ellas escuchamos la música de la vida que bulle a su alrededor […] Pero las fuentes no sólo procuran placer al oído\, sino que son una experiencia sensorial total. Reclaman la atención de nuestros cinco sentidos y conforman un microcosmos en el que las formas\, los colores y los sonidos ambientales están orquestados por el agua». En este extraordinario relato\, María Belmonte nos propone un viaje a través de los siglos para explorar el poder del agua y las fuentes desde las perspectivas más evocadoras. De su mano recorremos cautivadores lugares míticos\, materiales e históricos\, que la autora describe con su prosa vivaz y caudalosa. Una sugerente y hermosa invitación a pensar sobre el sentido de este bien tan preciado y escaso que es el agua. \nMaría Belmonte Barrenechea estudió Historia en la Universidad de Deusto y Antropología en la Autónoma de Barcelona. En 1995 se doctoró en el Departamento de Antropología Social de la Universidad del País Vasco (San Sebastián) con una tesis sobre Historia de las Religiones. Ejerce profesionalmente como traductora técnico-literaria. Ha publicado en Acantilado Peregrinos de la belleza. Viajeros por Italia y Grecia (2015)\, Los senderos del mar. Un viaje a pie (2017)\, En tierra de Dioniso. Vagabundeos por el norte de Grecia (2021) y El murmullo del agua. Fuentes\, jardines y divinidades acuáticas (2024).
URL:https://www.acantilado.es/evento/club-de-lectura-sobre-el-murmullo-del-agua-con-maria-belmonte-en-barcelona/
LOCATION:Casa Usher\, Carrer de Santaló\, 79\, Barcelona\, 08021\, España
CATEGORIES:Coloquio / Diálogo,Presentaciones
GEO:41.3974903;2.1433148
X-APPLE-STRUCTURED-LOCATION;VALUE=URI;X-ADDRESS=Casa Usher Carrer de Santaló 79 Barcelona 08021 España;X-APPLE-RADIUS=500;X-TITLE=Carrer de Santaló\, 79:geo:2.1433148,41.3974903
END:VEVENT
BEGIN:VEVENT
DTSTART;TZID=Europe/Madrid:20211002T120000
DTEND;TZID=Europe/Madrid:20211002T130000
DTSTAMP:20260416T215936
CREATED:20210921T095959Z
LAST-MODIFIED:20211023T185442Z
UID:10000901-1633176000-1633179600@www.acantilado.es
SUMMARY:Presentación de «El derecho a disentir» en Barcelona
DESCRIPTION:El escritor Mauricio Wiesenthal presentará su última obra\, El derecho a disentir\, el próximo sábado 2 de octubre en la librería Casa Usher a las 12 h. \nEl aforo es limitado. Se requiere reserva previa: casausher@casausher.com \nMauricio Wiesenthal (Barcelona\, 1943)\, además de escritor\, ha sido profesor de Historia de la Cultura y conferenciante invitado en varias universidades. Entre sus obras destacan los ensayos La belle époque del Orient Express (1979) e Imagen de España (1984) y la novela El testamento de Nobel (1985). Su pensamiento y su estilo literario son herederos del gran legado cultural europeo\, tradición en la que se inscribe su «Trilogía europea» (Libro de Réquiems\, 2004; El esnobismo de las golondrinas\, 2007; y Luz de vísperas\, 2008). En esta editorial han aparecido Siguiendo mi camino (2013)\, Rainer Maria Rilke (2015)\, La hispanibundia (2018) y Orient-Express (2020).
URL:https://www.acantilado.es/evento/presentacion-de-el-derecho-a-disentir-en-barcelona/
LOCATION:Casa Usher\, Carrer de Santaló\, 79\, Barcelona\, 08021\, España
CATEGORIES:Presentaciones
GEO:41.3974903;2.1433148
X-APPLE-STRUCTURED-LOCATION;VALUE=URI;X-ADDRESS=Casa Usher Carrer de Santaló 79 Barcelona 08021 España;X-APPLE-RADIUS=500;X-TITLE=Carrer de Santaló\, 79:geo:2.1433148,41.3974903
END:VEVENT
BEGIN:VEVENT
DTSTART;TZID=Europe/Madrid:20191022T190000
DTEND;TZID=Europe/Madrid:20191022T200000
DTSTAMP:20260416T215936
CREATED:20190927T081133Z
LAST-MODIFIED:20191022T073749Z
UID:10000769-1571770800-1571774400@www.acantilado.es
SUMMARY:ACTO CANCELADO. Conferencia de Mauricio Wiesenthal sobre Stefan Zweig en Barcelona
DESCRIPTION:Lamentablemente hemos tenido de cancelar el acto por motivos climatológicos. \n \n  \nAcantilado será editorial del mes de octubre en Casa Usher y por ello Mauricio Wiesenthal dará una charla abierta sobre Stefan Zweig y su obra. La conferencia será el próximo martes 22 de octubre a las 19 h. Entrada libre y gratuita. \n  \nMauricio Wiesenthal (Barcelona\, 1943)\, además de escritor\, ha sido profesor de Historia de la Cultura y conferenciante invitado en varias universidades. Entre sus obras destacan los ensayos La belle époque del Orient Express (1979) e Imagen de España (1984) y la novela El testamento de Nobel (1985). Su pensamiento y su estilo literario son herederos del gran legado cultural europeo\, tradición en la que se inscribe su «Trilogía europea» (Libro de Réquiems\, 2004; El esnobismo de las golondrinas\, 2007; y Luz de vísperas\, 2008). En esta editorial han aparecido Siguiendo mi camino (2013)\, Rainer Maria Rilke (2015) y La hispanibundia (2018). \n 
URL:https://www.acantilado.es/evento/conferencia-de-mauricio-wiesenthal-sobre-stefan-zweig-en-barcelona-2/
LOCATION:Casa Usher\, Carrer de Santaló\, 79\, Barcelona\, 08021\, España
CATEGORIES:Conferencias
GEO:41.3974903;2.1433148
X-APPLE-STRUCTURED-LOCATION;VALUE=URI;X-ADDRESS=Casa Usher Carrer de Santaló 79 Barcelona 08021 España;X-APPLE-RADIUS=500;X-TITLE=Carrer de Santaló\, 79:geo:2.1433148,41.3974903
END:VEVENT
BEGIN:VEVENT
DTSTART;TZID=Europe/Madrid:20190408T190000
DTEND;TZID=Europe/Madrid:20190408T190000
DTSTAMP:20260416T215936
CREATED:20190402T100052Z
LAST-MODIFIED:20190404T104400Z
UID:10000733-1554750000-1554750000@www.acantilado.es
SUMMARY:Club de lectura sobre «Intramuros» (Barcelona)
DESCRIPTION:Club de lectura sobre Intramuros\, libro primero de la Novela de Ferrara\, de Giorgio Bassani. Con la participación de Sandra Ollo. \nEl próximo lunes 8 de abril en Casa Usher\, a las 19:00h. \n  \n \n  \nEn Intramuros\, el escritor italiano traza el vívido fresco de un mundo que se desvanece ante la mirada perpleja de sus personajes: Lida Mantovani\, joven madre soltera que se casa con un hombre al que jamás consigue amar; Elia Corcos\, médico judío enamorado de una campesina católica; Geo Josz\, único superviviente de la comunidad israelita de Ferrara tras las deportaciones de 1943; Clelia Trotti\, anciana militante socialista muerta en la cárcel durante la ocupación nazi; y Pino Barilari\, testigo de la represalia de las Brigadas Negras contra los antifascistas. A través de los distintos microcosmos maravillosamente recreados\, Bassani evoca de un modo sutil y conmovedor uno de los episodios más terribles de la historia reciente de Italia. \n  \n  \nGiorgio Bassani (Bolonia\, 1916 – Roma\, 2000) pasó la mayor parte de su infancia y primera juventud en Ferrara\, y después de un breve arresto a causa de su activismo político clandestino\, se trasladó a Florencia e inmediatamente después a Roma\, donde se estableció definitivamente. Tras la guerra colaboró en distintas publicaciones literarias\, fue vicepresidente de la RAI\, profesor de Historia del Teatro en la Academia Nacional de Arte Dramático de Roma y editor de Feltrinelli. A pesar de que también escribió poesía y ensayo\, su obra más conocida es la monumental Novela de Ferrara\, cuya versión definitiva vio la luz en 1980. \n 
URL:https://www.acantilado.es/evento/club-de-lectura-sobre-intramuros/
LOCATION:Casa Usher\, Carrer de Santaló\, 79\, Barcelona\, 08021\, España
GEO:41.3974903;2.1433148
X-APPLE-STRUCTURED-LOCATION;VALUE=URI;X-ADDRESS=Casa Usher Carrer de Santaló 79 Barcelona 08021 España;X-APPLE-RADIUS=500;X-TITLE=Carrer de Santaló\, 79:geo:2.1433148,41.3974903
END:VEVENT
BEGIN:VEVENT
DTSTART;TZID=Europe/Madrid:20181025T190000
DTEND;TZID=Europe/Madrid:20181025T200000
DTSTAMP:20260416T215936
CREATED:20181009T094046Z
LAST-MODIFIED:20181009T094046Z
UID:10000663-1540494000-1540497600@www.acantilado.es
SUMMARY:Diálogo entre Sandra Ollo y María Belmonte en Barcelona
DESCRIPTION:Sandra Ollo\, editora de Acantilado\, y María Belmonte\, autora de los ensayos Peregrinos de la belleza y Los senderos del mar\, conversarán sobre el mundo de la edición y la creación literaria el próximo 25 de octubre en la librería barcelonesa Casa Usher.
URL:https://www.acantilado.es/evento/dialogo-entre-sandra-ollo-y-maria-belmonte-en-barcelona/
LOCATION:Casa Usher\, Carrer de Santaló\, 79\, Barcelona\, 08021\, España
CATEGORIES:Conferencias,Presentaciones
ORGANIZER;CN="Editorial Acantilado":MAILTO:info@acantilado.es
GEO:41.3974903;2.1433148
X-APPLE-STRUCTURED-LOCATION;VALUE=URI;X-ADDRESS=Casa Usher Carrer de Santaló 79 Barcelona 08021 España;X-APPLE-RADIUS=500;X-TITLE=Carrer de Santaló\, 79:geo:2.1433148,41.3974903
END:VEVENT
BEGIN:VEVENT
DTSTART;TZID=Europe/Madrid:20181002T190000
DTEND;TZID=Europe/Madrid:20181002T210000
DTSTAMP:20260416T215936
CREATED:20180727T080416Z
LAST-MODIFIED:20181017T060156Z
UID:10000600-1538506800-1538514000@www.acantilado.es
SUMMARY:Conferencia en Barcelona de Mauricio Wiesenthal sobre Stefan Zweig
DESCRIPTION:Acantilado será editorial del mes de octubre en Casa Usher y por ello\, Mauricio Wiesenthal dará una charla abierta sobre Stefan Zweig y su obra\, el próximo martes 2 de octubre a las 19 h. \nMauricio Wiesenthal (Barcelona\, 1943)\, además de escritor\, ha sido profesor de Historia de la Cultura y conferenciante invitado en varias universidades. Entre sus obras destacan los ensayos La belle époque del Orient Express (1979) e Imagen de España (1984) y la novela El testamento de Nobel (1985). Su pensamiento y su estilo literario son herederos del gran legado cultural europeo\, tradición en la que se inscribe su «Trilogía europea» (Libro de Réquiems\, 2004; El esnobismo de las golondrinas\, 2007; y Luz de vísperas\, 2008). En esta editorial han aparecido Siguiendo mi camino (2013) y Rainer Maria Rilke (2015).
URL:https://www.acantilado.es/evento/mauricio-wiesenthal-homenajea-a-stefan-zweig-en-barcelona/
LOCATION:Casa Usher\, Carrer de Santaló\, 79\, Barcelona\, 08021\, España
CATEGORIES:Conferencias
ORGANIZER;CN="Casa Usher":MAILTO:casausher@casausher.com
GEO:41.3974903;2.1433148
X-APPLE-STRUCTURED-LOCATION;VALUE=URI;X-ADDRESS=Casa Usher Carrer de Santaló 79 Barcelona 08021 España;X-APPLE-RADIUS=500;X-TITLE=Carrer de Santaló\, 79:geo:2.1433148,41.3974903
END:VEVENT
END:VCALENDAR