BEGIN:VCALENDAR
VERSION:2.0
PRODID:-//ACANTILADO - ECPv6.15.18//NONSGML v1.0//EN
CALSCALE:GREGORIAN
METHOD:PUBLISH
X-ORIGINAL-URL:https://www.acantilado.es
X-WR-CALDESC:Eventos para ACANTILADO
REFRESH-INTERVAL;VALUE=DURATION:PT1H
X-Robots-Tag:noindex
X-PUBLISHED-TTL:PT1H
BEGIN:VTIMEZONE
TZID:Europe/Madrid
BEGIN:DAYLIGHT
TZOFFSETFROM:+0100
TZOFFSETTO:+0200
TZNAME:CEST
DTSTART:20190331T010000
END:DAYLIGHT
BEGIN:STANDARD
TZOFFSETFROM:+0200
TZOFFSETTO:+0100
TZNAME:CET
DTSTART:20191027T010000
END:STANDARD
BEGIN:DAYLIGHT
TZOFFSETFROM:+0100
TZOFFSETTO:+0200
TZNAME:CEST
DTSTART:20200329T010000
END:DAYLIGHT
BEGIN:STANDARD
TZOFFSETFROM:+0200
TZOFFSETTO:+0100
TZNAME:CET
DTSTART:20201025T010000
END:STANDARD
BEGIN:DAYLIGHT
TZOFFSETFROM:+0100
TZOFFSETTO:+0200
TZNAME:CEST
DTSTART:20210328T010000
END:DAYLIGHT
BEGIN:STANDARD
TZOFFSETFROM:+0200
TZOFFSETTO:+0100
TZNAME:CET
DTSTART:20211031T010000
END:STANDARD
END:VTIMEZONE
BEGIN:VEVENT
DTSTART;TZID=Europe/Madrid:20201015T190000
DTEND;TZID=Europe/Madrid:20201015T200000
DTSTAMP:20260415T133932
CREATED:20201007T114404Z
LAST-MODIFIED:20201013T153429Z
UID:10000826-1602788400-1602792000@www.acantilado.es
SUMMARY:Presentación de «San\, el libro de los milagros» en Logroño
DESCRIPTION:Manuel Astur presentará su última novela\, San\, el libro de los milagros\, el próximo 15 de octubre a las 19 h. El autor conversará con Alberto García Marcos\, editor de Fulgencio Pimentel. La actividad será en la Casa del Libro de Logroño (Calle Doctores Castroviejo\, 19) y para asistir es necesario hacer reserva previa enviando un email a puntoinfo.logro@casadellibro.com. \nSan\, el libro de los milagros\, bella y sorprendente\, es como un espejo donde nos reflejamos todos. El lector\, sea de ciudad o de campo\, puede asomarse a un mundo mítico\, en el que la Historia es solo otra fábula que se cuenta junto al fuego\, y limpiar en ella su mirada hasta dejarla tan clara como la de su protagonista. \nFoto: Luis Diaz Diaz\nManuel Astur (Sama de Grado\, 1980) es escritor\, poeta y editor. Ha impartido cursos de literatura en distintas escuelas y colabora asiduamente con artículos\, reseñas y columnas en diversos medios. Fue editor de la revista cultural madrileña Arto! Ha publicado relatos en varias antologías\, así como el poemario Y encima es mi cumpleaños (2013)\, la novela Quince días para acabar con el mundo (2014) y el ensayo emocional Seré un anciano hermoso en un gran país (2016). En 2017 fue elegido una de las «Diez nuevas voces más interesantes del continente europeo» en el marco del proyecto Literary Europe Live.
URL:https://www.acantilado.es/evento/presentacion-de-san-el-libro-de-los-milagros-en-logrono/
LOCATION:Casa del Libro de Logroño\, Calle Doctores Castroviejo\, 19\, Logroño\, La Rioja\, 26003
CATEGORIES:Presentaciones
GEO:42.462741;-2.4417392
X-APPLE-STRUCTURED-LOCATION;VALUE=URI;X-ADDRESS=Casa del Libro de Logroño Calle Doctores Castroviejo 19 Logroño La Rioja 26003;X-APPLE-RADIUS=500;X-TITLE=Calle Doctores Castroviejo\, 19:geo:-2.4417392,42.462741
END:VEVENT
END:VCALENDAR