BEGIN:VCALENDAR
VERSION:2.0
PRODID:-//ACANTILADO - ECPv6.15.18//NONSGML v1.0//EN
CALSCALE:GREGORIAN
METHOD:PUBLISH
X-ORIGINAL-URL:https://www.acantilado.es
X-WR-CALDESC:Eventos para ACANTILADO
REFRESH-INTERVAL;VALUE=DURATION:PT1H
X-Robots-Tag:noindex
X-PUBLISHED-TTL:PT1H
BEGIN:VTIMEZONE
TZID:Europe/Madrid
BEGIN:DAYLIGHT
TZOFFSETFROM:+0100
TZOFFSETTO:+0200
TZNAME:CEST
DTSTART:20220327T010000
END:DAYLIGHT
BEGIN:STANDARD
TZOFFSETFROM:+0200
TZOFFSETTO:+0100
TZNAME:CET
DTSTART:20221030T010000
END:STANDARD
BEGIN:DAYLIGHT
TZOFFSETFROM:+0100
TZOFFSETTO:+0200
TZNAME:CEST
DTSTART:20230326T010000
END:DAYLIGHT
BEGIN:STANDARD
TZOFFSETFROM:+0200
TZOFFSETTO:+0100
TZNAME:CET
DTSTART:20231029T010000
END:STANDARD
BEGIN:DAYLIGHT
TZOFFSETFROM:+0100
TZOFFSETTO:+0200
TZNAME:CEST
DTSTART:20240331T010000
END:DAYLIGHT
BEGIN:STANDARD
TZOFFSETFROM:+0200
TZOFFSETTO:+0100
TZNAME:CET
DTSTART:20241027T010000
END:STANDARD
END:VTIMEZONE
BEGIN:VEVENT
DTSTART;TZID=Europe/Madrid:20230422T113000
DTEND;TZID=Europe/Madrid:20230422T123000
DTSTAMP:20260420T145013
CREATED:20230419T074947Z
LAST-MODIFIED:20230419T080653Z
UID:10001056-1682163000-1682166600@www.acantilado.es
SUMMARY:Entrega del Premio «Amigo de la Biblioteca en el campo de las Letras 2022» a Fulgencio Argüelles
DESCRIPTION:El sábado 22 de abril a las 11:45 h se le entregará al escritor Fulgencio Argüelles el Premio «Amigo de la Biblioteca en el campo de las Letras 2022» en la Casa de Cultura de Luarca (Palacio de los Marqueses de Ferrera). \nFulgencio Argüelles nació en 1955. Después de una larga estancia en Madrid\, donde estudió Psicología\, regresó a Cenera\, Asturias\, el lugar de su infancia y juventud. Su primera novela\, Letanías de lluvia\, recibió el premio Azorín en 1992. Desde entonces ha publicado diversas novelas\, entre las que cabe destacar Recuerdos de algún vivir—Premio Principado de Asturias 2000—\, El palacio azul de los ingenieros belgas (Acantilado\, 2003)—Premio Café Gijón—\, No encuentro mi cara en el espejo (Acantilado\, 2014)\, El otoño en la casa de los sauces (Acantilado\, 2018) y Noches de luna rota (Acantilado\, 2022).
URL:https://www.acantilado.es/evento/entrega-del-premio-amigo-de-la-biblioteca-en-el-campo-de-las-letras-2022-a-fulgencio-arguelles/
LOCATION:Casa de Cultura de Luarca (Palacio del Marques de Ferrara)\, Calle Olavarrieta\, 24\, Luarca\, Asturias\, 33700
CATEGORIES:Evento
GEO:43.5443171;-6.5335818
X-APPLE-STRUCTURED-LOCATION;VALUE=URI;X-ADDRESS=Casa de Cultura de Luarca (Palacio del Marques de Ferrara) Calle Olavarrieta 24 Luarca Asturias 33700;X-APPLE-RADIUS=500;X-TITLE=Calle Olavarrieta\, 24:geo:-6.5335818,43.5443171
END:VEVENT
END:VCALENDAR