BEGIN:VCALENDAR
VERSION:2.0
PRODID:-//ACANTILADO - ECPv6.15.18//NONSGML v1.0//EN
CALSCALE:GREGORIAN
METHOD:PUBLISH
X-WR-CALNAME:ACANTILADO
X-ORIGINAL-URL:https://www.acantilado.es
X-WR-CALDESC:Eventos para ACANTILADO
REFRESH-INTERVAL;VALUE=DURATION:PT1H
X-Robots-Tag:noindex
X-PUBLISHED-TTL:PT1H
BEGIN:VTIMEZONE
TZID:Europe/Madrid
BEGIN:DAYLIGHT
TZOFFSETFROM:+0100
TZOFFSETTO:+0200
TZNAME:CEST
DTSTART:20200329T010000
END:DAYLIGHT
BEGIN:STANDARD
TZOFFSETFROM:+0200
TZOFFSETTO:+0100
TZNAME:CET
DTSTART:20201025T010000
END:STANDARD
BEGIN:DAYLIGHT
TZOFFSETFROM:+0100
TZOFFSETTO:+0200
TZNAME:CEST
DTSTART:20210328T010000
END:DAYLIGHT
BEGIN:STANDARD
TZOFFSETFROM:+0200
TZOFFSETTO:+0100
TZNAME:CET
DTSTART:20211031T010000
END:STANDARD
BEGIN:DAYLIGHT
TZOFFSETFROM:+0100
TZOFFSETTO:+0200
TZNAME:CEST
DTSTART:20220327T010000
END:DAYLIGHT
BEGIN:STANDARD
TZOFFSETFROM:+0200
TZOFFSETTO:+0100
TZNAME:CET
DTSTART:20221030T010000
END:STANDARD
END:VTIMEZONE
BEGIN:VEVENT
DTSTART;TZID=Europe/Madrid:20211129T190000
DTEND;TZID=Europe/Madrid:20211129T200000
DTSTAMP:20260417T191758
CREATED:20211122T082901Z
LAST-MODIFIED:20211123T155055Z
UID:10000926-1638212400-1638216000@www.acantilado.es
SUMMARY:Conferencia «Tocado\, pero no hundido» de Josep Maria Esquirol en Palma
DESCRIPTION:El próximo lunes 29 de noviembre Josep Maria Esquirol dará una conferencia titulada «Tocado\, pero no hundido» a propósito de su último ensayo\, Humano\, más humano. En Can Alcover (Palma) a las 19 h. Presentan: Joaquim Valdivielso y Monserrat Alcaraz. \nPara asistir se requiere inscripción. Contacta con activitats@ocb.cat \nOrganiza: Obra Cultural Balear. \nJosep Maria Esquirol es catedrático de Filosofía de la Universidad de Barcelona\, donde da clases de Filosofía Contemporánea y dirige el grupo de investigación Aporia\, dedicado a la relación entre filosofía y psiquiatría. Ha publicado cerca de un centenar de artículos en revistas especializadas\, y una docena de libros\, entre los cuales destacan Uno mismo y los otros (2005)\, El respeto o la mirada atenta (2006)\, El respirar de los días (2009)\, Los filósofos contemporáneos y la técnica (2011) y\, muy especialmente\, La resistencia íntima (Acantilado\, 2015)\, que recibió los premios Ciutat de Barcelona y Nacional de Ensayo\, y se ha traducido al italiano\, portugués\, inglés y alemán; La penúltima bondad (Acantilado\, 2018) y Humano\, más humano (Acantilado\, 2021).
URL:https://www.acantilado.es/evento/conferencia-tocado-pero-no-hundido-de-josep-maria-esquirol-en-palma/
LOCATION:Can Alcover\, Carrer de Sant Alonso\, 24\,\, Palma\, Illes Balears\, 07001
CATEGORIES:Conferencias
GEO:39.5666236;2.6526021
X-APPLE-STRUCTURED-LOCATION;VALUE=URI;X-ADDRESS=Can Alcover Carrer de Sant Alonso 24 Palma Illes Balears 07001;X-APPLE-RADIUS=500;X-TITLE=Carrer de Sant Alonso\, 24\,:geo:2.6526021,39.5666236
END:VEVENT
END:VCALENDAR