BEGIN:VCALENDAR
VERSION:2.0
PRODID:-//ACANTILADO - ECPv6.15.18//NONSGML v1.0//EN
CALSCALE:GREGORIAN
METHOD:PUBLISH
X-ORIGINAL-URL:https://www.acantilado.es
X-WR-CALDESC:Eventos para ACANTILADO
REFRESH-INTERVAL;VALUE=DURATION:PT1H
X-Robots-Tag:noindex
X-PUBLISHED-TTL:PT1H
BEGIN:VTIMEZONE
TZID:Europe/Madrid
BEGIN:DAYLIGHT
TZOFFSETFROM:+0100
TZOFFSETTO:+0200
TZNAME:CEST
DTSTART:20210328T010000
END:DAYLIGHT
BEGIN:STANDARD
TZOFFSETFROM:+0200
TZOFFSETTO:+0100
TZNAME:CET
DTSTART:20211031T010000
END:STANDARD
BEGIN:DAYLIGHT
TZOFFSETFROM:+0100
TZOFFSETTO:+0200
TZNAME:CEST
DTSTART:20220327T010000
END:DAYLIGHT
BEGIN:STANDARD
TZOFFSETFROM:+0200
TZOFFSETTO:+0100
TZNAME:CET
DTSTART:20221030T010000
END:STANDARD
BEGIN:DAYLIGHT
TZOFFSETFROM:+0100
TZOFFSETTO:+0200
TZNAME:CEST
DTSTART:20230326T010000
END:DAYLIGHT
BEGIN:STANDARD
TZOFFSETFROM:+0200
TZOFFSETTO:+0100
TZNAME:CET
DTSTART:20231029T010000
END:STANDARD
BEGIN:DAYLIGHT
TZOFFSETFROM:+0100
TZOFFSETTO:+0200
TZNAME:CEST
DTSTART:20240331T010000
END:DAYLIGHT
BEGIN:STANDARD
TZOFFSETFROM:+0200
TZOFFSETTO:+0100
TZNAME:CET
DTSTART:20241027T010000
END:STANDARD
BEGIN:DAYLIGHT
TZOFFSETFROM:+0100
TZOFFSETTO:+0200
TZNAME:CEST
DTSTART:20250330T010000
END:DAYLIGHT
BEGIN:STANDARD
TZOFFSETFROM:+0200
TZOFFSETTO:+0100
TZNAME:CET
DTSTART:20251026T010000
END:STANDARD
END:VTIMEZONE
BEGIN:VEVENT
DTSTART;TZID=Europe/Madrid:20240408T190000
DTEND;TZID=Europe/Madrid:20240408T200000
DTSTAMP:20260419T145620
CREATED:20240402T093931Z
LAST-MODIFIED:20240402T093931Z
UID:10001171-1712602800-1712606400@www.acantilado.es
SUMMARY:Conferencia de Pedro Olalla en Oviedo
DESCRIPTION:El escritor Pedro Olalla impartirá una conferencia llamada “La lección griega: Reflexiones deontológicas urgentes desde los principios de la Democracia” en el Paraninfo de la Universidad de Oviedo. El evento será el próximo lunes\, 8 de abril\, a las 19h. \nPedro Olalla (Asturias\, 1966) es escritor\, helenista\, profesor\, traductor y cineasta\, afincado en Atenas desde 1994. Su obra literaria y audiovisual explora y da a conocer la cultura griega y humanista combinando elementos literarios\, plásticos y científicos mediante un lenguaje marcadamente personal. Por el conjunto de su obra y por su labor en la promoción de la cultura griega ha recibido\, entre otros importantes reconocimientos\, los títulos de Embajador del Helenismo (Estado griego)\, Caballero de la Orden del Mérito Civil (Estado español) y Miembro Asociado del Centro de Estudios Helénicos de la Universidad de Harvard. En Acantilado ha publicado los ensayos Historia menor de Grecia (2012)\, Grecia en el aire (2015)\, De senectute politica (2018) y Palabras del Egeo (2022)\, la edición conmemorativa Cervantes y Grecia (2016) y la traducción de Lirio y serpiente (2013)\, de Nikos Kazantzakis.
URL:https://www.acantilado.es/evento/conferencia-de-pedro-olalla-en-oviedo/
LOCATION:Campus del Milán/Humanidades (Universidad de Oviedo)\, C/ Amparo Pedregal\, s/n\, Oviedo\, Asturias\, 33011
CATEGORIES:Conferencias
GEO:43.367168;-5.8403781
X-APPLE-STRUCTURED-LOCATION;VALUE=URI;X-ADDRESS=Campus del Milán/Humanidades (Universidad de Oviedo) C/ Amparo Pedregal s/n Oviedo Asturias 33011;X-APPLE-RADIUS=500;X-TITLE=C/ Amparo Pedregal\, s/n:geo:-5.8403781,43.367168
END:VEVENT
BEGIN:VEVENT
DTSTART;TZID=Europe/Madrid:20221024T180000
DTEND;TZID=Europe/Madrid:20221024T190000
DTSTAMP:20260419T145620
CREATED:20221017T085746Z
LAST-MODIFIED:20221020T105001Z
UID:10001003-1666634400-1666638000@www.acantilado.es
SUMMARY:Pedro Olalla presenta «Palabras del Egeo» en Oviedo
DESCRIPTION:El escritor Pedro Olalla presentará su último ensayo\, Palabras del Egeo\, en una conversación con los profesores Ignacio Loy\, Esther Castro y María de Paz. En el Campus del Milán/Humanidades (Universidad de Oviedo) el lunes 24 de octubre a las 18 h. \nOrganiza: «La Ciudadana» y «Céfiro» (Asociación Asturiana de Profesores de Latín y Griego) \nPedro Olalla (Asturias\, 1966) es escritor\, helenista\, profesor\, traductor y cineasta\, afincado en Atenas desde 1994. Su obra literaria y audiovisual explora y da a conocer la cultura griega y humanista combinando elementos literarios\, plásticos y científicos mediante un lenguaje marcadamente personal. Por el conjunto de su obra y por su labor en la promoción de la cultura griega ha recibido\, entre otros importantes reconocimientos\, los títulos de Embajador del Helenismo (Estado griego)\, Caballero de la Orden del Mérito Civil (Estado español) y Miembro Asociado del Centro de Estudios Helénicos de la Universidad de Harvard. En Acantilado ha publicado los ensayos Historia menor de Grecia (2012)\, Grecia en el aire (2015)\, De senectute politica (2018) y Palabras del Egeo (2022)\, la edición conmemorativa Cervantes y Grecia (2016) y la traducción de Lirio y serpiente (2013)\, de Nikos Kazantzakis.
URL:https://www.acantilado.es/evento/pedro-olalla-presenta-palabras-del-egeo-en-oviedo/
LOCATION:Campus del Milán/Humanidades (Universidad de Oviedo)\, C/ Amparo Pedregal\, s/n\, Oviedo\, Asturias\, 33011
CATEGORIES:Coloquio / Diálogo,Presentaciones
GEO:43.367168;-5.8403781
X-APPLE-STRUCTURED-LOCATION;VALUE=URI;X-ADDRESS=Campus del Milán/Humanidades (Universidad de Oviedo) C/ Amparo Pedregal s/n Oviedo Asturias 33011;X-APPLE-RADIUS=500;X-TITLE=C/ Amparo Pedregal\, s/n:geo:-5.8403781,43.367168
END:VEVENT
END:VCALENDAR