BEGIN:VCALENDAR
VERSION:2.0
PRODID:-//ACANTILADO - ECPv6.15.18//NONSGML v1.0//EN
CALSCALE:GREGORIAN
METHOD:PUBLISH
X-ORIGINAL-URL:https://www.acantilado.es
X-WR-CALDESC:Eventos para ACANTILADO
REFRESH-INTERVAL;VALUE=DURATION:PT1H
X-Robots-Tag:noindex
X-PUBLISHED-TTL:PT1H
BEGIN:VTIMEZONE
TZID:Europe/Madrid
BEGIN:DAYLIGHT
TZOFFSETFROM:+0100
TZOFFSETTO:+0200
TZNAME:CEST
DTSTART:20190331T010000
END:DAYLIGHT
BEGIN:STANDARD
TZOFFSETFROM:+0200
TZOFFSETTO:+0100
TZNAME:CET
DTSTART:20191027T010000
END:STANDARD
BEGIN:DAYLIGHT
TZOFFSETFROM:+0100
TZOFFSETTO:+0200
TZNAME:CEST
DTSTART:20200329T010000
END:DAYLIGHT
BEGIN:STANDARD
TZOFFSETFROM:+0200
TZOFFSETTO:+0100
TZNAME:CET
DTSTART:20201025T010000
END:STANDARD
BEGIN:DAYLIGHT
TZOFFSETFROM:+0100
TZOFFSETTO:+0200
TZNAME:CEST
DTSTART:20210328T010000
END:DAYLIGHT
BEGIN:STANDARD
TZOFFSETFROM:+0200
TZOFFSETTO:+0100
TZNAME:CET
DTSTART:20211031T010000
END:STANDARD
END:VTIMEZONE
BEGIN:VEVENT
DTSTART;TZID=Europe/Madrid:20200920T133000
DTEND;TZID=Europe/Madrid:20200920T143000
DTSTAMP:20260417T045653
CREATED:20200730T162030Z
LAST-MODIFIED:20200730T162030Z
UID:10000822-1600608600-1600612200@www.acantilado.es
SUMMARY:HAY Festival Segovia: Coloquio entre Adam Michnik y Fernando Savater
DESCRIPTION:El filósofo y ensayista español Fernando Savater\, reconocido por su extensa obra sobre el terrorismo vasco y galardonado con el premio Octavio Paz\, y el historiador polaco Adam Michnik\, director del diario Gazeta Wyborcza\, activista político receptor de múltiples honores entre ellos ser nombrado Chevalier de la Légion d’Honneur\, coinciden en que ha llegado la hora de hacer un esfuerzo para renacer el espíritu europeo ante la amenaza de los nacionalismos radicales. Estos dos íconos de la libertad plural y defensores de Europa comparten sus preocupaciones y comparten impresiones en el escenario. \nTraducción simultánea del polaco al español y del español al polaco. \nEste acto forma parte del programa de HAY Festival Segovia. Consigue tu entrada aquí. \nAdam Michnik (Varsovia\, 1946) fue el líder del movimiento disidente en Polonia. Fundador y director de Gazeta Wyborcza\, el más importante periódico polaco\, es autor de diversas colecciones de ensayos. Reconocido con múltiples condecoraciones y doctorados honoris causa en distintos países\, ha recibido entre otros el Premio Robert F. Kennedy de derechos humanos y el Premio Erasmus por su contribución a la construcción de Europa. Acantilado ha publicado el ensayo En busca del significado perdido. La nueva Europa del Este.
URL:https://www.acantilado.es/evento/hay-festival-segovia-coloquio-entre-adam-michnik-y-fernando-savater/
LOCATION:Campus de Santa Cruz la Real (Universidad IE)\, Calle Cardenal Zúñiga\, 12\, Segovia\, 40003
CATEGORIES:Conferencias
GEO:40.9528852;-4.1188364
X-APPLE-STRUCTURED-LOCATION;VALUE=URI;X-ADDRESS=Campus de Santa Cruz la Real (Universidad IE) Calle Cardenal Zúñiga 12 Segovia 40003;X-APPLE-RADIUS=500;X-TITLE=Calle Cardenal Zúñiga\, 12:geo:-4.1188364,40.9528852
END:VEVENT
END:VCALENDAR