BEGIN:VCALENDAR
VERSION:2.0
PRODID:-//ACANTILADO - ECPv6.15.18//NONSGML v1.0//EN
CALSCALE:GREGORIAN
METHOD:PUBLISH
X-WR-CALNAME:ACANTILADO
X-ORIGINAL-URL:https://www.acantilado.es
X-WR-CALDESC:Eventos para ACANTILADO
REFRESH-INTERVAL;VALUE=DURATION:PT1H
X-Robots-Tag:noindex
X-PUBLISHED-TTL:PT1H
BEGIN:VTIMEZONE
TZID:Europe/Madrid
BEGIN:DAYLIGHT
TZOFFSETFROM:+0100
TZOFFSETTO:+0200
TZNAME:CEST
DTSTART:20190331T010000
END:DAYLIGHT
BEGIN:STANDARD
TZOFFSETFROM:+0200
TZOFFSETTO:+0100
TZNAME:CET
DTSTART:20191027T010000
END:STANDARD
BEGIN:DAYLIGHT
TZOFFSETFROM:+0100
TZOFFSETTO:+0200
TZNAME:CEST
DTSTART:20200329T010000
END:DAYLIGHT
BEGIN:STANDARD
TZOFFSETFROM:+0200
TZOFFSETTO:+0100
TZNAME:CET
DTSTART:20201025T010000
END:STANDARD
BEGIN:DAYLIGHT
TZOFFSETFROM:+0100
TZOFFSETTO:+0200
TZNAME:CEST
DTSTART:20210328T010000
END:DAYLIGHT
BEGIN:STANDARD
TZOFFSETFROM:+0200
TZOFFSETTO:+0100
TZNAME:CET
DTSTART:20211031T010000
END:STANDARD
END:VTIMEZONE
BEGIN:VEVENT
DTSTART;TZID=Europe/Madrid:20200920T103000
DTEND;TZID=Europe/Madrid:20200920T113000
DTSTAMP:20260417T230350
CREATED:20200730T120232Z
LAST-MODIFIED:20200917T115631Z
UID:10000821-1600597800-1600601400@www.acantilado.es
SUMMARY:HAY Festival Segovia: Umberto Pasti y Ngoc Minh Ngo en conversación con Sofía Barroso
DESCRIPTION:Umberto Pasti y Ngoc Minh Ngo conversarán con Sofía Barroso\, gestora cultural y organizadora de viajes de jardines\, el próximo domingo 20 de septiembre a las 10:30 h. La conferencia\, con traducción simultánea del inglés al español\, se podrá ver en directo en Youtube. \nEste acto forma parte del programa de HAY Festival Segovia. \n \nCuando el nombre de Rohuna (localidad marroquí\, 60 kilómetros al Sur de Tánger) se cruzó en la vida de Umberto Pasti para quedarse\, él ya era un diseñador de jardines de fama internacional. Nacido en Milán y filósofo de formación\, Pasti es además escritor\, crítico de arte y literatura\, coleccionista y esteta. Libros como Jardines. Los verdaderos y los otros\, La felicidad del sapo o\, el más reciente\, Perdido en el paraíso dan cuenta de su forma de entender la vida ligada a una naturaleza que a menudo el hombre se empeña en destruir. “Cuando desaparece una planta\, desaparece una forma de vida”\, acostumbra a decir. De ahí que en su paraíso particular de Rohuna haya trabajado durante dos décadas para reunir más de 1.200 especies de flora autóctona\, de las cuales casi un centenar estaban en peligro de extinción. Su vida transcurre entre Milán\, Tánger\, ciudad en la que conoció a Paul Bowles y Juan Goytisolo\, y su paraíso particular de Rohuna\, prueba de cómo los sueños pueden hacerse realidad. \nNgoc Ming Ngo\, vietnamita nacionalizada norteamericana\, es una fotógrafa autodidacta cuyo trabajo explora la belleza intrínseca de las plantas y la naturaleza. Su sentido de la estética se cultivó observando los cambios de la luz en el paisaje de la aldea costera vietnamita donde creció. Años después vería plasmada en la obra de maestros como André Kertész\, Jacques Henri Lartigue o Robert Frank la afirmación de Saint-Exupéry de que “lo esencial es invisible a los ojos”\, que es una guía en su trabajo. Su obra se publica en revistas tan importantes como T Magazine\, AD\, Cabana o House & Garden. \nTras una larga caminata por los alrededores de Rohuna—un pueblecito remoto en la costa atlántica del norte de Marruecos—\, Umberto Pasti se durmió bajo una higuera: al despertar supo que se encontraba en el lugar donde establecer su soñado jardín de especies en peligro de extinción. Rohuna era un lugar extremo e inhóspito\, casi inaccesible\, sin agua y sin luz\, pero también un paraje único y solemne como el mismísimo Edén. Sólo el tesón y la esforzada labor de un jardinero podían completar la titánica empresa. Al cabo de los años el paraíso fue haciéndose realidad pese a las múltiples dificultades\, y Rohuna sigue siendo hoy el lugar único e irremplazable donde aquel forastero\, el nazrani\, reconoció su hogar y a su familia. Perdido en el paraíso es un libro extraordinario\, raro y delicado que nos recuerda que la aspiración a la belleza es una forma de bondad y sigue siendo vital para el ser humano.
URL:https://www.acantilado.es/evento/hay-festival-segovia-umberto-pasti-y-ngoc-minh-ngo-en-conversacion-con-sofia-barroso/
LOCATION:Campus de Santa Cruz la Real\, Calle Cardenal Zúñiga\, 12\, Segovia\, 40003
CATEGORIES:Conferencias
GEO:40.9528852;-4.1188364
X-APPLE-STRUCTURED-LOCATION;VALUE=URI;X-ADDRESS=Campus de Santa Cruz la Real Calle Cardenal Zúñiga 12 Segovia 40003;X-APPLE-RADIUS=500;X-TITLE=Calle Cardenal Zúñiga\, 12:geo:-4.1188364,40.9528852
END:VEVENT
END:VCALENDAR