BEGIN:VCALENDAR
VERSION:2.0
PRODID:-//ACANTILADO - ECPv6.15.18//NONSGML v1.0//EN
CALSCALE:GREGORIAN
METHOD:PUBLISH
X-ORIGINAL-URL:https://www.acantilado.es
X-WR-CALDESC:Eventos para ACANTILADO
REFRESH-INTERVAL;VALUE=DURATION:PT1H
X-Robots-Tag:noindex
X-PUBLISHED-TTL:PT1H
BEGIN:VTIMEZONE
TZID:Europe/Madrid
BEGIN:DAYLIGHT
TZOFFSETFROM:+0100
TZOFFSETTO:+0200
TZNAME:CEST
DTSTART:20240331T010000
END:DAYLIGHT
BEGIN:STANDARD
TZOFFSETFROM:+0200
TZOFFSETTO:+0100
TZNAME:CET
DTSTART:20241027T010000
END:STANDARD
BEGIN:DAYLIGHT
TZOFFSETFROM:+0100
TZOFFSETTO:+0200
TZNAME:CEST
DTSTART:20250330T010000
END:DAYLIGHT
BEGIN:STANDARD
TZOFFSETFROM:+0200
TZOFFSETTO:+0100
TZNAME:CET
DTSTART:20251026T010000
END:STANDARD
BEGIN:DAYLIGHT
TZOFFSETFROM:+0100
TZOFFSETTO:+0200
TZNAME:CEST
DTSTART:20260329T010000
END:DAYLIGHT
BEGIN:STANDARD
TZOFFSETFROM:+0200
TZOFFSETTO:+0100
TZNAME:CET
DTSTART:20261025T010000
END:STANDARD
END:VTIMEZONE
BEGIN:VEVENT
DTSTART;TZID=Europe/Madrid:20250508T190000
DTEND;TZID=Europe/Madrid:20250508T200000
DTSTAMP:20260419T201223
CREATED:20250429T125816Z
LAST-MODIFIED:20250506T152656Z
UID:10001355-1746730800-1746734400@www.acantilado.es
SUMMARY:Fulgencio Argüelles presenta «El desván de las musas dormidas» en Oviedo
DESCRIPTION:Fulgencio Argüelles presentará El desván de las musas dormidas el jueves 8 de mayo en la Biblioteca Pública Ramón Pérez de Ayala a las 19 h. El periodista Miguel Rojo conversará con el autor. \nLos protagonistas de esta evocadora narración son la memoria y la imaginación\, que van urdiendo los recuerdos al cabo del tiempo para dar forma a una profunda realidad íntima hecha de vestigios que aguardan en un recóndito desván. La necesidad de entender quiénes somos a través de quienes nos precedieron da forma a esta envolvente novela\, a medio camino entre las memorias y la elegía\, que se alza como un canto. Así\, la literatura de Fulgencio Argüelles desafía una vez más al silencio y al olvido que amenazan con convertir el mundo en un desierto.
URL:https://www.acantilado.es/evento/fulgencio-arguelles-presenta-el-desvan-de-las-musas-dormidas-en-oviedo/
LOCATION:Biblioteca Pública Ramón Pérez de Ayala\, Pl. Daoiz y Velarde\, 11\, Oviedo\, Oviedo\, 33009
CATEGORIES:Presentaciones
GEO:43.3592696;-5.8456751
X-APPLE-STRUCTURED-LOCATION;VALUE=URI;X-ADDRESS=Biblioteca Pública Ramón Pérez de Ayala Pl. Daoiz y Velarde 11 Oviedo Oviedo 33009;X-APPLE-RADIUS=500;X-TITLE=Pl. Daoiz y Velarde\, 11:geo:-5.8456751,43.3592696
END:VEVENT
END:VCALENDAR