BEGIN:VCALENDAR
VERSION:2.0
PRODID:-//ACANTILADO - ECPv6.15.18//NONSGML v1.0//EN
CALSCALE:GREGORIAN
METHOD:PUBLISH
X-WR-CALNAME:ACANTILADO
X-ORIGINAL-URL:https://www.acantilado.es
X-WR-CALDESC:Eventos para ACANTILADO
REFRESH-INTERVAL;VALUE=DURATION:PT1H
X-Robots-Tag:noindex
X-PUBLISHED-TTL:PT1H
BEGIN:VTIMEZONE
TZID:Europe/Madrid
BEGIN:DAYLIGHT
TZOFFSETFROM:+0100
TZOFFSETTO:+0200
TZNAME:CEST
DTSTART:20230326T010000
END:DAYLIGHT
BEGIN:STANDARD
TZOFFSETFROM:+0200
TZOFFSETTO:+0100
TZNAME:CET
DTSTART:20231029T010000
END:STANDARD
BEGIN:DAYLIGHT
TZOFFSETFROM:+0100
TZOFFSETTO:+0200
TZNAME:CEST
DTSTART:20240331T010000
END:DAYLIGHT
BEGIN:STANDARD
TZOFFSETFROM:+0200
TZOFFSETTO:+0100
TZNAME:CET
DTSTART:20241027T010000
END:STANDARD
BEGIN:DAYLIGHT
TZOFFSETFROM:+0100
TZOFFSETTO:+0200
TZNAME:CEST
DTSTART:20250330T010000
END:DAYLIGHT
BEGIN:STANDARD
TZOFFSETFROM:+0200
TZOFFSETTO:+0100
TZNAME:CET
DTSTART:20251026T010000
END:STANDARD
END:VTIMEZONE
BEGIN:VEVENT
DTSTART;TZID=Europe/Madrid:20240418T200000
DTEND;TZID=Europe/Madrid:20240418T210000
DTSTAMP:20260419T040658
CREATED:20240411T080408Z
LAST-MODIFIED:20240411T080408Z
UID:10001180-1713470400-1713474000@www.acantilado.es
SUMMARY:Antonio Monegal en Cartagena Piensa
DESCRIPTION:El jueves\, 18 de abril\, Antonio Monegal participará en el programa Cartagena Piensa. El evento será a las 20 h en la Biblioteca Josefina Soria. El acto será presentado por el profesor y ensayista Dionisio Espejo Paredes. \nAntonio Monegal (Barcelona\, 1957) es catedrático de Teoría de la Literatura y Literatura Comparada en la Universidad Pompeu Fabra. Licenciado en Filosofía por la Universidad de Barcelona\, se doctoró en Harvard en 1989 y ejerció la docencia en Cornell University hasta su regreso a España. Es autor de los libros Luis Buñuel de la literatura al cine (1993) y En los límites de la diferencia. Poesía e imagen en las vanguardias hispánicas (1998)\, editor de las obras de García Lorca Viaje a la luna (1994) y El público y El sueño de la vida (2000)\, y coordinador de las antologías Literatura y pintura (2000) y Política y (po)ética de las imágenes de guerra (2007).
URL:https://www.acantilado.es/evento/antonio-monegal-en-cartagena-piensa/
LOCATION:Biblioteca Josefina Soria\, C. Jacinto Benavente\, Cartagena\, Murcia\, 30203
CATEGORIES:Encuentro
GEO:37.6091438;-0.9772039
X-APPLE-STRUCTURED-LOCATION;VALUE=URI;X-ADDRESS=Biblioteca Josefina Soria C. Jacinto Benavente Cartagena Murcia 30203;X-APPLE-RADIUS=500;X-TITLE=C. Jacinto Benavente:geo:-0.9772039,37.6091438
END:VEVENT
END:VCALENDAR