BEGIN:VCALENDAR
VERSION:2.0
PRODID:-//ACANTILADO - ECPv6.15.18//NONSGML v1.0//EN
CALSCALE:GREGORIAN
METHOD:PUBLISH
X-WR-CALNAME:ACANTILADO
X-ORIGINAL-URL:https://www.acantilado.es
X-WR-CALDESC:Eventos para ACANTILADO
REFRESH-INTERVAL;VALUE=DURATION:PT1H
X-Robots-Tag:noindex
X-PUBLISHED-TTL:PT1H
BEGIN:VTIMEZONE
TZID:Europe/Madrid
BEGIN:DAYLIGHT
TZOFFSETFROM:+0100
TZOFFSETTO:+0200
TZNAME:CEST
DTSTART:20170326T010000
END:DAYLIGHT
BEGIN:STANDARD
TZOFFSETFROM:+0200
TZOFFSETTO:+0100
TZNAME:CET
DTSTART:20171029T010000
END:STANDARD
BEGIN:DAYLIGHT
TZOFFSETFROM:+0100
TZOFFSETTO:+0200
TZNAME:CEST
DTSTART:20180325T010000
END:DAYLIGHT
BEGIN:STANDARD
TZOFFSETFROM:+0200
TZOFFSETTO:+0100
TZNAME:CET
DTSTART:20181028T010000
END:STANDARD
BEGIN:DAYLIGHT
TZOFFSETFROM:+0100
TZOFFSETTO:+0200
TZNAME:CEST
DTSTART:20190331T010000
END:DAYLIGHT
BEGIN:STANDARD
TZOFFSETFROM:+0200
TZOFFSETTO:+0100
TZNAME:CET
DTSTART:20191027T010000
END:STANDARD
BEGIN:DAYLIGHT
TZOFFSETFROM:+0100
TZOFFSETTO:+0200
TZNAME:CEST
DTSTART:20200329T010000
END:DAYLIGHT
BEGIN:STANDARD
TZOFFSETFROM:+0200
TZOFFSETTO:+0100
TZNAME:CET
DTSTART:20201025T010000
END:STANDARD
BEGIN:DAYLIGHT
TZOFFSETFROM:+0100
TZOFFSETTO:+0200
TZNAME:CEST
DTSTART:20210328T010000
END:DAYLIGHT
BEGIN:STANDARD
TZOFFSETFROM:+0200
TZOFFSETTO:+0100
TZNAME:CET
DTSTART:20211031T010000
END:STANDARD
BEGIN:DAYLIGHT
TZOFFSETFROM:+0100
TZOFFSETTO:+0200
TZNAME:CEST
DTSTART:20220327T010000
END:DAYLIGHT
BEGIN:STANDARD
TZOFFSETFROM:+0200
TZOFFSETTO:+0100
TZNAME:CET
DTSTART:20221030T010000
END:STANDARD
BEGIN:DAYLIGHT
TZOFFSETFROM:+0100
TZOFFSETTO:+0200
TZNAME:CEST
DTSTART:20230326T010000
END:DAYLIGHT
BEGIN:STANDARD
TZOFFSETFROM:+0200
TZOFFSETTO:+0100
TZNAME:CET
DTSTART:20231029T010000
END:STANDARD
BEGIN:DAYLIGHT
TZOFFSETFROM:+0100
TZOFFSETTO:+0200
TZNAME:CEST
DTSTART:20240331T010000
END:DAYLIGHT
BEGIN:STANDARD
TZOFFSETFROM:+0200
TZOFFSETTO:+0100
TZNAME:CET
DTSTART:20241027T010000
END:STANDARD
BEGIN:DAYLIGHT
TZOFFSETFROM:+0100
TZOFFSETTO:+0200
TZNAME:CEST
DTSTART:20250330T010000
END:DAYLIGHT
BEGIN:STANDARD
TZOFFSETFROM:+0200
TZOFFSETTO:+0100
TZNAME:CET
DTSTART:20251026T010000
END:STANDARD
BEGIN:DAYLIGHT
TZOFFSETFROM:+0100
TZOFFSETTO:+0200
TZNAME:CEST
DTSTART:20260329T010000
END:DAYLIGHT
BEGIN:STANDARD
TZOFFSETFROM:+0200
TZOFFSETTO:+0100
TZNAME:CET
DTSTART:20261025T010000
END:STANDARD
END:VTIMEZONE
BEGIN:VEVENT
DTSTART;TZID=Europe/Madrid:20251104T183000
DTEND;TZID=Europe/Madrid:20251104T193000
DTSTAMP:20260420T203048
CREATED:20251029T094013Z
LAST-MODIFIED:20251029T100935Z
UID:10001407-1762281000-1762284600@www.acantilado.es
SUMMARY:Conversación de Ramón Andrés en Barcelona
DESCRIPTION:El martes 4 de noviembre el escritor Ramón Andrés conversará con Albert Lladó en la Biblioteca Jaume Fuster a las 18:30 h. \nEste acto forma parte del ciclo Escuela de pensamiento. \nSe requiere inscripción previa. \nRamón Andrés (Pamplona\, 1955) ha escrito numerosos libros\, en Acantilado: Johann Sebastian Bach (2005)\, El mundo en el oído (2008)\, No sufrir compañía (2010)\, Diccionario de música\, mitología\, magia y religión (2012)\, El luthier de Delft (2013)\, Semper dolens (2015)\, Pensar y no caer (2015)\, Claudio Monteverdi. «Lamento della Ninfa» (2017)\, Filosofía y consuelo de la música (2020)—Premio Nacional de Ensayo 2021—\, La bóveda y las voces (2022) y Despacio el mundo (2024)\, además de la edición de Oculta filosofía (2004)\, de Juan Eusebio Nieremberg. Asimismo\, es autor de varios libros de poesía. En 2006 fue galardonado con el Premio Ciutat de Barcelona por su libro Johann Sebastian Bach; en 2015\, con los premios Príncipe de Viana de la Cultura y Estado Crítico (por Semper dolens); en 2020 recibió el Premio Nacional de la Crítica de Poesía por Los árboles que nos quedan\, y es miembro correspondiente de la Reial Acadèmia Catalana de Belles Arts de Sant Jordi y académico de la Real Academia de Bellas Artes de San Fernando.
URL:https://www.acantilado.es/evento/conversacion-de-ramon-andres-en-barcelona/
LOCATION:Biblioteca Jaume Fuster\, Plaça Lesseps\, 20-22\, Barcelona\, Barcelona\, 08023\, España
CATEGORIES:Coloquio / Diálogo
ATTACH;FMTTYPE=image/png:https://www.acantilado.es/wp-content/uploads/RAMON-ANDRES-JAUME-FUSTER-BCN-2025.png
GEO:41.40742;2.14926
X-APPLE-STRUCTURED-LOCATION;VALUE=URI;X-ADDRESS=Biblioteca Jaume Fuster Plaça Lesseps 20-22 Barcelona Barcelona 08023 España;X-APPLE-RADIUS=500;X-TITLE=Plaça Lesseps\, 20-22:geo:2.14926,41.40742
END:VEVENT
BEGIN:VEVENT
DTSTART;TZID=Europe/Madrid:20250325T183000
DTEND;TZID=Europe/Madrid:20250325T193000
DTSTAMP:20260420T203048
CREATED:20250318T145539Z
LAST-MODIFIED:20250318T145539Z
UID:10001340-1742927400-1742931000@www.acantilado.es
SUMMARY:Conversación sobre «Como el aire que respiramos» con Antonio Monegal
DESCRIPTION:En la sesión final del Club de Lectura Virtual de los Premios Nacionales del Ministerio de Cultura\, el escritor Antonio Monegal\, Premio Nacional de Ensayo 2023 por la obra Como el aire que respiramos. El sentido de la cultura\, conversará con Conxita Casanovas\, Premio Nacional de Periodismo Cultural 2024. El acto tendrá lugar en la Biblioteca Jaume Fuster el martes 25 de marzo a las 18:30 h\, pero también se podrá seguir en directo a través de Youtube. \nAntonio Monegal (Barcelona\, 1957) es catedrático de Teoría de la Literatura y Literatura Comparada en la Universidad Pompeu Fabra. Licenciado en Filosofía por la Universidad de Barcelona\, se doctoró en Harvard en 1989 y ejerció la docencia en Cornell University hasta su regreso a España. En 2004 comisarió\, junto con Francesc Torres y José María Ridao\, la exposición En guerra en el CCCB. Es autor de los libros Luis Buñuel de la literatura al cine (1993) y En los límites de la diferencia. Poesía e imagen en las vanguardias hispánicas (1998)\, editor de obras de García Lorca y coordinador de Política y (po)ética de las imágenes de guerra (2007). En 2023 ganó el Premio Nacional de Ensayo por Como el aire que respiramos (Acantilado\, 2022).
URL:https://www.acantilado.es/evento/conversacion-sobre-como-el-aire-que-respiramos-con-antonio-monegal/
LOCATION:Biblioteca Jaume Fuster\, Plaça Lesseps\, 20-22\, Barcelona\, Barcelona\, 08023\, España
CATEGORIES:Club de lectura,Coloquio / Diálogo
GEO:41.40742;2.14926
X-APPLE-STRUCTURED-LOCATION;VALUE=URI;X-ADDRESS=Biblioteca Jaume Fuster Plaça Lesseps 20-22 Barcelona Barcelona 08023 España;X-APPLE-RADIUS=500;X-TITLE=Plaça Lesseps\, 20-22:geo:2.14926,41.40742
END:VEVENT
BEGIN:VEVENT
DTSTART;TZID=Europe/Madrid:20181029T183000
DTEND;TZID=Europe/Madrid:20181029T193000
DTSTAMP:20260420T203048
CREATED:20181023T145018Z
LAST-MODIFIED:20181026T113002Z
UID:10000666-1540837800-1540841400@www.acantilado.es
SUMMARY:Debate con Josep Maria Esquirol i Xavier Melloni sobre Panikkar
DESCRIPTION:¿Qué diálogo puede establecerse entre la filosofía de la proximidad de Josep Maria Esquirol\, autor de La penúltima bondad\, y la espiritualidad transreligiosa de Xavier Melloni? ¿Cómo se enfrentan al pensamiento «cosmoteándrico» de Raimon Panikkar (la Realidad entendida en tres dimensiones: cósmica\, humana y divina) dos de las voces más singulares del pensamiento catalán contemporáneo? Teresa Guardans moderará una «confrontación filosófica» entre Josep Maria Esquirol y Javier Melloni con el pensamiento de Panikkar como telón de fondo. \nInscripciones aquí. (en el menú desplegable\, seleccionar la actividad Vine a la presentació del llibre Panikkar per Pannikkar)
URL:https://www.acantilado.es/evento/debate-con-josep-maria-esquirol-i-xavier-melloni-sobre-panikkar/
LOCATION:Biblioteca Jaume Fuster\, Plaça Lesseps\, 20-22\, Barcelona\, Barcelona\, 08023\, España
CATEGORIES:Conferencias
ORGANIZER;CN="Editorial Acantilado":MAILTO:info@acantilado.es
GEO:41.40742;2.14926
X-APPLE-STRUCTURED-LOCATION;VALUE=URI;X-ADDRESS=Biblioteca Jaume Fuster Plaça Lesseps 20-22 Barcelona Barcelona 08023 España;X-APPLE-RADIUS=500;X-TITLE=Plaça Lesseps\, 20-22:geo:2.14926,41.40742
END:VEVENT
BEGIN:VEVENT
DTSTART;TZID=Europe/Madrid:20180612T190000
DTEND;TZID=Europe/Madrid:20180612T203000
DTSTAMP:20260420T203048
CREATED:20180601T105233Z
LAST-MODIFIED:20180601T105233Z
UID:10000643-1528830000-1528835400@www.acantilado.es
SUMMARY:Josep Maria Esquirol presenta 'La penúltima bondad' junto a Marina Garcés en Barcelona
DESCRIPTION:El filósofo Josep Maria Esquirol\, autor del exitoso ensayo La resistencia íntima\, presentará su nuevo libro\, La penúltima bondad\, en la biblioteca Jaume Fuster junto a la filósofa y escritora Marina Garcés. \nJosep Maria Esquirol es profesor de filosofía de la Universidad de Barcelona\, donde dirige el grupo de investigación Aporia\, dedicado al pensamiento contemporáneo. Ha publicado cerca de un centenar de artículos en revistas especializadas\, y una docena de libros\, entre los cuales destacan Uno mismo y los otros (2005)\, El respeto o la mirada atenta (2006)\, El respirar de los días (2009)\, Los filósofos contemporáneos y la técnica (2011) y\, muy especialmente\, La resistencia íntima (Acantilado\, 2015)\, que\, después de ser celebrado por lectores y crítica\, recibió el Premio Ciudad de Barcelona y el Premio Nacional de Ensayo.
URL:https://www.acantilado.es/evento/josep-maria-esquirol-presenta-la-penultima-bondad-junto-a-marina-garces-en-barcelona/
LOCATION:Biblioteca Jaume Fuster\, Plaça Lesseps\, 20-22\, Barcelona\, Barcelona\, 08023\, España
CATEGORIES:Presentaciones
ORGANIZER;CN="Editorial Acantilado":MAILTO:info@acantilado.es
GEO:41.40742;2.14926
X-APPLE-STRUCTURED-LOCATION;VALUE=URI;X-ADDRESS=Biblioteca Jaume Fuster Plaça Lesseps 20-22 Barcelona Barcelona 08023 España;X-APPLE-RADIUS=500;X-TITLE=Plaça Lesseps\, 20-22:geo:2.14926,41.40742
END:VEVENT
END:VCALENDAR