BEGIN:VCALENDAR
VERSION:2.0
PRODID:-//ACANTILADO - ECPv6.15.18//NONSGML v1.0//EN
CALSCALE:GREGORIAN
METHOD:PUBLISH
X-WR-CALNAME:ACANTILADO
X-ORIGINAL-URL:https://www.acantilado.es
X-WR-CALDESC:Eventos para ACANTILADO
REFRESH-INTERVAL;VALUE=DURATION:PT1H
X-Robots-Tag:noindex
X-PUBLISHED-TTL:PT1H
BEGIN:VTIMEZONE
TZID:Europe/Madrid
BEGIN:DAYLIGHT
TZOFFSETFROM:+0100
TZOFFSETTO:+0200
TZNAME:CEST
DTSTART:20190331T010000
END:DAYLIGHT
BEGIN:STANDARD
TZOFFSETFROM:+0200
TZOFFSETTO:+0100
TZNAME:CET
DTSTART:20191027T010000
END:STANDARD
BEGIN:DAYLIGHT
TZOFFSETFROM:+0100
TZOFFSETTO:+0200
TZNAME:CEST
DTSTART:20200329T010000
END:DAYLIGHT
BEGIN:STANDARD
TZOFFSETFROM:+0200
TZOFFSETTO:+0100
TZNAME:CET
DTSTART:20201025T010000
END:STANDARD
BEGIN:DAYLIGHT
TZOFFSETFROM:+0100
TZOFFSETTO:+0200
TZNAME:CEST
DTSTART:20210328T010000
END:DAYLIGHT
BEGIN:STANDARD
TZOFFSETFROM:+0200
TZOFFSETTO:+0100
TZNAME:CET
DTSTART:20211031T010000
END:STANDARD
END:VTIMEZONE
BEGIN:VEVENT
DTSTART;TZID=Europe/Madrid:20200204T160000
DTEND;TZID=Europe/Madrid:20200204T170000
DTSTAMP:20260417T223649
CREATED:20200130T093443Z
LAST-MODIFIED:20200130T100731Z
UID:10000796-1580832000-1580835600@www.acantilado.es
SUMMARY:BCNegra 2020: Mesa redonda sobre Maigret\, el gran personaje de Georges Simenon
DESCRIPTION:El escritor belga Georges Simenon fue el creador del comisario Jules Maigret\, protagonista de setenta y dos de estas novelas y treinta y un relatos\, todos ellos publicados entre 1931 y 1972.\n \nLos integrantes de la mesa redonda serán:\n– Georges Tyras\, catedrático de Literatura Española y traductor experto en la obra de Simenon.\n– Joan de Sagarra\, periodista y escritor\, notable embajador de la cultura francesa y uno de los mejores conocedores de la figura de Georges Simenon\, al que ha dedicado más de una decena de valiosos artículos periodísticos.\n– Pierre Assouline\, periodista y novelista francés nacido en Casablanca que ha escrito una notable biografía del creador de Maigret. \nLo modera: Anna Guitart\, periodista y guionista. \nActividad libre y gratuita\, con servicio de traducción simultánea. El próximo martes 4 de febrero a las 16 h en el Auditori – Fundació Conservatori del Liceu. Organiza: Institut de Cultura de Barcelona. \n\n\n\n\nGeorges Simenon (Lieja\, Bélgica\, 1903 – Lausana\, Suiza\, 1989) escribió ciento noventa y una novelas con su nombre\, y un número impreciso de novelas y relatos publicados con pseudónimo\, además de libros de memorias y textos dictados. Célebre en el mundo entero\, reconocido ya como un maestro\, hoy nadie duda de que sea uno de los mayores escritores del siglo XX. En esta editorial han aparecido El gato (2012)\, Pietr\, el Letón (2012)\, El perro canelo (2012)\, La casa del canal (2012)\, Los vecinos de enfrente (2013)\, Las hermanas Lacroix (2013)\, Maigret en los dominios del córoner (2013)\, La nieve estaba sucia (2014)\, El círculo de los Mahé (2014)\, Pedigrí (2015)\, El arriero de «La Providence» (2015)\, Maigret tiende una trampa (2016)\, El muerto de Maigret (2016) y La noche de la encrucijada (2017)\, Maigret en el Picratt’s (2017) y Liberty Bar (2018).
URL:https://www.acantilado.es/evento/bcnegra-2020-mesa-redonda-sobre-maigret-el-gran-personaje-de-georges-simenon/
LOCATION:Auditori – Fundació Conservatori del Liceu\, Carrer Nou de la Rambla\, 88\, Barcelona\, Barcelona\, 08001
CATEGORIES:Conferencias,Evento
GEO:41.3761352;2.1708522
X-APPLE-STRUCTURED-LOCATION;VALUE=URI;X-ADDRESS=Auditori – Fundació Conservatori del Liceu Carrer Nou de la Rambla 88 Barcelona Barcelona 08001;X-APPLE-RADIUS=500;X-TITLE=Carrer Nou de la Rambla\, 88:geo:2.1708522,41.3761352
END:VEVENT
END:VCALENDAR