BEGIN:VCALENDAR
VERSION:2.0
PRODID:-//ACANTILADO - ECPv6.15.18//NONSGML v1.0//EN
CALSCALE:GREGORIAN
METHOD:PUBLISH
X-ORIGINAL-URL:https://www.acantilado.es
X-WR-CALDESC:Eventos para ACANTILADO
REFRESH-INTERVAL;VALUE=DURATION:PT1H
X-Robots-Tag:noindex
X-PUBLISHED-TTL:PT1H
BEGIN:VTIMEZONE
TZID:Europe/Madrid
BEGIN:DAYLIGHT
TZOFFSETFROM:+0100
TZOFFSETTO:+0200
TZNAME:CEST
DTSTART:20240331T010000
END:DAYLIGHT
BEGIN:STANDARD
TZOFFSETFROM:+0200
TZOFFSETTO:+0100
TZNAME:CET
DTSTART:20241027T010000
END:STANDARD
BEGIN:DAYLIGHT
TZOFFSETFROM:+0100
TZOFFSETTO:+0200
TZNAME:CEST
DTSTART:20250330T010000
END:DAYLIGHT
BEGIN:STANDARD
TZOFFSETFROM:+0200
TZOFFSETTO:+0100
TZNAME:CET
DTSTART:20251026T010000
END:STANDARD
BEGIN:DAYLIGHT
TZOFFSETFROM:+0100
TZOFFSETTO:+0200
TZNAME:CEST
DTSTART:20260329T010000
END:DAYLIGHT
BEGIN:STANDARD
TZOFFSETFROM:+0200
TZOFFSETTO:+0100
TZNAME:CET
DTSTART:20261025T010000
END:STANDARD
END:VTIMEZONE
BEGIN:VEVENT
DTSTART;TZID=Europe/Madrid:20250509T193000
DTEND;TZID=Europe/Madrid:20250509T203000
DTSTAMP:20260418T131140
CREATED:20250506T144256Z
LAST-MODIFIED:20250506T145434Z
UID:10001358-1746819000-1746822600@www.acantilado.es
SUMMARY:Elisenda Julibert presenta «Hombres fatales» en Maó
DESCRIPTION:La escritora Elisenda Julibert presentará el ensayo Hombres fatales en el Ateneu de Maó el viernes 9 de mayo a las 19:30 h. La autora conversará con la escritora Clara Pastor\, vocal de literatura del ateneo. \nDe las muchas criaturas fabulosas que han poblado la literatura y el cine\, la mujer fatal es una de las más recurrentes y proteicas de los dos últimos siglos\, si bien forma parte de una antigua estirpe que se remonta hasta la inconstante Helena clásica que motivó la guerra de Troya o la temeraria Eva bíblica que condenó a la humanidad entera. A través del análisis de personajes literarios—de Carmen a Lolita—o cinematográficos—la Madeleine de Vértigo y la Conchita de Ese oscuro objeto del deseo—\, la autora examina el mito de la temible femme fatale partiendo de un cambio de perspectiva: ¿y si\, más que atestiguar el carácter funesto de ciertas mujeres\, el estereotipo delatase una representación del deseo masculino singularmente aciaga? Como en una trama de intriga\, este libro invita al lector a seguir la pista de los hombres que hay detrás de esas mujeres míticas\, a las que la tradición ha señalado quizá tan sólo para desviar la atención y ocultar las pruebas más cruciales.
URL:https://www.acantilado.es/evento/elisenda-julibert-presenta-hombres-fatales-en-mao/
LOCATION:Ateneu de Mao\, Sa Rovellada de Dalt\, 25\, Maó\, Menorca\, Illes Balears\, 07703
CATEGORIES:Presentaciones
GEO:39.888062;4.2609373
X-APPLE-STRUCTURED-LOCATION;VALUE=URI;X-ADDRESS=Ateneu de Mao Sa Rovellada de Dalt 25 Maó Menorca Illes Balears 07703;X-APPLE-RADIUS=500;X-TITLE=Sa Rovellada de Dalt\, 25:geo:4.2609373,39.888062
END:VEVENT
END:VCALENDAR