BEGIN:VCALENDAR
VERSION:2.0
PRODID:-//ACANTILADO - ECPv6.15.18//NONSGML v1.0//EN
CALSCALE:GREGORIAN
METHOD:PUBLISH
X-ORIGINAL-URL:https://www.acantilado.es
X-WR-CALDESC:Eventos para ACANTILADO
REFRESH-INTERVAL;VALUE=DURATION:PT1H
X-Robots-Tag:noindex
X-PUBLISHED-TTL:PT1H
BEGIN:VTIMEZONE
TZID:Europe/Madrid
BEGIN:DAYLIGHT
TZOFFSETFROM:+0100
TZOFFSETTO:+0200
TZNAME:CEST
DTSTART:20200329T010000
END:DAYLIGHT
BEGIN:STANDARD
TZOFFSETFROM:+0200
TZOFFSETTO:+0100
TZNAME:CET
DTSTART:20201025T010000
END:STANDARD
BEGIN:DAYLIGHT
TZOFFSETFROM:+0100
TZOFFSETTO:+0200
TZNAME:CEST
DTSTART:20210328T010000
END:DAYLIGHT
BEGIN:STANDARD
TZOFFSETFROM:+0200
TZOFFSETTO:+0100
TZNAME:CET
DTSTART:20211031T010000
END:STANDARD
BEGIN:DAYLIGHT
TZOFFSETFROM:+0100
TZOFFSETTO:+0200
TZNAME:CEST
DTSTART:20220327T010000
END:DAYLIGHT
BEGIN:STANDARD
TZOFFSETFROM:+0200
TZOFFSETTO:+0100
TZNAME:CET
DTSTART:20221030T010000
END:STANDARD
END:VTIMEZONE
BEGIN:VEVENT
DTSTART;TZID=Europe/Madrid:20210119T183000
DTEND;TZID=Europe/Madrid:20210119T193000
DTSTAMP:20260420T111647
CREATED:20210111T133529Z
LAST-MODIFIED:20210113T115831Z
UID:10000757-1611081000-1611084600@www.acantilado.es
SUMMARY:Mesa redonda con Rafael Argullol y Fèlix Riera en Barcelona
DESCRIPTION:El escritor Rafael Argullol y el editor Fèlix Riera mantendrán un diálogo acerca de las pasiones humanas el próximo 19 de enero a las 18.30 h en el Ateneu Barcelonès. Presenta: Berta Galofré. \nLa charla se emitirá en directo desde la web del Ateneu Barcelonès y\, posteriormente\, estará disponible en el canal Youtube del Ateneu. \n¿Qué es una pasión? Podríamos recurrir a muchas definiciones\, pero ninguna resultaría plenamente satisfactoria. Las pasiones pueden elevarnos hasta alcanzar la mejor versión de nosotros mismos o reducirnos a la peor\, volvernos generosos o egoístas\, amorosos o detestables\, creadores de belleza o de horror… Pero en cualquier caso nos resulta imposible prescindir de ellas\, porque son tan decisivas para nuestra existencia como la sangre\, los huesos\, el corazón o el cerebro: el ser humano es sus pasiones. \nEn el libro Las pasiones según Rafael Argullol\, el autor reflexiona sobre el amor\, la sed de poder\, la ira\, el miedo y otras inclinaciones que son la materia de nuestra vida y\, en consecuencia\, de la literatura\, las artes y el pensamiento universales. Una fascinante exploración de la condición humana en su esencia y desnudez. \nRafael Argullol ha escrito más de treinta libros\, entre los que se cuentan novelas\, ensayos y libros de poesía. Además\, ha intervenido en diversos proyectos teatrales y cinematográficos. Como profesor\, ha enseñado en universidades europeas y estadounidenses. Colaborador habitual en diarios y revistas\, con frecuencia ha vincu­lado su faceta de viajero y su estética literaria. Ha sido galardonado con el Premio Nadal en 1993 por La razón del mal\, el Premio de Ensayo Casa de América en 2002 por Una educación sensorial\, los Premios Cálamo y Ciutat de Barcelona en 2010 por Visión desde el fondo del mar y el Observatorio Achtall de Ensayo en 2015. Acantilado ha emprendido la publicación de toda su obra.
URL:https://www.acantilado.es/evento/mesa-redonda-con-rafael-argullol-y-felix-riera-en-barcelona/
LOCATION:Ateneu Barcelonès\, Carrer de la Canuda\, 6\, Barcelona\, 08002
CATEGORIES:Conferencias,Evento,Presentaciones
GEO:41.3846412;2.1716466
X-APPLE-STRUCTURED-LOCATION;VALUE=URI;X-ADDRESS=Ateneu Barcelonès Carrer de la Canuda 6 Barcelona 08002;X-APPLE-RADIUS=500;X-TITLE=Carrer de la Canuda\, 6:geo:2.1716466,41.3846412
END:VEVENT
END:VCALENDAR