BEGIN:VCALENDAR
VERSION:2.0
PRODID:-//ACANTILADO - ECPv6.15.18//NONSGML v1.0//EN
CALSCALE:GREGORIAN
METHOD:PUBLISH
X-WR-CALNAME:ACANTILADO
X-ORIGINAL-URL:https://www.acantilado.es
X-WR-CALDESC:Eventos para ACANTILADO
REFRESH-INTERVAL;VALUE=DURATION:PT1H
X-Robots-Tag:noindex
X-PUBLISHED-TTL:PT1H
BEGIN:VTIMEZONE
TZID:Europe/Madrid
BEGIN:DAYLIGHT
TZOFFSETFROM:+0100
TZOFFSETTO:+0200
TZNAME:CEST
DTSTART:20200329T010000
END:DAYLIGHT
BEGIN:STANDARD
TZOFFSETFROM:+0200
TZOFFSETTO:+0100
TZNAME:CET
DTSTART:20201025T010000
END:STANDARD
BEGIN:DAYLIGHT
TZOFFSETFROM:+0100
TZOFFSETTO:+0200
TZNAME:CEST
DTSTART:20210328T010000
END:DAYLIGHT
BEGIN:STANDARD
TZOFFSETFROM:+0200
TZOFFSETTO:+0100
TZNAME:CET
DTSTART:20211031T010000
END:STANDARD
BEGIN:DAYLIGHT
TZOFFSETFROM:+0100
TZOFFSETTO:+0200
TZNAME:CEST
DTSTART:20220327T010000
END:DAYLIGHT
BEGIN:STANDARD
TZOFFSETFROM:+0200
TZOFFSETTO:+0100
TZNAME:CET
DTSTART:20221030T010000
END:STANDARD
END:VTIMEZONE
BEGIN:VEVENT
DTSTART;TZID=Europe/Madrid:20211005T190000
DTEND;TZID=Europe/Madrid:20211005T200000
DTSTAMP:20260420T125708
CREATED:20210921T114451Z
LAST-MODIFIED:20210921T114524Z
UID:10000906-1633460400-1633464000@www.acantilado.es
SUMMARY:Presentación de «Humano\, más humano» en Madrid
DESCRIPTION:Josep Maria Esquirol presentará su reciente ensayo\, Humano\, más humano\, el próximo martes 5 de octubre a las 19 h en Abante Asesores. El autor conversará con Santiago Satrústegui. \nJosep Maria Esquirol es catedrático de Filosofía de la Universidad de Barcelona\, donde da clases de Filosofía Contemporánea y dirige el grupo de investigación Aporia\, dedicado a la relación entre filosofía y psiquiatría. Ha publicado cerca de un centenar de artículos en revistas especializadas\, y una docena de libros\, entre los cuales destacan Uno mismo y los otros (2005)\, El respeto o la mirada atenta (2006)\, El respirar de los días (2009)\, Los filósofos contemporáneos y la técnica (2011) y\, muy especialmente\, La resistencia íntima (Acantilado\, 2015)\, que recibió los premios Ciutat de Barcelona y Nacional de Ensayo\, y se ha traducido al italiano\, portugués\, inglés y alemán; La penúltima bondad (Acantilado\, 2018) y Humano\, más humano (Acantilado\, 2021).
URL:https://www.acantilado.es/evento/presentacion-de-humano-mas-humano-en-madrid/
LOCATION:Abante\, Pl. de la Independencia\, 6\, Madrid\, Madrid\, 28001
CATEGORIES:Presentaciones
GEO:40.4205648;-3.6877991
X-APPLE-STRUCTURED-LOCATION;VALUE=URI;X-ADDRESS=Abante Pl. de la Independencia 6 Madrid Madrid 28001;X-APPLE-RADIUS=500;X-TITLE=Pl. de la Independencia\, 6:geo:-3.6877991,40.4205648
END:VEVENT
END:VCALENDAR