BEGIN:VCALENDAR
VERSION:2.0
PRODID:-//ACANTILADO - ECPv6.15.18//NONSGML v1.0//EN
CALSCALE:GREGORIAN
METHOD:PUBLISH
X-ORIGINAL-URL:https://www.acantilado.es
X-WR-CALDESC:Eventos para ACANTILADO
REFRESH-INTERVAL;VALUE=DURATION:PT1H
X-Robots-Tag:noindex
X-PUBLISHED-TTL:PT1H
BEGIN:VTIMEZONE
TZID:Europe/Madrid
BEGIN:DAYLIGHT
TZOFFSETFROM:+0100
TZOFFSETTO:+0200
TZNAME:CEST
DTSTART:20210328T010000
END:DAYLIGHT
BEGIN:STANDARD
TZOFFSETFROM:+0200
TZOFFSETTO:+0100
TZNAME:CET
DTSTART:20211031T010000
END:STANDARD
BEGIN:DAYLIGHT
TZOFFSETFROM:+0100
TZOFFSETTO:+0200
TZNAME:CEST
DTSTART:20220327T010000
END:DAYLIGHT
BEGIN:STANDARD
TZOFFSETFROM:+0200
TZOFFSETTO:+0100
TZNAME:CET
DTSTART:20221030T010000
END:STANDARD
BEGIN:DAYLIGHT
TZOFFSETFROM:+0100
TZOFFSETTO:+0200
TZNAME:CEST
DTSTART:20230326T010000
END:DAYLIGHT
BEGIN:STANDARD
TZOFFSETFROM:+0200
TZOFFSETTO:+0100
TZNAME:CET
DTSTART:20231029T010000
END:STANDARD
END:VTIMEZONE
BEGIN:VEVENT
DTSTART;TZID=Europe/Madrid:20221017T190000
DTEND;TZID=Europe/Madrid:20221017T200000
DTSTAMP:20260420T181536
CREATED:20221013T123902Z
LAST-MODIFIED:20221013T123902Z
UID:10001002-1666033200-1666036800@www.acantilado.es
SUMMARY:Conferencia de Pedro Olalla en Sevilla
DESCRIPTION:El escritor Pedro Olalla\, autor del reciente ensayo Palabras del Egeo\, impartirá una conferencia en la Facultad de Filología de la Universidad de Sevilla el próximo lunes 17 de octubre a las 19 h. \nPedro Olalla (Asturias\, 1966) es escritor\, helenista\, profesor\, traductor y cineasta\, afincado en Atenas desde 1994. Su obra literaria y audiovisual explora y da a conocer la cultura griega y humanista combinando elementos literarios\, plásticos y científicos mediante un lenguaje marcadamente personal. Por el conjunto de su obra y por su labor en la promoción de la cultura griega ha recibido\, entre otros importantes reconocimientos\, los títulos de Embajador del Helenismo (Estado griego)\, Caballero de la Orden del Mérito Civil (Estado español) y Miembro Asociado del Centro de Estudios Helénicos de la Universidad de Harvard. En Acantilado ha publicado los ensayos Historia menor de Grecia (2012)\, Grecia en el aire (2015)\, De senectute politica (2018) y Palabras del Egeo (2022)\, la edición conmemorativa Cervantes y Grecia (2016) y la traducción de Lirio y serpiente (2013)\, de Nikos Kazantzakis.
URL:https://www.acantilado.es/evento/conferencia-de-pedro-olalla-en-sevilla/
LOCATION:Facultad de Filología de la Universidad de Sevilla\, C. Palos de la Frontera\, s/n\, Sevilla\, Sevilla\, 41004
CATEGORIES:Conferencias
GEO:37.3799318;-5.991926
X-APPLE-STRUCTURED-LOCATION;VALUE=URI;X-ADDRESS=Facultad de Filología de la Universidad de Sevilla C. Palos de la Frontera s/n Sevilla Sevilla 41004;X-APPLE-RADIUS=500;X-TITLE=C. Palos de la Frontera\, s/n:geo:-5.991926,37.3799318
END:VEVENT
END:VCALENDAR