BEGIN:VCALENDAR
VERSION:2.0
PRODID:-//ACANTILADO - ECPv6.15.18//NONSGML v1.0//EN
CALSCALE:GREGORIAN
METHOD:PUBLISH
X-WR-CALNAME:ACANTILADO
X-ORIGINAL-URL:https://www.acantilado.es
X-WR-CALDESC:Eventos para ACANTILADO
REFRESH-INTERVAL;VALUE=DURATION:PT1H
X-Robots-Tag:noindex
X-PUBLISHED-TTL:PT1H
BEGIN:VTIMEZONE
TZID:Europe/Madrid
BEGIN:DAYLIGHT
TZOFFSETFROM:+0100
TZOFFSETTO:+0200
TZNAME:CEST
DTSTART:20160327T010000
END:DAYLIGHT
BEGIN:STANDARD
TZOFFSETFROM:+0200
TZOFFSETTO:+0100
TZNAME:CET
DTSTART:20161030T010000
END:STANDARD
BEGIN:DAYLIGHT
TZOFFSETFROM:+0100
TZOFFSETTO:+0200
TZNAME:CEST
DTSTART:20170326T010000
END:DAYLIGHT
BEGIN:STANDARD
TZOFFSETFROM:+0200
TZOFFSETTO:+0100
TZNAME:CET
DTSTART:20171029T010000
END:STANDARD
BEGIN:DAYLIGHT
TZOFFSETFROM:+0100
TZOFFSETTO:+0200
TZNAME:CEST
DTSTART:20180325T010000
END:DAYLIGHT
BEGIN:STANDARD
TZOFFSETFROM:+0200
TZOFFSETTO:+0100
TZNAME:CET
DTSTART:20181028T010000
END:STANDARD
BEGIN:DAYLIGHT
TZOFFSETFROM:+0100
TZOFFSETTO:+0200
TZNAME:CEST
DTSTART:20190331T010000
END:DAYLIGHT
BEGIN:STANDARD
TZOFFSETFROM:+0200
TZOFFSETTO:+0100
TZNAME:CET
DTSTART:20191027T010000
END:STANDARD
BEGIN:DAYLIGHT
TZOFFSETFROM:+0100
TZOFFSETTO:+0200
TZNAME:CEST
DTSTART:20200329T010000
END:DAYLIGHT
BEGIN:STANDARD
TZOFFSETFROM:+0200
TZOFFSETTO:+0100
TZNAME:CET
DTSTART:20201025T010000
END:STANDARD
BEGIN:DAYLIGHT
TZOFFSETFROM:+0100
TZOFFSETTO:+0200
TZNAME:CEST
DTSTART:20210328T010000
END:DAYLIGHT
BEGIN:STANDARD
TZOFFSETFROM:+0200
TZOFFSETTO:+0100
TZNAME:CET
DTSTART:20211031T010000
END:STANDARD
BEGIN:DAYLIGHT
TZOFFSETFROM:+0100
TZOFFSETTO:+0200
TZNAME:CEST
DTSTART:20220327T010000
END:DAYLIGHT
BEGIN:STANDARD
TZOFFSETFROM:+0200
TZOFFSETTO:+0100
TZNAME:CET
DTSTART:20221030T010000
END:STANDARD
BEGIN:DAYLIGHT
TZOFFSETFROM:+0100
TZOFFSETTO:+0200
TZNAME:CEST
DTSTART:20230326T010000
END:DAYLIGHT
BEGIN:STANDARD
TZOFFSETFROM:+0200
TZOFFSETTO:+0100
TZNAME:CET
DTSTART:20231029T010000
END:STANDARD
BEGIN:DAYLIGHT
TZOFFSETFROM:+0100
TZOFFSETTO:+0200
TZNAME:CEST
DTSTART:20240331T010000
END:DAYLIGHT
BEGIN:STANDARD
TZOFFSETFROM:+0200
TZOFFSETTO:+0100
TZNAME:CET
DTSTART:20241027T010000
END:STANDARD
END:VTIMEZONE
BEGIN:VEVENT
DTSTART;TZID=Europe/Madrid:20231207T193000
DTEND;TZID=Europe/Madrid:20231207T203000
DTSTAMP:20260421T123006
CREATED:20231129T110547Z
LAST-MODIFIED:20231130T120631Z
UID:10001125-1701977400-1701981000@www.acantilado.es
SUMMARY:Pedro Olalla presenta «Palabras del Egeo» en Cáceres
DESCRIPTION:El jueves 7 de diciembre el escritor Pedro Olalla presentará su último ensayo\, Palabras del Egeo\, en la librería La Puerta de Tannhäuser a las 19:30 h. El autor estará acompañado de Gabirel Moreno González. \nCon Sociedad Española de Estudios Clásicos. \nPedro Olalla (Asturias\, 1966) es escritor\, helenista\, profesor\, traductor y cineasta\, afincado en Atenas desde 1994. Su obra literaria y audiovisual explora y da a conocer la cultura griega y humanista combinando elementos literarios\, plásticos y científicos mediante un lenguaje marcadamente personal. Por el conjunto de su obra y por su labor en la promoción de la cultura griega ha recibido\, entre otros importantes reconocimientos\, los títulos de Embajador del Helenismo (Estado griego)\, Caballero de la Orden del Mérito Civil (Estado español) y Miembro Asociado del Centro de Estudios Helénicos de la Universidad de Harvard. En Acantilado ha publicado los ensayos Historia menor de Grecia (2012)\, Grecia en el aire (2015)\, De senectute politica (2018) y Palabras del Egeo (2022)\, la edición conmemorativa Cervantes y Grecia (2016) y la traducción de Lirio y serpiente (2013)\, de Nikos Kazantzakis.
URL:https://www.acantilado.es/evento/pedro-olalla-presenta-palabras-del-egeo-en-caceres/
CATEGORIES:Presentaciones
ORGANIZER;CN="La puerta de Tannh%C3%A4user":MAILTO:info@puertadetannhauser.es
END:VEVENT
BEGIN:VEVENT
DTSTART;TZID=Europe/Madrid:20180531T200000
DTEND;TZID=Europe/Madrid:20180531T213000
DTSTAMP:20260421T123006
CREATED:20180426T093627Z
LAST-MODIFIED:20180528T062526Z
UID:10000640-1527796800-1527802200@www.acantilado.es
SUMMARY:Presentación de 'La penúltima bondad' en Plasencia
DESCRIPTION:Josep Maria Esquirol presentará su último ensayo\, La penúltima bondad\, acompañado por Sandra Ollo.
URL:https://www.acantilado.es/evento/presentacion-de-la-penultima-bondad-en-plasencia/
LOCATION:La puerta de Tannhäuser\, Rúa Zapatería\, 22\, Plasencia\, Cáceres\, 10600\, España
CATEGORIES:Presentaciones
ATTACH;FMTTYPE=image/jpeg:https://www.acantilado.es/wp-content/uploads/32378525_1068973653254490_3018794244476239872_n.jpg
ORGANIZER;CN="La puerta de Tannh%C3%A4user":MAILTO:info@puertadetannhauser.es
GEO:40.029217;-6.0921834
X-APPLE-STRUCTURED-LOCATION;VALUE=URI;X-ADDRESS=La puerta de Tannhäuser Rúa Zapatería 22 Plasencia Cáceres 10600 España;X-APPLE-RADIUS=500;X-TITLE=Rúa Zapatería\, 22:geo:-6.0921834,40.029217
END:VEVENT
BEGIN:VEVENT
DTSTART;TZID=Europe/Madrid:20170322T193000
DTEND;TZID=Europe/Madrid:20170322T210000
DTSTAMP:20260421T123006
CREATED:20170309T145102Z
LAST-MODIFIED:20170309T145102Z
UID:10000538-1490211000-1490216400@www.acantilado.es
SUMMARY:Presentación de 'Tuyo es el mañana' en Plasencia
DESCRIPTION:Pablo Martín Sánchez presentará su última novela\, Tuyo es el mañana\, en la librería La Puerta de Tannhäuser de Plasencia. Este evento forma parte de una gira con las librerías de La Conspiración de la Pólvora\, Premio Nacional al Fomento de la Lectura 2016.
URL:https://www.acantilado.es/evento/presentacion-tuyo-manana-plasencia/
LOCATION:La puerta de Tannhäuser\, Rúa Zapatería\, 22\, Plasencia\, Cáceres\, 10600\, España
CATEGORIES:Presentaciones
ORGANIZER;CN="La puerta de Tannh%C3%A4user":MAILTO:info@puertadetannhauser.es
GEO:40.029217;-6.0921834
X-APPLE-STRUCTURED-LOCATION;VALUE=URI;X-ADDRESS=La puerta de Tannhäuser Rúa Zapatería 22 Plasencia Cáceres 10600 España;X-APPLE-RADIUS=500;X-TITLE=Rúa Zapatería\, 22:geo:-6.0921834,40.029217
END:VEVENT
END:VCALENDAR