BEGIN:VCALENDAR
VERSION:2.0
PRODID:-//ACANTILADO - ECPv6.15.18//NONSGML v1.0//EN
CALSCALE:GREGORIAN
METHOD:PUBLISH
X-WR-CALNAME:ACANTILADO
X-ORIGINAL-URL:https://www.acantilado.es
X-WR-CALDESC:Eventos para ACANTILADO
REFRESH-INTERVAL;VALUE=DURATION:PT1H
X-Robots-Tag:noindex
X-PUBLISHED-TTL:PT1H
BEGIN:VTIMEZONE
TZID:Europe/Madrid
BEGIN:DAYLIGHT
TZOFFSETFROM:+0100
TZOFFSETTO:+0200
TZNAME:CEST
DTSTART:20160327T010000
END:DAYLIGHT
BEGIN:STANDARD
TZOFFSETFROM:+0200
TZOFFSETTO:+0100
TZNAME:CET
DTSTART:20161030T010000
END:STANDARD
BEGIN:DAYLIGHT
TZOFFSETFROM:+0100
TZOFFSETTO:+0200
TZNAME:CEST
DTSTART:20170326T010000
END:DAYLIGHT
BEGIN:STANDARD
TZOFFSETFROM:+0200
TZOFFSETTO:+0100
TZNAME:CET
DTSTART:20171029T010000
END:STANDARD
BEGIN:DAYLIGHT
TZOFFSETFROM:+0100
TZOFFSETTO:+0200
TZNAME:CEST
DTSTART:20180325T010000
END:DAYLIGHT
BEGIN:STANDARD
TZOFFSETFROM:+0200
TZOFFSETTO:+0100
TZNAME:CET
DTSTART:20181028T010000
END:STANDARD
BEGIN:DAYLIGHT
TZOFFSETFROM:+0100
TZOFFSETTO:+0200
TZNAME:CEST
DTSTART:20190331T010000
END:DAYLIGHT
BEGIN:STANDARD
TZOFFSETFROM:+0200
TZOFFSETTO:+0100
TZNAME:CET
DTSTART:20191027T010000
END:STANDARD
BEGIN:DAYLIGHT
TZOFFSETFROM:+0100
TZOFFSETTO:+0200
TZNAME:CEST
DTSTART:20200329T010000
END:DAYLIGHT
BEGIN:STANDARD
TZOFFSETFROM:+0200
TZOFFSETTO:+0100
TZNAME:CET
DTSTART:20201025T010000
END:STANDARD
BEGIN:DAYLIGHT
TZOFFSETFROM:+0100
TZOFFSETTO:+0200
TZNAME:CEST
DTSTART:20210328T010000
END:DAYLIGHT
BEGIN:STANDARD
TZOFFSETFROM:+0200
TZOFFSETTO:+0100
TZNAME:CET
DTSTART:20211031T010000
END:STANDARD
BEGIN:DAYLIGHT
TZOFFSETFROM:+0100
TZOFFSETTO:+0200
TZNAME:CEST
DTSTART:20220327T010000
END:DAYLIGHT
BEGIN:STANDARD
TZOFFSETFROM:+0200
TZOFFSETTO:+0100
TZNAME:CET
DTSTART:20221030T010000
END:STANDARD
END:VTIMEZONE
BEGIN:VEVENT
DTSTART;TZID=Europe/Madrid:20210630T193000
DTEND;TZID=Europe/Madrid:20210630T203000
DTSTAMP:20260420T062612
CREATED:20210628T094635Z
LAST-MODIFIED:20210628T102824Z
UID:10000885-1625081400-1625085000@www.acantilado.es
SUMMARY:Presentación de «En tierra de Dioniso» en Palma
DESCRIPTION:María Belmonte presentará En tierra de Dioniso en La Sala Pelaires de Palma de Mallorca el próximo miércoles 30 de junio a las 19:30 h. La autora conversará con el profesor de lenguas clásicas José Ramón Del Canto. \nEs imprescindible reservar plaza escribiendo al email: babel@labibliotecadebabel.es. \nMaría Belmonte Barrenechea nació en Bilbao; estudió Historia en la Universidad de Deusto y Antropología en la Autónoma de Barcelona. En 1995 se doctoró en el Departamento de Antropología Social de la Universidad del País Vasco (San Sebastián) con una tesis sobre Historia de las Religiones. Ejerce profesionalmente como traductora técnico-literaria. Ha publicado en Acantilado Peregrinos de la belleza. Viajeros por Italia y Grecia (2015)\, Los senderos del mar. Un viaje a pie (2017) y En tierra de Dioniso. Vagabundeos por el norte de Grecia (2021). Ha vivido en diversas ciudades\, en una isla mediterránea y\, actualmente\, reside en Font-Rubí (Barcelona).
URL:https://www.acantilado.es/evento/presentacion-de-en-tierra-de-dioniso-en-palma/
LOCATION:Galería Pelaires\, Carrer de Can Verí\, 3\, Palma\, Illes Balears\, 07001
CATEGORIES:Presentaciones
ORGANIZER;CN="La Biblioteca de Babel":MAILTO:babel@labibliotecadebabel.es
GEO:39.5702018;2.6484885
X-APPLE-STRUCTURED-LOCATION;VALUE=URI;X-ADDRESS=Galería Pelaires Carrer de Can Verí 3 Palma Illes Balears 07001;X-APPLE-RADIUS=500;X-TITLE=Carrer de Can Verí\, 3:geo:2.6484885,39.5702018
END:VEVENT
BEGIN:VEVENT
DTSTART;TZID=Europe/Madrid:20171123T193000
DTEND;TZID=Europe/Madrid:20171123T210000
DTSTAMP:20260420T062612
CREATED:20171115T110727Z
LAST-MODIFIED:20171115T110727Z
UID:10000585-1511465400-1511470800@www.acantilado.es
SUMMARY:Presentación de 'Los senderos del mar'\, en Palma
DESCRIPTION:María Belmonte\, aqutora de Peregrinos de la belleza\, presentará su último libro\, Los senderos del mar\, en la librería La biblioteca de Babel\, en Palma de Mallorca. \nAcompañada de Aristóteles\, Goethe\, Victor Hugo\, Darwin\, Jane Austen y tantos otros escritores\, pintores o aventureros\, la autora nos invita a realizar una travesía por la costa vasca. Un viaje sentimental a los lugares de la adolescencia se transforma en una exploración de los viejos caminos costeros\, un recorrido por la historia humana y geológica\, grabada de un modo particularmente revelador en los paisajes y las piedras de la costa\, el primigenio umbral donde se encuentran dos mundos. Un texto inspirador que nos propone observar la naturaleza y deleitarnos en ella\, contemplar los matices de la vida en estado puro y sentir su hondo latido.
URL:https://www.acantilado.es/evento/presentacion-los-senderos-del-mar-palma/
LOCATION:La Biblioteca de Babel\, Carrer Arabí\, 3\,\, Palma\, Mallorca\, 07003\, España
CATEGORIES:Presentaciones
ORGANIZER;CN="La Biblioteca de Babel":MAILTO:babel@labibliotecadebabel.es
GEO:39.5727618;2.6517194
X-APPLE-STRUCTURED-LOCATION;VALUE=URI;X-ADDRESS=La Biblioteca de Babel Carrer Arabí 3 Palma Mallorca 07003 España;X-APPLE-RADIUS=500;X-TITLE=Carrer Arabí\, 3\,:geo:2.6517194,39.5727618
END:VEVENT
END:VCALENDAR