BEGIN:VCALENDAR
VERSION:2.0
PRODID:-//ACANTILADO - ECPv6.15.18//NONSGML v1.0//EN
CALSCALE:GREGORIAN
METHOD:PUBLISH
X-WR-CALNAME:ACANTILADO
X-ORIGINAL-URL:https://www.acantilado.es
X-WR-CALDESC:Eventos para ACANTILADO
REFRESH-INTERVAL;VALUE=DURATION:PT1H
X-Robots-Tag:noindex
X-PUBLISHED-TTL:PT1H
BEGIN:VTIMEZONE
TZID:Europe/Madrid
BEGIN:DAYLIGHT
TZOFFSETFROM:+0100
TZOFFSETTO:+0200
TZNAME:CEST
DTSTART:20210328T010000
END:DAYLIGHT
BEGIN:STANDARD
TZOFFSETFROM:+0200
TZOFFSETTO:+0100
TZNAME:CET
DTSTART:20211031T010000
END:STANDARD
BEGIN:DAYLIGHT
TZOFFSETFROM:+0100
TZOFFSETTO:+0200
TZNAME:CEST
DTSTART:20220327T010000
END:DAYLIGHT
BEGIN:STANDARD
TZOFFSETFROM:+0200
TZOFFSETTO:+0100
TZNAME:CET
DTSTART:20221030T010000
END:STANDARD
BEGIN:DAYLIGHT
TZOFFSETFROM:+0100
TZOFFSETTO:+0200
TZNAME:CEST
DTSTART:20230326T010000
END:DAYLIGHT
BEGIN:STANDARD
TZOFFSETFROM:+0200
TZOFFSETTO:+0100
TZNAME:CET
DTSTART:20231029T010000
END:STANDARD
END:VTIMEZONE
BEGIN:VEVENT
DTSTART;TZID=Europe/Madrid:20220211T190000
DTEND;TZID=Europe/Madrid:20220211T200000
DTSTAMP:20260415T035710
CREATED:20220203T105426Z
LAST-MODIFIED:20220203T110510Z
UID:10000944-1644606000-1644609600@www.acantilado.es
SUMMARY:Conferencia «Lo humano en tiempos de nihilismo» de Josep Maria Esquirol y Costantino Esposito en Madrid
DESCRIPTION:Josep Maria Esquirol\, autor de Humano\, más humano\, y Costantino Esposito darán una conferencia titulada Lo humano en tiempos de nihilismo. ¿Resistencia o renacimiento? en el Colegio Mayor Roncalli el próximo viernes 11 de febrero a las 19 h. Presenta: Marcelo López Cambronero. \nPara asistir al evento\, contacta con info@fundacionconversacion.com \nJosep Maria Esquirol es profesor de filosofía de la Universidad de Barcelona\, donde dirige el grupo de investigación Aporia\, dedicado al pensamiento contemporáneo. Ha publicado cerca de un centenar de artículos en revistas especializadas\, y una docena de libros\, entre los cuales destacan Uno mismo y los otros (2005)\, El respeto o la mirada atenta (2006)\, El respirar de los días (2009)\, Los filósofos contemporáneos y la técnica (2011) y\, muy especialmente\, La penúltima bondad (Acantilado\, 2018)\, La resistencia íntima (Acantilado\, 2015)\, que\, después de ser celebrado por lectores y crítica\, recibió el Premio Ciudad de Barcelona y el Premio Nacional de Ensayo\, y Humano\, más humano (Acantilado\, 2021).
URL:https://www.acantilado.es/evento/conferencia-lo-humano-en-tiempos-de-nihilismo-de-josep-maria-esquirol-y-costantino-esposito-en-madrid/
LOCATION:Colegio Mayor Roncalli\, Calle Ramiro de Maeztu\, Madrid\, 28040
CATEGORIES:Conferencias
ORGANIZER;CN="Fundacion Conversacion":MAILTO:info@fundacionconversacion.com
GEO:40.4486871;-3.7209392
X-APPLE-STRUCTURED-LOCATION;VALUE=URI;X-ADDRESS=Colegio Mayor Roncalli Calle Ramiro de Maeztu Madrid 28040;X-APPLE-RADIUS=500;X-TITLE=Calle Ramiro de Maeztu:geo:-3.7209392,40.4486871
END:VEVENT
END:VCALENDAR