BEGIN:VCALENDAR
VERSION:2.0
PRODID:-//ACANTILADO - ECPv6.15.18//NONSGML v1.0//EN
CALSCALE:GREGORIAN
METHOD:PUBLISH
X-ORIGINAL-URL:https://www.acantilado.es
X-WR-CALDESC:Eventos para ACANTILADO
REFRESH-INTERVAL;VALUE=DURATION:PT1H
X-Robots-Tag:noindex
X-PUBLISHED-TTL:PT1H
BEGIN:VTIMEZONE
TZID:Europe/Madrid
BEGIN:DAYLIGHT
TZOFFSETFROM:+0100
TZOFFSETTO:+0200
TZNAME:CEST
DTSTART:20210328T010000
END:DAYLIGHT
BEGIN:STANDARD
TZOFFSETFROM:+0200
TZOFFSETTO:+0100
TZNAME:CET
DTSTART:20211031T010000
END:STANDARD
BEGIN:DAYLIGHT
TZOFFSETFROM:+0100
TZOFFSETTO:+0200
TZNAME:CEST
DTSTART:20220327T010000
END:DAYLIGHT
BEGIN:STANDARD
TZOFFSETFROM:+0200
TZOFFSETTO:+0100
TZNAME:CET
DTSTART:20221030T010000
END:STANDARD
BEGIN:DAYLIGHT
TZOFFSETFROM:+0100
TZOFFSETTO:+0200
TZNAME:CEST
DTSTART:20230326T010000
END:DAYLIGHT
BEGIN:STANDARD
TZOFFSETFROM:+0200
TZOFFSETTO:+0100
TZNAME:CET
DTSTART:20231029T010000
END:STANDARD
END:VTIMEZONE
BEGIN:VEVENT
DTSTART;TZID=Europe/Madrid:20220317T200000
DTEND;TZID=Europe/Madrid:20220317T210000
DTSTAMP:20260420T233540
CREATED:20220314T104205Z
LAST-MODIFIED:20220314T105640Z
UID:10000949-1647547200-1647550800@www.acantilado.es
SUMMARY:Conferencia de Tamara Djermanovic sobre Dostoievski en Menorca
DESCRIPTION:La escritora Tamara Djermanovic hablará sobre Dostoievski el próximo jueves 17 de marzo a las 20 h en la Sala Jeroni Marquès del Círculo Artístico de Ciutadella. Presenta: Patricia Almarcegui. \nEvento gratuito. \nTamara Djermanovic (Belgrado\, 1965) es escritora y profesora de Estética y Literaturas Eslavas en la Universidad Pompeu Fabra\, donde creó y dirige el Seminario de Estudios Eslavos. Autora de numerosos artículos en revistas especializadas y culturales\, ha publicado los ensayos Dostoyevski entre Rusia y Occidente (2006)\, Yo vengo de Belgrado (1996) y Viaje a mi país ya inexistente (2013). Asimismo\, es colaboradora habitual de La Vanguardia. Acantilado ha publicado El universo de Dostoievski.
URL:https://www.acantilado.es/evento/conferencia-de-tamara-djermanovic-sobre-dostoievski-en-menorca/
LOCATION:Cercle Artistic de Ciutadella\, Plaça des Born\, 19\, Ciutadella de Menorca\, Illes Balears\, 07760
CATEGORIES:Conferencias
GEO:40.0014422;3.8359713
X-APPLE-STRUCTURED-LOCATION;VALUE=URI;X-ADDRESS=Cercle Artistic de Ciutadella Plaça des Born 19 Ciutadella de Menorca Illes Balears 07760;X-APPLE-RADIUS=500;X-TITLE=Plaça des Born\, 19:geo:3.8359713,40.0014422
END:VEVENT
END:VCALENDAR